![]() | Name | Last modified | Size | Description |
---|---|---|---|---|
![]() | Parent Directory | - | ||
![]() | buildsrc-out.txt | 24-Sep-2023 00:40 | 800 | |
![]() | buildsrc-summary.dcf | 24-Sep-2023 00:40 | 412 | |
![]() | checksrc-out.txt | 24-Sep-2023 00:40 | 3.6K | |
![]() | checksrc-summary.dcf | 24-Sep-2023 00:40 | 402 | |
![]() | install-out.txt | 24-Sep-2023 00:40 | 1.0K | |
![]() | install-summary.dcf | 24-Sep-2023 00:40 | 253 | |