Index of /checkResults/devel/bioc-LATEST/GenomicInteractions/raw-results/nebbiolo2

[ICO]NameLast modifiedSizeDescription

[DIR]Parent Directory  -  
[TXT]buildsrc-out.txt18-Jun-2024 01:22 941  
[   ]buildsrc-summary.dcf18-Jun-2024 01:22 460  
[TXT]checksrc-out.txt18-Jun-2024 01:22 3.8K 
[   ]checksrc-summary.dcf18-Jun-2024 01:22 462  
[TXT]install-out.txt18-Jun-2024 01:22 1.0K 
[   ]install-summary.dcf18-Jun-2024 01:22 283