Index of /checkResults/devel/bioc-LATEST/GenomicInteractions/raw-results/merida1

[ICO]NameLast modifiedSizeDescription

[DIR]Parent Directory  -  
[TXT]buildbin-out.txt27-May-2024 00:35 1.2K 
[   ]buildbin-summary.dcf27-May-2024 00:35 603  
[TXT]buildsrc-out.txt27-May-2024 00:35 927  
[   ]buildsrc-summary.dcf27-May-2024 00:35 464  
[TXT]checksrc-out.txt27-May-2024 00:35 3.9K 
[   ]checksrc-summary.dcf27-May-2024 00:35 492  
[TXT]install-out.txt27-May-2024 00:35 1.0K 
[   ]install-summary.dcf27-May-2024 00:35 294