Index of /checkResults/devel/bioc-LATEST/GenomicFeatures/raw-results/lconway

[ICO]NameLast modifiedSizeDescription

[DIR]Parent Directory  -  
[TXT]buildbin-out.txt18-Jul-2024 00:41 1.2K 
[   ]buildbin-summary.dcf18-Jul-2024 00:41 578  
[TXT]buildsrc-out.txt18-Jul-2024 00:41 1.1K 
[   ]buildsrc-summary.dcf18-Jul-2024 00:41 451  
[TXT]checksrc-out.txt18-Jul-2024 00:41 4.9K 
[   ]checksrc-summary.dcf18-Jul-2024 00:41 476  
[TXT]install-out.txt18-Jul-2024 00:41 1.0K 
[   ]install-summary.dcf18-Jul-2024 00:41 285