Index of /checkResults/devel/bioc-LATEST/GenomicFeatures/raw-results/nebbiolo2

[ICO]NameLast modifiedSizeDescription

[DIR]Parent Directory  -  
[TXT]buildsrc-out.txt16-Jun-2024 01:33 1.1K 
[   ]buildsrc-summary.dcf16-Jun-2024 01:33 447  
[TXT]checksrc-out.txt16-Jun-2024 01:33 4.8K 
[   ]checksrc-summary.dcf16-Jun-2024 01:33 446  
[TXT]install-out.txt16-Jun-2024 01:33 1.0K 
[   ]install-summary.dcf16-Jun-2024 01:33 275