Index of /checkResults/devel/bioc-LATEST/FELLA/raw-results
Name
Last modified
Size
Description
Parent Directory
-
info.dcf
01-Dec-2023 01:39
1.0K
kunpeng2/
01-Dec-2023 01:39
-
merida1/
01-Dec-2023 01:38
-
nebbiolo1/
01-Dec-2023 01:35
-
palomino3/
01-Dec-2023 01:37
-