Index of /checkResults/devel/bioc-LATEST/FELLA/raw-results/nebbiolo1

[ICO]NameLast modifiedSizeDescription

[DIR]Parent Directory  -  
[TXT]buildsrc-out.txt02-Mar-2024 01:36 861  
[   ]buildsrc-summary.dcf02-Mar-2024 01:36 413  
[TXT]checksrc-out.txt02-Mar-2024 01:36 4.6K 
[   ]checksrc-summary.dcf02-Mar-2024 01:36 407  
[TXT]install-out.txt02-Mar-2024 01:36 954  
[   ]install-summary.dcf02-Mar-2024 01:36 255