Index of /checkResults/devel/bioc-LATEST/FELLA/raw-results/palomino3

[ICO]NameLast modifiedSizeDescription

[DIR]Parent Directory  -  
[TXT]buildbin-out.txt18-Feb-2024 16:27 1.1K 
[   ]buildbin-summary.dcf18-Feb-2024 16:27 503  
[TXT]buildsrc-out.txt23-Feb-2024 02:48 6.9K 
[   ]buildsrc-summary.dcf23-Feb-2024 02:48 364  
[TXT]checksrc-out.txt18-Feb-2024 16:27 4.5K 
[   ]checksrc-summary.dcf18-Feb-2024 16:27 439  
[TXT]install-out.txt23-Feb-2024 02:48 965  
[   ]install-summary.dcf23-Feb-2024 02:48 264