Index of /checkResults/devel/bioc-LATEST/FELLA/raw-results/merida1

[ICO]NameLast modifiedSizeDescription

[DIR]Parent Directory  -  
[TXT]buildbin-out.txt15-Feb-2024 03:20 1.1K 
[   ]buildbin-summary.dcf15-Feb-2024 03:20 518  
[TXT]buildsrc-out.txt29-Feb-2024 01:38 647  
[   ]buildsrc-summary.dcf29-Feb-2024 01:38 346  
[TXT]checksrc-out.txt17-Feb-2024 02:51 4.7K 
[   ]checksrc-summary.dcf17-Feb-2024 02:51 436  
[TXT]install-out.txt29-Feb-2024 01:38 1.0K 
[   ]install-summary.dcf29-Feb-2024 01:38 265