![]() | Name | Last modified | Size | Description |
---|---|---|---|---|
![]() | Parent Directory | - | ||
![]() | buildbin-out.txt | 24-Sep-2023 00:38 | 4.5K | |
![]() | buildbin-summary.dcf | 24-Sep-2023 00:38 | 560 | |
![]() | buildsrc-out.txt | 24-Sep-2023 00:38 | 866 | |
![]() | buildsrc-summary.dcf | 24-Sep-2023 00:38 | 442 | |
![]() | checksrc-out.txt | 24-Sep-2023 00:38 | 3.6K | |
![]() | checksrc-summary.dcf | 24-Sep-2023 00:38 | 464 | |
![]() | install-out.txt | 24-Sep-2023 00:38 | 2.4K | |
![]() | install-summary.dcf | 24-Sep-2023 00:38 | 279 | |