![]() | Name | Last modified | Size | Description |
---|---|---|---|---|
![]() | Parent Directory | - | ||
![]() | buildsrc-out.txt | 24-Sep-2023 00:39 | 850 | |
![]() | buildsrc-summary.dcf | 24-Sep-2023 00:39 | 426 | |
![]() | checksrc-out.txt | 24-Sep-2023 00:39 | 3.5K | |
![]() | checksrc-summary.dcf | 24-Sep-2023 00:39 | 422 | |
![]() | install-out.txt | 24-Sep-2023 00:39 | 3.0K | |
![]() | install-summary.dcf | 24-Sep-2023 00:39 | 263 | |