Index of /checkResults/devel/bioc-LATEST/BioNet/raw-results/nebbiolo2

[ICO]NameLast modifiedSizeDescription

[DIR]Parent Directory  -  
[TXT]buildsrc-out.txt02-Jul-2022 00:04 865  
[   ]buildsrc-summary.dcf02-Jul-2022 00:04 414  
[TXT]checksrc-out.txt02-Jul-2022 00:04 12K 
[   ]checksrc-summary.dcf02-Jul-2022 00:04 420  
[TXT]install-out.txt02-Jul-2022 00:04 952  
[   ]install-summary.dcf02-Jul-2022 00:04 257