Index of /checkResults/devel/bioc-LATEST/BioNet/raw-results/lconway

[ICO]NameLast modifiedSizeDescription

[DIR]Parent Directory  -  
[TXT]buildbin-out.txt01-Jul-2022 00:07 1.1K 
[   ]buildbin-summary.dcf01-Jul-2022 00:07 524  
[TXT]buildsrc-out.txt01-Jul-2022 00:07 875  
[   ]buildsrc-summary.dcf01-Jul-2022 00:07 424  
[TXT]checksrc-out.txt01-Jul-2022 00:07 12K 
[   ]checksrc-summary.dcf01-Jul-2022 00:07 440  
[TXT]install-out.txt01-Jul-2022 00:07 1.0K 
[   ]install-summary.dcf01-Jul-2022 00:07 267