Index of /checkResults/devel/bioc-LATEST/AnnotationDbi/raw-results

[ICO]NameLast modifiedSizeDescription

[DIR]Parent Directory  -  
[DIR]palomino4/31-May-2024 01:35 -  
[DIR]nebbiolo2/31-May-2024 01:34 -  
[DIR]merida1/31-May-2024 01:36 -  
[DIR]kunpeng2/16-May-2024 02:46 -  
[DIR]kjohnson1/31-May-2024 01:37 -  
[   ]info.dcf31-May-2024 01:33 302