Index of /checkResults/devel/bioc-LATEST/AnnotationDbi/raw-results/merida1

[ICO]NameLast modifiedSizeDescription

[DIR]Parent Directory  -  
[TXT]buildbin-out.txt31-May-2024 01:36 1.7K 
[   ]buildbin-summary.dcf31-May-2024 01:36 566  
[TXT]buildsrc-out.txt31-May-2024 01:36 840  
[   ]buildsrc-summary.dcf31-May-2024 01:36 446  
[TXT]checksrc-out.txt31-May-2024 01:36 4.7K 
[   ]checksrc-summary.dcf31-May-2024 01:36 474  
[TXT]install-out.txt31-May-2024 01:36 1.5K 
[   ]install-summary.dcf31-May-2024 01:36 281