![]() | Name | Last modified | Size | Description |
---|---|---|---|---|
![]() | Parent Directory | - | ||
![]() | buildsrc-out.txt | 23-Sep-2023 00:36 | 936 | |
![]() | buildsrc-summary.dcf | 23-Sep-2023 00:36 | 416 | |
![]() | checksrc-out.txt | 23-Sep-2023 00:36 | 3.7K | |
![]() | checksrc-summary.dcf | 23-Sep-2023 00:36 | 413 | |
![]() | install-out.txt | 23-Sep-2023 00:36 | 1.0K | |
![]() | install-summary.dcf | 23-Sep-2023 00:36 | 258 | |