![]() | Name | Last modified | Size | Description |
---|---|---|---|---|
![]() | Parent Directory | - | ||
![]() | buildbin-out.txt | 01-Oct-2023 00:37 | 1.1K | |
![]() | buildbin-summary.dcf | 01-Oct-2023 00:37 | 512 | |
![]() | buildsrc-out.txt | 01-Oct-2023 00:37 | 961 | |
![]() | buildsrc-summary.dcf | 01-Oct-2023 00:37 | 451 | |
![]() | checksrc-out.txt | 01-Oct-2023 00:37 | 3.5K | |
![]() | checksrc-summary.dcf | 01-Oct-2023 00:37 | 445 | |
![]() | install-out.txt | 01-Oct-2023 00:37 | 1.0K | |
![]() | install-summary.dcf | 01-Oct-2023 00:37 | 267 | |