Index of /checkResults/devel/bioc-LATEST/ANCOMBC/raw-results
Name
Last modified
Size
Description
Parent Directory
-
info.dcf
01-Oct-2023 00:39
267
kunpeng2/
01-Oct-2023 00:39
-
lconway/
01-Oct-2023 00:38
-
nebbiolo2/
01-Oct-2023 00:35
-
palomino4/
01-Oct-2023 00:37
-