Name | Last modified | Size | Description | |
---|---|---|---|---|
Parent Directory | - | |||
bioc-LATEST/ | 30-Mar-2024 00:41 | - | ||
bioc-longtests-LATEST/ | 24-Mar-2024 12:55 | - | ||
bioc-mac-arm64-LATEST/ | 02-Mar-2024 02:38 | - | ||
bioc-testing-LATEST/ | 28-Mar-2024 00:15 | - | ||
books-LATEST/ | 28-Mar-2024 03:00 | - | ||
data-annotation-LATEST/ | 27-Mar-2024 21:30 | - | ||
data-experiment-LATEST/ | 27-Mar-2024 03:51 | - | ||
workflows-LATEST/ | 27-Mar-2024 03:00 | - | ||