Back to Multiple platform build/check report for BioC 3.18:   simplified   long
[A]BCDEFGHIJKLMNOPQRSTUVWXYZ

This page was generated on 2024-02-20 11:37:33 -0500 (Tue, 20 Feb 2024).

HostnameOSArch (*)R versionInstalled pkgs
nebbiolo2Linux (Ubuntu 22.04.3 LTS)x86_644.3.2 Patched (2023-11-13 r85521) -- "Eye Holes" 4690
palomino4Windows Server 2022 Datacenterx644.3.2 (2023-10-31 ucrt) -- "Eye Holes" 4443
lconwaymacOS 12.7.1 Montereyx86_644.3.2 Patched (2023-11-01 r85457) -- "Eye Holes" 4464
Click on any hostname to see more info about the system (e.g. compilers)      (*) as reported by 'uname -p', except on Windows and Mac OS X

Package 57/2266HostnameOS / ArchINSTALLBUILDCHECKBUILD BIN
altcdfenvs 2.64.0  (landing page)
Laurent Gautier
Snapshot Date: 2024-02-19 14:05:07 -0500 (Mon, 19 Feb 2024)
git_url: https://git.bioconductor.org/packages/altcdfenvs
git_branch: RELEASE_3_18
git_last_commit: 86cec42
git_last_commit_date: 2023-10-24 09:33:12 -0500 (Tue, 24 Oct 2023)
nebbiolo2Linux (Ubuntu 22.04.3 LTS) / x86_64  OK    OK    OK  UNNEEDED, same version is already published
palomino4Windows Server 2022 Datacenter / x64  OK    OK    OK    OK  UNNEEDED, same version is already published
lconwaymacOS 12.7.1 Monterey / x86_64  OK    OK    OK    OK  UNNEEDED, same version is already published
kjohnson1macOS 13.6.1 Ventura / arm64see weekly results here

CHECK results for altcdfenvs on lconway


To the developers/maintainers of the altcdfenvs package:
- Allow up to 24 hours (and sometimes 48 hours) for your latest push to git@git.bioconductor.org:packages/altcdfenvs.git to reflect on this report. See Troubleshooting Build Report for more information.
- Use the following Renviron settings to reproduce errors and warnings.
- If 'R CMD check' started to fail recently on the Linux builder(s) over a missing dependency, add the missing dependency to 'Suggests:' in your DESCRIPTION file. See Renviron.bioc for more information.

raw results


Summary

Package: altcdfenvs
Version: 2.64.0
Command: /Library/Frameworks/R.framework/Resources/bin/R CMD check --install=check:altcdfenvs.install-out.txt --library=/Library/Frameworks/R.framework/Resources/library --no-vignettes --timings altcdfenvs_2.64.0.tar.gz
StartedAt: 2024-02-19 18:43:41 -0500 (Mon, 19 Feb 2024)
EndedAt: 2024-02-19 18:45:47 -0500 (Mon, 19 Feb 2024)
EllapsedTime: 126.2 seconds
RetCode: 0
Status:   OK  
CheckDir: altcdfenvs.Rcheck
Warnings: 0

Command output

##############################################################################
##############################################################################
###
### Running command:
###
###   /Library/Frameworks/R.framework/Resources/bin/R CMD check --install=check:altcdfenvs.install-out.txt --library=/Library/Frameworks/R.framework/Resources/library --no-vignettes --timings altcdfenvs_2.64.0.tar.gz
###
##############################################################################
##############################################################################


* using log directory ‘/Users/biocbuild/bbs-3.18-bioc/meat/altcdfenvs.Rcheck’
* using R version 4.3.2 Patched (2023-11-01 r85457)
* using platform: x86_64-apple-darwin20 (64-bit)
* R was compiled by
    Apple clang version 14.0.3 (clang-1403.0.22.14.1)
    GNU Fortran (GCC) 12.2.0
* running under: macOS Monterey 12.7.1
* using session charset: UTF-8
* using option ‘--no-vignettes’
* checking for file ‘altcdfenvs/DESCRIPTION’ ... OK
* this is package ‘altcdfenvs’ version ‘2.64.0’
* checking package namespace information ... OK
* checking package dependencies ... NOTE
Depends: includes the non-default packages:
  'BiocGenerics', 'S4Vectors', 'Biobase', 'affy', 'makecdfenv',
  'Biostrings', 'hypergraph'
Adding so many packages to the search path is excessive and importing
selectively is preferable.
* checking if this is a source package ... OK
* checking if there is a namespace ... OK
* checking for hidden files and directories ... OK
* checking for portable file names ... OK
* checking for sufficient/correct file permissions ... OK
* checking whether package ‘altcdfenvs’ can be installed ... OK
* checking installed package size ... OK
* checking package directory ... OK
* checking ‘build’ directory ... OK
* checking DESCRIPTION meta-information ... NOTE
Malformed Description field: should contain one or more complete sentences.
* checking top-level files ... OK
* checking for left-over files ... OK
* checking index information ... OK
* checking package subdirectories ... OK
* checking R files for non-ASCII characters ... OK
* checking R files for syntax errors ... OK
* checking whether the package can be loaded ... OK
* checking whether the package can be loaded with stated dependencies ... OK
* checking whether the package can be unloaded cleanly ... OK
* checking whether the namespace can be loaded with stated dependencies ... OK
* checking whether the namespace can be unloaded cleanly ... OK
* checking dependencies in R code ... NOTE
Packages in Depends field not imported from:
  ‘Biobase’ ‘Biostrings’ ‘hypergraph’ ‘makecdfenv’ ‘methods’
  These packages need to be imported from (in the NAMESPACE file)
  for when this namespace is loaded but not attached.
* checking S3 generic/method consistency ... OK
* checking replacement functions ... OK
* checking foreign function calls ... OK
* checking R code for possible problems ... NOTE
buildCdfEnv.biostrings: no visible global function definition for
  ‘validObject’
buildCdfEnv.biostrings: no visible global function definition for ‘is’
buildCdfEnv.biostrings: no visible global function definition for ‘new’
buildCdfEnv.biostrings: no visible global function definition for
  ‘update’
buildCdfEnv.biostrings: no visible global function definition for
  ‘xy2indices’
buildCdfEnv.matchprobes: no visible global function definition for ‘is’
buildCdfEnv.matchprobes: no visible global function definition for
  ‘new’
buildCdfEnv.matchprobes: no visible global function definition for
  ‘update’
buildCdfEnv.matchprobes: no visible global function definition for
  ‘xy2indices’
copyCdfEnvAffy: no visible global function definition for ‘copyEnv’
countduplicated: no visible global function definition for ‘is’
countduplicated: no visible global function definition for ‘as’
geneNames.CdfEnvAffy: no visible global function definition for ‘as’
getCdfEnvAffy: no visible global function definition for ‘is’
getCdfEnvAffy: no visible global function definition for ‘getCdfInfo’
index2xy.CdfEnvAffy: no visible global function definition for
  ‘indices2xy’
indexProbes.CdfEnvAffy: no visible global function definition for ‘as’
matchAffyProbes: no visible global function definition for
  ‘DNAStringSet’
matchAffyProbes: no visible global function definition for ‘DNAString’
matchAffyProbes: no visible global function definition for ‘PDict’
matchAffyProbes: no visible global function definition for ‘matchPDict’
matchAffyProbes: no visible global function definition for ‘new’
removeIndex: no visible global function definition for ‘as’
unique.CdfEnvAffy: no visible global function definition for ‘as’
validAffyBatch: no visible global function definition for ‘is’
validCdfEnvAffy: no visible global function definition for ‘as’
wrapCdfEnvAffy: no visible global function definition for ‘new’
xy2index.CdfEnvAffy: no visible global function definition for
  ‘xy2indices’
[,CdfEnvAffy-character-missing-missing: no visible global function
  definition for ‘as’
coerce,CdfEnvAffy-Cdf: no visible global function definition for ‘new’
combine,AffyProbesMatch-AffyProbesMatch: no visible global function
  definition for ‘new’
geneNames,CdfEnvAffy: no visible global function definition for ‘as’
indexProbes,CdfEnvAffy-character: no visible global function definition
  for ‘as’
show,CdfEnvAffy: no visible global function definition for ‘as’
toHypergraph,AffyProbesMatch : <anonymous>: no visible global function
  definition for ‘Hyperedge’
toHypergraph,AffyProbesMatch: no visible global function definition for
  ‘new’
toHypergraph,CdfEnvAffy : <anonymous>: no visible global function
  definition for ‘Hyperedge’
toHypergraph,CdfEnvAffy: no visible global function definition for
  ‘new’
Undefined global functions or variables:
  DNAString DNAStringSet Hyperedge PDict as copyEnv getCdfInfo
  indices2xy is matchPDict new update validObject xy2indices
Consider adding
  importFrom("methods", "as", "is", "new", "validObject")
  importFrom("stats", "update")
to your NAMESPACE file (and ensure that your DESCRIPTION Imports field
contains 'methods').
* checking Rd files ... OK
* checking Rd metadata ... OK
* checking Rd cross-references ... OK
* checking for missing documentation entries ... OK
* checking for code/documentation mismatches ... OK
* checking Rd \usage sections ... OK
* checking Rd contents ... OK
* checking for unstated dependencies in examples ... OK
* checking contents of ‘data’ directory ... OK
* checking data for non-ASCII characters ... OK
* checking data for ASCII and uncompressed saves ... OK
* checking sizes of PDF files under ‘inst/doc’ ... OK
* checking files in ‘vignettes’ ... OK
* checking examples ... OK
Examples with CPU (user + system) or elapsed time > 5s
                 user system elapsed
removeIndex     6.613  0.126   6.790
matchAffyProbes 5.816  0.256   6.116
* checking for unstated dependencies in vignettes ... OK
* checking package vignettes in ‘inst/doc’ ... OK
* checking running R code from vignettes ... SKIPPED
* checking re-building of vignette outputs ... SKIPPED
* checking PDF version of manual ... OK
* DONE

Status: 4 NOTEs
See
  ‘/Users/biocbuild/bbs-3.18-bioc/meat/altcdfenvs.Rcheck/00check.log’
for details.



Installation output

altcdfenvs.Rcheck/00install.out

##############################################################################
##############################################################################
###
### Running command:
###
###   /Library/Frameworks/R.framework/Resources/bin/R CMD INSTALL altcdfenvs
###
##############################################################################
##############################################################################


* installing to library ‘/Library/Frameworks/R.framework/Versions/4.3-x86_64/Resources/library’
* installing *source* package ‘altcdfenvs’ ...
** using staged installation
** R
** data
** inst
** byte-compile and prepare package for lazy loading
NOTE: arguments in definition for validity method for class 'AffyProbesMatch' changed from (obj) to (object)
in method for ‘toHypergraph’ with signature ‘"CdfEnvAffy"’: no definition for class “CdfEnvAffy”
** help
*** installing help indices
** building package indices
** installing vignettes
** testing if installed package can be loaded from temporary location
** testing if installed package can be loaded from final location
** testing if installed package keeps a record of temporary installation path
* DONE (altcdfenvs)

Tests output


Example timings

altcdfenvs.Rcheck/altcdfenvs-Ex.timings

nameusersystemelapsed
AffyProbesMatch-class0.0020.0010.004
CdfEnvAffy-class3.4030.1233.560
appendCdfEnvAffy0.0050.0030.008
cdfenv000
cdfenvEx0.0010.0020.003
getxy.probeseq000
index2xy000
matchAffyProbes5.8160.2566.116
plot.CdfEnvAffy0.0000.0000.001
removeIndex6.6130.1266.790
unique.CdfEnvAffy000
utils.FASTA0.0040.0010.005
validAffyBatch000