Back to Multiple platform build/check report for BioC 3.18:   simplified   long
ABCDEFGHIJKLMN[O]PQRSTUVWXYZ

This page was generated on 2024-02-22 11:38:02 -0500 (Thu, 22 Feb 2024).

HostnameOSArch (*)R versionInstalled pkgs
nebbiolo2Linux (Ubuntu 22.04.3 LTS)x86_644.3.2 Patched (2023-11-13 r85521) -- "Eye Holes" 4691
palomino4Windows Server 2022 Datacenterx644.3.2 (2023-10-31 ucrt) -- "Eye Holes" 4444
lconwaymacOS 12.7.1 Montereyx86_644.3.2 Patched (2023-11-01 r85457) -- "Eye Holes" 4465
Click on any hostname to see more info about the system (e.g. compilers)      (*) as reported by 'uname -p', except on Windows and Mac OS X

Package 1480/2266HostnameOS / ArchINSTALLBUILDCHECKBUILD BIN
OUTRIDER 1.20.0  (landing page)
Christian Mertes
Snapshot Date: 2024-02-21 14:05:05 -0500 (Wed, 21 Feb 2024)
git_url: https://git.bioconductor.org/packages/OUTRIDER
git_branch: RELEASE_3_18
git_last_commit: 0528b44
git_last_commit_date: 2023-10-24 11:06:34 -0500 (Tue, 24 Oct 2023)
nebbiolo2Linux (Ubuntu 22.04.3 LTS) / x86_64  OK    OK    OK  UNNEEDED, same version is already published
palomino4Windows Server 2022 Datacenter / x64  OK    OK    OK    OK  UNNEEDED, same version is already published
lconwaymacOS 12.7.1 Monterey / x86_64  OK    OK    OK    OK  UNNEEDED, same version is already published
kjohnson1macOS 13.6.1 Ventura / arm64see weekly results here

CHECK results for OUTRIDER on lconway


To the developers/maintainers of the OUTRIDER package:
- Allow up to 24 hours (and sometimes 48 hours) for your latest push to git@git.bioconductor.org:packages/OUTRIDER.git to reflect on this report. See Troubleshooting Build Report for more information.
- Use the following Renviron settings to reproduce errors and warnings.
- If 'R CMD check' started to fail recently on the Linux builder(s) over a missing dependency, add the missing dependency to 'Suggests:' in your DESCRIPTION file. See Renviron.bioc for more information.

raw results


Summary

Package: OUTRIDER
Version: 1.20.0
Command: /Library/Frameworks/R.framework/Resources/bin/R CMD check --install=check:OUTRIDER.install-out.txt --library=/Library/Frameworks/R.framework/Resources/library --no-vignettes --timings OUTRIDER_1.20.0.tar.gz
StartedAt: 2024-02-21 22:00:38 -0500 (Wed, 21 Feb 2024)
EndedAt: 2024-02-21 22:10:25 -0500 (Wed, 21 Feb 2024)
EllapsedTime: 587.0 seconds
RetCode: 0
Status:   OK  
CheckDir: OUTRIDER.Rcheck
Warnings: 0

Command output

##############################################################################
##############################################################################
###
### Running command:
###
###   /Library/Frameworks/R.framework/Resources/bin/R CMD check --install=check:OUTRIDER.install-out.txt --library=/Library/Frameworks/R.framework/Resources/library --no-vignettes --timings OUTRIDER_1.20.0.tar.gz
###
##############################################################################
##############################################################################


* using log directory ‘/Users/biocbuild/bbs-3.18-bioc/meat/OUTRIDER.Rcheck’
* using R version 4.3.2 Patched (2023-11-01 r85457)
* using platform: x86_64-apple-darwin20 (64-bit)
* R was compiled by
    Apple clang version 14.0.3 (clang-1403.0.22.14.1)
    GNU Fortran (GCC) 12.2.0
* running under: macOS Monterey 12.7.1
* using session charset: UTF-8
* using option ‘--no-vignettes’
* checking for file ‘OUTRIDER/DESCRIPTION’ ... OK
* checking extension type ... Package
* this is package ‘OUTRIDER’ version ‘1.20.0’
* package encoding: UTF-8
* checking package namespace information ... OK
* checking package dependencies ... OK
* checking if this is a source package ... OK
* checking if there is a namespace ... OK
* checking for hidden files and directories ... OK
* checking for portable file names ... OK
* checking for sufficient/correct file permissions ... OK
* checking whether package ‘OUTRIDER’ can be installed ... OK
* used C++ compiler: ‘Apple clang version 14.0.0 (clang-1400.0.29.202)’
* used SDK: ‘MacOSX11.3.sdk’
* checking C++ specification ... NOTE
  Specified C++11: please drop specification unless essential
* checking installed package size ... OK
* checking package directory ... OK
* checking ‘build’ directory ... OK
* checking DESCRIPTION meta-information ... OK
* checking top-level files ... OK
* checking for left-over files ... OK
* checking index information ... OK
* checking package subdirectories ... OK
* checking R files for non-ASCII characters ... OK
* checking R files for syntax errors ... OK
* checking whether the package can be loaded ... OK
* checking whether the package can be loaded with stated dependencies ... OK
* checking whether the package can be unloaded cleanly ... OK
* checking whether the namespace can be loaded with stated dependencies ... OK
* checking whether the namespace can be unloaded cleanly ... OK
* checking dependencies in R code ... OK
* checking S3 generic/method consistency ... OK
* checking replacement functions ... OK
* checking foreign function calls ... OK
* checking R code for possible problems ... NOTE
padjOnSubset: no visible global function definition for ‘bpmapply’
Undefined global functions or variables:
  bpmapply
* checking Rd files ... OK
* checking Rd metadata ... OK
* checking Rd cross-references ... OK
* checking for missing documentation entries ... OK
* checking for code/documentation mismatches ... OK
* checking Rd \usage sections ... OK
* checking Rd contents ... OK
* checking for unstated dependencies in examples ... OK
* checking line endings in C/C++/Fortran sources/headers ... OK
* checking line endings in Makefiles ... OK
* checking compilation flags in Makevars ... OK
* checking for GNU extensions in Makefiles ... OK
* checking for portable use of $(BLAS_LIBS) and $(LAPACK_LIBS) ... OK
* checking use of PKG_*FLAGS in Makefiles ... OK
* checking compiled code ... NOTE
Note: information on .o files is not available
* checking sizes of PDF files under ‘inst/doc’ ... OK
* checking files in ‘vignettes’ ... OK
* checking examples ... OK
Examples with CPU (user + system) or elapsed time > 5s
                  user system elapsed
OUTRIDER        12.324  2.568  13.833
findEncodingDim 12.664  0.307  13.065
plotFunctions    7.923  0.365   8.389
* checking for unstated dependencies in ‘tests’ ... OK
* checking tests ...
  Running ‘testthat.R’
 OK
* checking for unstated dependencies in vignettes ... OK
* checking package vignettes in ‘inst/doc’ ... OK
* checking running R code from vignettes ... SKIPPED
* checking re-building of vignette outputs ... SKIPPED
* checking PDF version of manual ... OK
* DONE

Status: 3 NOTEs
See
  ‘/Users/biocbuild/bbs-3.18-bioc/meat/OUTRIDER.Rcheck/00check.log’
for details.



Installation output

OUTRIDER.Rcheck/00install.out

##############################################################################
##############################################################################
###
### Running command:
###
###   /Library/Frameworks/R.framework/Resources/bin/R CMD INSTALL OUTRIDER
###
##############################################################################
##############################################################################


* installing to library ‘/Library/Frameworks/R.framework/Versions/4.3-x86_64/Resources/library’
* installing *source* package ‘OUTRIDER’ ...
** using staged installation
** libs
using C++ compiler: ‘Apple clang version 14.0.0 (clang-1400.0.29.202)’
using C++11
using SDK: ‘MacOSX11.3.sdk’
clang++ -arch x86_64 -std=gnu++11 -I"/Library/Frameworks/R.framework/Resources/include" -DNDEBUG  -I'/Library/Frameworks/R.framework/Versions/4.3-x86_64/Resources/library/Rcpp/include' -I'/Library/Frameworks/R.framework/Versions/4.3-x86_64/Resources/library/RcppArmadillo/include' -I/opt/R/x86_64/include    -DARMA_DONT_USE_OPENMP -fPIC  -falign-functions=64 -Wall -g -O2  -c RcppExports.cpp -o RcppExports.o
clang++ -arch x86_64 -std=gnu++11 -I"/Library/Frameworks/R.framework/Resources/include" -DNDEBUG  -I'/Library/Frameworks/R.framework/Versions/4.3-x86_64/Resources/library/Rcpp/include' -I'/Library/Frameworks/R.framework/Versions/4.3-x86_64/Resources/library/RcppArmadillo/include' -I/opt/R/x86_64/include    -DARMA_DONT_USE_OPENMP -fPIC  -falign-functions=64 -Wall -g -O2  -c loss_n_gradient_functions.cpp -o loss_n_gradient_functions.o
clang++ -arch x86_64 -std=gnu++11 -dynamiclib -Wl,-headerpad_max_install_names -undefined dynamic_lookup -L/Library/Frameworks/R.framework/Resources/lib -L/opt/R/x86_64/lib -o OUTRIDER.so RcppExports.o loss_n_gradient_functions.o -L/Library/Frameworks/R.framework/Resources/lib -lRlapack -L/Library/Frameworks/R.framework/Resources/lib -lRblas -L/opt/gfortran/lib/gcc/x86_64-apple-darwin20.0/12.2.0 -L/opt/gfortran/lib -lgfortran -lquadmath -F/Library/Frameworks/R.framework/.. -framework R -Wl,-framework -Wl,CoreFoundation
installing to /Library/Frameworks/R.framework/Versions/4.3-x86_64/Resources/library/00LOCK-OUTRIDER/00new/OUTRIDER/libs
** R
** inst
** byte-compile and prepare package for lazy loading
** help
*** installing help indices
** building package indices
** installing vignettes
** testing if installed package can be loaded from temporary location
** checking absolute paths in shared objects and dynamic libraries
** testing if installed package can be loaded from final location
** testing if installed package keeps a record of temporary installation path
* DONE (OUTRIDER)

Tests output

OUTRIDER.Rcheck/tests/testthat.Rout


R version 4.3.2 Patched (2023-11-01 r85457) -- "Eye Holes"
Copyright (C) 2023 The R Foundation for Statistical Computing
Platform: x86_64-apple-darwin20 (64-bit)

R is free software and comes with ABSOLUTELY NO WARRANTY.
You are welcome to redistribute it under certain conditions.
Type 'license()' or 'licence()' for distribution details.

R is a collaborative project with many contributors.
Type 'contributors()' for more information and
'citation()' on how to cite R or R packages in publications.

Type 'demo()' for some demos, 'help()' for on-line help, or
'help.start()' for an HTML browser interface to help.
Type 'q()' to quit R.

> library(testthat)
> library(OUTRIDER)
Loading required package: BiocParallel
Loading required package: GenomicFeatures
Loading required package: BiocGenerics

Attaching package: 'BiocGenerics'

The following objects are masked from 'package:stats':

    IQR, mad, sd, var, xtabs

The following objects are masked from 'package:base':

    Filter, Find, Map, Position, Reduce, anyDuplicated, aperm, append,
    as.data.frame, basename, cbind, colnames, dirname, do.call,
    duplicated, eval, evalq, get, grep, grepl, intersect, is.unsorted,
    lapply, mapply, match, mget, order, paste, pmax, pmax.int, pmin,
    pmin.int, rank, rbind, rownames, sapply, setdiff, sort, table,
    tapply, union, unique, unsplit, which.max, which.min

Loading required package: S4Vectors
Loading required package: stats4

Attaching package: 'S4Vectors'

The following object is masked from 'package:utils':

    findMatches

The following objects are masked from 'package:base':

    I, expand.grid, unname

Loading required package: IRanges
Loading required package: GenomeInfoDb
Loading required package: GenomicRanges
Loading required package: AnnotationDbi
Loading required package: Biobase
Welcome to Bioconductor

    Vignettes contain introductory material; view with
    'browseVignettes()'. To cite Bioconductor, see
    'citation("Biobase")', and for packages 'citation("pkgname")'.

Loading required package: SummarizedExperiment
Loading required package: MatrixGenerics
Loading required package: matrixStats

Attaching package: 'matrixStats'

The following objects are masked from 'package:Biobase':

    anyMissing, rowMedians


Attaching package: 'MatrixGenerics'

The following objects are masked from 'package:matrixStats':

    colAlls, colAnyNAs, colAnys, colAvgsPerRowSet, colCollapse,
    colCounts, colCummaxs, colCummins, colCumprods, colCumsums,
    colDiffs, colIQRDiffs, colIQRs, colLogSumExps, colMadDiffs,
    colMads, colMaxs, colMeans2, colMedians, colMins, colOrderStats,
    colProds, colQuantiles, colRanges, colRanks, colSdDiffs, colSds,
    colSums2, colTabulates, colVarDiffs, colVars, colWeightedMads,
    colWeightedMeans, colWeightedMedians, colWeightedSds,
    colWeightedVars, rowAlls, rowAnyNAs, rowAnys, rowAvgsPerColSet,
    rowCollapse, rowCounts, rowCummaxs, rowCummins, rowCumprods,
    rowCumsums, rowDiffs, rowIQRDiffs, rowIQRs, rowLogSumExps,
    rowMadDiffs, rowMads, rowMaxs, rowMeans2, rowMedians, rowMins,
    rowOrderStats, rowProds, rowQuantiles, rowRanges, rowRanks,
    rowSdDiffs, rowSds, rowSums2, rowTabulates, rowVarDiffs, rowVars,
    rowWeightedMads, rowWeightedMeans, rowWeightedMedians,
    rowWeightedSds, rowWeightedVars

The following object is masked from 'package:Biobase':

    rowMedians

Loading required package: data.table

Attaching package: 'data.table'

The following object is masked from 'package:SummarizedExperiment':

    shift

The following object is masked from 'package:GenomicRanges':

    shift

The following object is masked from 'package:IRanges':

    shift

The following objects are masked from 'package:S4Vectors':

    first, second

> 
> register(SerialParam())
> 
> test_check("OUTRIDER")
[1] "Wed Feb 21 22:09:15 2024: Initial PCA loss: 6.32865932886423"
[1] "Wed Feb 21 22:09:17 2024: Iteration: 1 loss: 4.63159789038664"
[1] "Wed Feb 21 22:09:18 2024: Iteration: 2 loss: 4.54778202569688"
[1] "Wed Feb 21 22:09:18 2024: Iteration: 3 loss: 4.5028178239334"
[1] "Wed Feb 21 22:09:19 2024: Iteration: 4 loss: 4.46968283275861"
[1] "Wed Feb 21 22:09:20 2024: Iteration: 5 loss: 4.43707581996606"
[1] "Wed Feb 21 22:09:20 2024: Iteration: 6 loss: 4.42362990195259"
Time difference of 4.462761 secs
[1] "Wed Feb 21 22:09:20 2024: 6 Final nb-AE loss: 4.42362990195259"
[1] "Wed Feb 21 22:09:22 2024: Initial PCA loss: 6.32865932886423"
[1] "Wed Feb 21 22:09:23 2024: Iteration: 1 loss: 4.63159789038664"
[1] "Wed Feb 21 22:09:24 2024: Iteration: 2 loss: 4.54778202569688"
[1] "Wed Feb 21 22:09:24 2024: Iteration: 3 loss: 4.5028178239334"
[1] "Wed Feb 21 22:09:25 2024: Iteration: 4 loss: 4.46968283275861"
[1] "Wed Feb 21 22:09:26 2024: Iteration: 5 loss: 4.43707581996606"
[1] "Wed Feb 21 22:09:26 2024: Iteration: 6 loss: 4.42362990195259"
Time difference of 4.163191 secs
[1] "Wed Feb 21 22:09:26 2024: 6 Final nb-AE loss: 4.42362990195259"
class: OutriderDataSet
class: RangedSummarizedExperiment 
dim: 100 50 
metadata(1): version
assays(1): counts
rownames(100): ENSG00000223972.4 ENSG00000227232.4 ...
  ENSG00000107404.13 ENSG00000162576.12
rowData names(0):
colnames(50): GTEX.UPK5.0426.SM.3GAEK GTEX.WFG7.2026.SM.3GIL7 ...
  GTEX.11UD2.2526.SM.5CVNU GTEX.13O61.1426.SM.5KM3D
colData names(1): sampleID
[1] "Wed Feb 21 22:09:42 2024: Initial PCA loss: 4.48080504009935"
[1] "Wed Feb 21 22:09:43 2024: Iteration: 1 loss: 4.15698043763962"
[1] "Wed Feb 21 22:09:44 2024: Iteration: 2 loss: 4.13079674028496"
Time difference of 1.654934 secs
[1] "Wed Feb 21 22:09:44 2024: 2 Final nb-AE loss: 4.13079674028496"
[1] "Evaluation loss: 0.356067592321616 for q=3"
[1] "Wed Feb 21 22:09:45 2024: Initial PCA loss: 4.44958043804476"
[1] "Wed Feb 21 22:09:47 2024: Iteration: 1 loss: 4.06330461081306"
[1] "Wed Feb 21 22:09:47 2024: Iteration: 2 loss: 4.0480758765784"
Time difference of 1.408624 secs
[1] "Wed Feb 21 22:09:47 2024: 2 Final nb-AE loss: 4.0480758765784"
[1] "Evaluation loss: 0.33862567285166 for q=4"
[1] "Wed Feb 21 22:09:48 2024: Initial PCA loss: 4.42426734585572"
[1] "Wed Feb 21 22:09:49 2024: Iteration: 1 loss: 3.98718085431134"
[1] "Wed Feb 21 22:09:50 2024: Iteration: 2 loss: 3.9588322831726"
Time difference of 1.36958 secs
[1] "Wed Feb 21 22:09:50 2024: 2 Final nb-AE loss: 3.9588322831726"
[1] "Evaluation loss: 0.328739147938375 for q=5"
[1] "Wed Feb 21 22:09:59 2024: Initial PCA loss: 6.46616282459584"
[1] "Wed Feb 21 22:10:01 2024: Iteration: 1 loss: 4.81565550523077"
[1] "Wed Feb 21 22:10:02 2024: Iteration: 2 loss: 4.7899907561233"
Time difference of 1.795655 secs
[1] "Wed Feb 21 22:10:02 2024: 2 Final nb-AE loss: 4.7899907561233"
[ FAIL 0 | WARN 32 | SKIP 0 | PASS 103 ]

[ FAIL 0 | WARN 32 | SKIP 0 | PASS 103 ]
> 
> proc.time()
   user  system elapsed 
 77.102   2.096  79.952 

Example timings

OUTRIDER.Rcheck/OUTRIDER-Ex.timings

nameusersystemelapsed
OUTRIDER12.324 2.56813.833
OutriderDataSet-class1.0160.0911.118
aberrant2.1460.7532.067
computeGeneLength1.7470.1431.906
computeLatentSpace0.8860.0110.910
computePvalues2.5261.4792.782
computeZscores1.1640.3611.462
controlForConfounders1.2840.0751.371
counts0.6120.0110.628
estimateBestQ0.4060.0030.410
filterExpression1.6630.0301.704
findEncodingDim12.664 0.30713.065
fit0.9660.0160.989
fpkm0.8630.0120.880
getter_setter_functions3.0980.0433.170
makeExampleOutriderDataSet1.1040.0101.119
normalizationFactors0.7800.1011.016
plotFunctions7.9230.3658.389
results3.2650.0673.346
sampleExclusionMask0.4670.0050.476
sizeFactors0.6080.0180.627