Index of /checkResults/3.18/bioc-LATEST/NanoMethViz/raw-results

[ICO]NameLast modifiedSizeDescription

[DIR]Parent Directory  -  
[   ]info.dcf09-Dec-2023 01:38 270  
[DIR]kunpeng2/03-Nov-2023 00:40 -  
[DIR]lconway/09-Dec-2023 01:38 -  
[DIR]nebbiolo2/09-Dec-2023 01:36 -  
[DIR]palomino4/09-Dec-2023 01:37 -