Index of /checkResults/3.18/bioc-LATEST/MLInterfaces/raw-results
Name
Last modified
Size
Description
Parent Directory
-
info.dcf
08-Dec-2023 01:37
288
kunpeng2/
03-Nov-2023 00:40
-
lconway/
08-Dec-2023 01:37
-
nebbiolo2/
08-Dec-2023 01:36
-
palomino4/
08-Dec-2023 01:36
-