Index of /checkResults/3.18/bioc-LATEST/MLInterfaces/raw-results/palomino4

[ICO]NameLast modifiedSizeDescription

[DIR]Parent Directory  -  
[TXT]buildbin-out.txt23-Feb-2024 01:36 1.1K 
[   ]buildbin-summary.dcf23-Feb-2024 01:36 545  
[TXT]buildsrc-out.txt23-Feb-2024 01:36 924  
[   ]buildsrc-summary.dcf23-Feb-2024 01:36 472  
[TXT]checksrc-out.txt23-Feb-2024 01:36 12K 
[   ]checksrc-summary.dcf23-Feb-2024 01:36 473  
[TXT]install-out.txt23-Feb-2024 01:36 1.0K 
[   ]install-summary.dcf23-Feb-2024 01:36 278