Index of /checkResults/3.18/bioc-LATEST/MLInterfaces/raw-results/lconway

[ICO]NameLast modifiedSizeDescription

[DIR]Parent Directory  -  
[TXT]buildbin-out.txt23-Feb-2024 01:37 1.2K 
[   ]buildbin-summary.dcf23-Feb-2024 01:37 560  
[TXT]buildsrc-out.txt23-Feb-2024 01:37 899  
[   ]buildsrc-summary.dcf23-Feb-2024 01:37 442  
[TXT]checksrc-out.txt23-Feb-2024 01:37 12K 
[   ]checksrc-summary.dcf23-Feb-2024 01:37 470  
[TXT]install-out.txt23-Feb-2024 01:37 1.0K 
[   ]install-summary.dcf23-Feb-2024 01:37 279