Index of /checkResults/3.18/bioc-LATEST/MLInterfaces/raw-results/nebbiolo2

[ICO]NameLast modifiedSizeDescription

[DIR]Parent Directory  -  
[TXT]buildsrc-out.txt03-Mar-2024 01:35 889  
[   ]buildsrc-summary.dcf03-Mar-2024 01:35 432  
[TXT]checksrc-out.txt03-Mar-2024 01:35 12K 
[   ]checksrc-summary.dcf03-Mar-2024 01:35 440  
[TXT]install-out.txt03-Mar-2024 01:35 1.0K 
[   ]install-summary.dcf03-Mar-2024 01:35 269