Back to Multiple platform build/check report for BioC 3.18:   simplified   long
ABC[D]EFGHIJKLMNOPQRSTUVWXYZ

This page was generated on 2024-02-22 11:37:39 -0500 (Thu, 22 Feb 2024).

HostnameOSArch (*)R versionInstalled pkgs
nebbiolo2Linux (Ubuntu 22.04.3 LTS)x86_644.3.2 Patched (2023-11-13 r85521) -- "Eye Holes" 4691
palomino4Windows Server 2022 Datacenterx644.3.2 (2023-10-31 ucrt) -- "Eye Holes" 4444
lconwaymacOS 12.7.1 Montereyx86_644.3.2 Patched (2023-11-01 r85457) -- "Eye Holes" 4465
Click on any hostname to see more info about the system (e.g. compilers)      (*) as reported by 'uname -p', except on Windows and Mac OS X

Package 514/2266HostnameOS / ArchINSTALLBUILDCHECKBUILD BIN
DeconRNASeq 1.44.0  (landing page)
Ting Gong
Snapshot Date: 2024-02-21 14:05:05 -0500 (Wed, 21 Feb 2024)
git_url: https://git.bioconductor.org/packages/DeconRNASeq
git_branch: RELEASE_3_18
git_last_commit: b74d94c
git_last_commit_date: 2023-10-24 09:51:21 -0500 (Tue, 24 Oct 2023)
nebbiolo2Linux (Ubuntu 22.04.3 LTS) / x86_64  OK    OK    OK  UNNEEDED, same version is already published
palomino4Windows Server 2022 Datacenter / x64  OK    OK    OK    OK  UNNEEDED, same version is already published
lconwaymacOS 12.7.1 Monterey / x86_64  OK    OK    OK    OK  UNNEEDED, same version is already published
kjohnson1macOS 13.6.1 Ventura / arm64see weekly results here

CHECK results for DeconRNASeq on lconway


To the developers/maintainers of the DeconRNASeq package:
- Allow up to 24 hours (and sometimes 48 hours) for your latest push to git@git.bioconductor.org:packages/DeconRNASeq.git to reflect on this report. See Troubleshooting Build Report for more information.
- Use the following Renviron settings to reproduce errors and warnings.
- If 'R CMD check' started to fail recently on the Linux builder(s) over a missing dependency, add the missing dependency to 'Suggests:' in your DESCRIPTION file. See Renviron.bioc for more information.

raw results


Summary

Package: DeconRNASeq
Version: 1.44.0
Command: /Library/Frameworks/R.framework/Resources/bin/R CMD check --install=check:DeconRNASeq.install-out.txt --library=/Library/Frameworks/R.framework/Resources/library --no-vignettes --timings DeconRNASeq_1.44.0.tar.gz
StartedAt: 2024-02-21 19:49:17 -0500 (Wed, 21 Feb 2024)
EndedAt: 2024-02-21 19:49:59 -0500 (Wed, 21 Feb 2024)
EllapsedTime: 42.8 seconds
RetCode: 0
Status:   OK  
CheckDir: DeconRNASeq.Rcheck
Warnings: 0

Command output

##############################################################################
##############################################################################
###
### Running command:
###
###   /Library/Frameworks/R.framework/Resources/bin/R CMD check --install=check:DeconRNASeq.install-out.txt --library=/Library/Frameworks/R.framework/Resources/library --no-vignettes --timings DeconRNASeq_1.44.0.tar.gz
###
##############################################################################
##############################################################################


* using log directory ‘/Users/biocbuild/bbs-3.18-bioc/meat/DeconRNASeq.Rcheck’
* using R version 4.3.2 Patched (2023-11-01 r85457)
* using platform: x86_64-apple-darwin20 (64-bit)
* R was compiled by
    Apple clang version 14.0.3 (clang-1403.0.22.14.1)
    GNU Fortran (GCC) 12.2.0
* running under: macOS Monterey 12.7.1
* using session charset: UTF-8
* using option ‘--no-vignettes’
* checking for file ‘DeconRNASeq/DESCRIPTION’ ... OK
* checking extension type ... Package
* this is package ‘DeconRNASeq’ version ‘1.44.0’
* checking package namespace information ... OK
* checking package dependencies ... OK
* checking if this is a source package ... OK
* checking if there is a namespace ... OK
* checking for hidden files and directories ... OK
* checking for portable file names ... OK
* checking for sufficient/correct file permissions ... OK
* checking whether package ‘DeconRNASeq’ can be installed ... OK
* checking installed package size ... NOTE
  installed size is  6.6Mb
  sub-directories of 1Mb or more:
    data   6.5Mb
* checking package directory ... OK
* checking ‘build’ directory ... OK
* checking DESCRIPTION meta-information ... OK
* checking top-level files ... OK
* checking for left-over files ... OK
* checking index information ... OK
* checking package subdirectories ... OK
* checking R files for non-ASCII characters ... OK
* checking R files for syntax errors ... OK
* checking whether the package can be loaded ... OK
* checking whether the package can be loaded with stated dependencies ... OK
* checking whether the package can be unloaded cleanly ... OK
* checking whether the namespace can be loaded with stated dependencies ... OK
* checking whether the namespace can be unloaded cleanly ... OK
* checking dependencies in R code ... NOTE
'library' or 'require' call to ‘grid’ which was already attached by Depends.
  Please remove these calls from your code.
Packages in Depends field not imported from:
  ‘ggplot2’ ‘grid’ ‘pcaMethods’
  These packages need to be imported from (in the NAMESPACE file)
  for when this namespace is loaded but not attached.
* checking S3 generic/method consistency ... OK
* checking replacement functions ... OK
* checking foreign function calls ... OK
* checking R code for possible problems ... NOTE
DeconRNASeq: no visible global function definition for ‘prep’
DeconRNASeq: no visible global function definition for ‘pca’
DeconRNASeq: no visible global function definition for ‘R2cum’
DeconRNASeq: no visible global function definition for ‘ggplot’
DeconRNASeq: no visible global function definition for ‘aes’
DeconRNASeq: no visible global function definition for ‘geom_point’
DeconRNASeq: no visible global function definition for ‘labs’
DeconRNASeq: no visible global function definition for ‘geom_abline’
DeconRNASeq: no visible global function definition for ‘xlab’
DeconRNASeq: no visible global function definition for ‘ylab’
condplot: no visible global function definition for ‘rainbow’
condplot: no visible global function definition for ‘lines’
condplot: no visible global function definition for ‘axis’
condplot: no visible global function definition for ‘title’
decon.bootstrap: no visible global function definition for ‘t.test’
multiplot: no visible global function definition for ‘grid.newpage’
multiplot: no visible global function definition for ‘pushViewport’
multiplot: no visible global function definition for ‘viewport’
multiplot: no visible global function definition for ‘grid.layout’
multiplot : vplayout: no visible global function definition for
  ‘viewport’
Undefined global functions or variables:
  R2cum aes axis geom_abline geom_point ggplot grid.layout grid.newpage
  labs lines pca prep pushViewport rainbow t.test title viewport xlab
  ylab
Consider adding
  importFrom("grDevices", "rainbow")
  importFrom("graphics", "axis", "lines", "title")
  importFrom("stats", "t.test")
to your NAMESPACE file.
* checking Rd files ... OK
* checking Rd metadata ... OK
* checking Rd cross-references ... OK
* checking for missing documentation entries ... OK
* checking for code/documentation mismatches ... OK
* checking Rd \usage sections ... OK
* checking Rd contents ... OK
* checking for unstated dependencies in examples ... OK
* checking contents of ‘data’ directory ... OK
* checking data for non-ASCII characters ... OK
* checking data for ASCII and uncompressed saves ... OK
* checking sizes of PDF files under ‘inst/doc’ ... OK
* checking files in ‘vignettes’ ... OK
* checking examples ... OK
* checking for unstated dependencies in vignettes ... OK
* checking package vignettes in ‘inst/doc’ ... OK
* checking running R code from vignettes ... SKIPPED
* checking re-building of vignette outputs ... SKIPPED
* checking PDF version of manual ... OK
* DONE

Status: 3 NOTEs
See
  ‘/Users/biocbuild/bbs-3.18-bioc/meat/DeconRNASeq.Rcheck/00check.log’
for details.



Installation output

DeconRNASeq.Rcheck/00install.out

##############################################################################
##############################################################################
###
### Running command:
###
###   /Library/Frameworks/R.framework/Resources/bin/R CMD INSTALL DeconRNASeq
###
##############################################################################
##############################################################################


* installing to library ‘/Library/Frameworks/R.framework/Versions/4.3-x86_64/Resources/library’
* installing *source* package ‘DeconRNASeq’ ...
** using staged installation
** R
** data
** demo
** byte-compile and prepare package for lazy loading
** help
*** installing help indices
** building package indices
** installing vignettes
** testing if installed package can be loaded from temporary location
** testing if installed package can be loaded from final location
** testing if installed package keeps a record of temporary installation path
* DONE (DeconRNASeq)

Tests output


Example timings

DeconRNASeq.Rcheck/DeconRNASeq-Ex.timings

nameusersystemelapsed
DeconRNASeq0.0000.0000.001
all.datasets0.0580.0090.067
array.proportions0.0440.0040.049
array.signatures0.0400.0050.045
condplot0.0400.0050.045
datasets0.0930.0060.100
fraction0.2650.0100.278
liver_kidney0.0820.0030.085
multi_tissue0.2430.0070.252
multiplot0.0010.0000.001
proportions0.0770.0030.080
signatures0.0940.0040.098
x.data0.2690.0080.280
x.signature0.2510.0050.258
x.signature.filtered0.2560.0070.265
x.signature.filtered.optimal0.2580.0060.266