Back to Multiple platform build/check report for BioC 3.17:   simplified   long
AB[C]DEFGHIJKLMNOPQRSTUVWXYZ

This page was generated on 2023-03-24 11:06:39 -0400 (Fri, 24 Mar 2023).

HostnameOSArch (*)R versionInstalled pkgs
nebbiolo1Linux (Ubuntu 22.04.1 LTS)x86_64R Under development (unstable) (2023-03-16 r83996) -- "Unsuffered Consequences" 4546
palomino3Windows Server 2022 Datacenterx64R Under development (unstable) (2023-03-15 r83984 ucrt) -- "Unsuffered Consequences" 4307
merida1macOS 10.14.6 Mojavex86_64R Under development (unstable) (2023-03-16 r83985) -- "Unsuffered Consequences" 4299
Click on any hostname to see more info about the system (e.g. compilers)      (*) as reported by 'uname -p', except on Windows and Mac OS X

BUILD BIN results for chromVAR on merida1


To the developers/maintainers of the chromVAR package:
- Please allow up to 24 hours (and sometimes 48 hours) for your latest push to git@git.bioconductor.org:packages/chromVAR.git to
reflect on this report. See How and When does the builder pull? When will my changes propagate? for more information.
- Make sure to use the following settings in order to reproduce any error or warning you see on this page.

raw results

Package 337/2195HostnameOS / ArchINSTALLBUILDCHECKBUILD BIN
chromVAR 1.21.0  (landing page)
Alicia Schep
Snapshot Date: 2023-03-23 14:00:15 -0400 (Thu, 23 Mar 2023)
git_url: https://git.bioconductor.org/packages/chromVAR
git_branch: devel
git_last_commit: 9ef81dc
git_last_commit_date: 2022-11-01 11:16:29 -0400 (Tue, 01 Nov 2022)
nebbiolo1Linux (Ubuntu 22.04.1 LTS) / x86_64  OK    OK    OK  UNNEEDED, same version is already published
palomino3Windows Server 2022 Datacenter / x64  OK    OK    OK    OK  UNNEEDED, same version is already published
merida1macOS 10.14.6 Mojave / x86_64  OK    OK    OK    OK  UNNEEDED, same version is already published

Summary

Package: chromVAR
Version: 1.21.0
Command: rm -rf chromVAR.buildbin-libdir && mkdir chromVAR.buildbin-libdir && /Users/biocbuild/BBS/utils/build-universal.sh chromVAR_1.21.0.tar.gz /Library/Frameworks/R.framework/Resources/bin/R chromVAR.buildbin-libdir
StartedAt: 2023-03-24 08:58:08 -0400 (Fri, 24 Mar 2023)
EndedAt: 2023-03-24 09:02:23 -0400 (Fri, 24 Mar 2023)
EllapsedTime: 255.5 seconds
RetCode: 0
Status:   OK  
PackageFile: chromVAR_1.21.0.tgz
PackageFileSize: 1.442 MiB

Command output

##############################################################################
##############################################################################
###
### Running command:
###
###   rm -rf chromVAR.buildbin-libdir && mkdir chromVAR.buildbin-libdir && /Users/biocbuild/BBS/utils/build-universal.sh chromVAR_1.21.0.tar.gz /Library/Frameworks/R.framework/Resources/bin/R chromVAR.buildbin-libdir
###
##############################################################################
##############################################################################


>>>>>>> 
>>>>>>> INSTALLATION WITH 'R CMD INSTALL --preclean --no-multiarch --library=chromVAR.buildbin-libdir chromVAR_1.21.0.tar.gz'
>>>>>>> 

* installing *source* package ‘chromVAR’ ...
** using staged installation
** libs
using C++ compiler: ‘Apple clang version 11.0.0 (clang-1100.0.33.17)’
using C++11
using SDK: ‘’
clang++ -mmacosx-version-min=10.13 -std=gnu++11 -I"/Library/Frameworks/R.framework/Resources/include" -DNDEBUG  -I'/Library/Frameworks/R.framework/Versions/4.3/Resources/library/Rcpp/include' -I'/Library/Frameworks/R.framework/Versions/4.3/Resources/library/RcppArmadillo/include' -I/usr/local/include    -fPIC  -Wall -g -O2  -c RcppExports.cpp -o RcppExports.o
clang++ -mmacosx-version-min=10.13 -std=gnu++11 -I"/Library/Frameworks/R.framework/Resources/include" -DNDEBUG  -I'/Library/Frameworks/R.framework/Versions/4.3/Resources/library/Rcpp/include' -I'/Library/Frameworks/R.framework/Versions/4.3/Resources/library/RcppArmadillo/include' -I/usr/local/include    -fPIC  -Wall -g -O2  -c pwm_similarity.cpp -o pwm_similarity.o
clang++ -mmacosx-version-min=10.13 -std=gnu++11 -I"/Library/Frameworks/R.framework/Resources/include" -DNDEBUG  -I'/Library/Frameworks/R.framework/Versions/4.3/Resources/library/Rcpp/include' -I'/Library/Frameworks/R.framework/Versions/4.3/Resources/library/RcppArmadillo/include' -I/usr/local/include    -fPIC  -Wall -g -O2  -c utils.cpp -o utils.o
clang++ -mmacosx-version-min=10.13 -std=gnu++11 -dynamiclib -Wl,-headerpad_max_install_names -undefined dynamic_lookup -single_module -multiply_defined suppress -L/Library/Frameworks/R.framework/Resources/lib -L/usr/local/lib -o chromVAR.so RcppExports.o pwm_similarity.o utils.o -L/Library/Frameworks/R.framework/Resources/lib -lRlapack -L/Library/Frameworks/R.framework/Resources/lib -lRblas -L/usr/local/gfortran/lib/gcc/x86_64-apple-darwin18/8.2.0 -L/usr/local/gfortran/lib -lgfortran -lquadmath -lm -F/Library/Frameworks/R.framework/.. -framework R -Wl,-framework -Wl,CoreFoundation
installing to /Users/biocbuild/bbs-3.17-bioc/meat/chromVAR.buildbin-libdir/00LOCK-chromVAR/00new/chromVAR/libs
** R
** data
*** moving datasets to lazyload DB
** inst
** byte-compile and prepare package for lazy loading
** help
*** installing help indices
** building package indices
** installing vignettes
** testing if installed package can be loaded from temporary location
** checking absolute paths in shared objects and dynamic libraries
** testing if installed package can be loaded from final location
** testing if installed package keeps a record of temporary installation path
* DONE (chromVAR)


>>>>>>> 
>>>>>>> FIXING LINKS FOR chromVAR.buildbin-libdir/chromVAR/libs/chromVAR.so
>>>>>>> 

install_name_tool -change "/usr/local/lib/libgcc_s.1.dylib" "/Library/Frameworks/R.framework/Versions/4.3/Resources/lib/libgcc_s.1.dylib" "chromVAR.buildbin-libdir/chromVAR/libs/chromVAR.so"
install_name_tool -change "/usr/local/lib/libgfortran.5.dylib" "/Library/Frameworks/R.framework/Versions/4.3/Resources/lib/libgfortran.5.dylib" "chromVAR.buildbin-libdir/chromVAR/libs/chromVAR.so"
install_name_tool -change "/usr/local/lib/libquadmath.0.dylib" "/Library/Frameworks/R.framework/Versions/4.3/Resources/lib/libquadmath.0.dylib" "chromVAR.buildbin-libdir/chromVAR/libs/chromVAR.so"
install_name_tool -change "/usr/local/gfortran/lib/libgfortran.5.dylib" "/Library/Frameworks/R.framework/Versions/4.3/Resources/lib/libgfortran.5.dylib" "chromVAR.buildbin-libdir/chromVAR/libs/chromVAR.so"
install_name_tool -change "/usr/local/gfortran/lib/libquadmath.0.dylib" "/Library/Frameworks/R.framework/Versions/4.3/Resources/lib/libquadmath.0.dylib" "chromVAR.buildbin-libdir/chromVAR/libs/chromVAR.so"