Index of /checkResults/3.17/bioc-LATEST/RBGL/raw-results
Name
Last modified
Size
Description
Parent Directory
-
info.dcf
30-Mar-2023 00:06
284
merida1/
30-Mar-2023 00:06
-
nebbiolo1/
30-Mar-2023 00:05
-
palomino3/
30-Mar-2023 00:05
-