![]() | Name | Last modified | Size | Description |
---|---|---|---|---|
![]() | Parent Directory | - | ||
![]() | buildbin-out.txt | 10-Jun-2023 00:07 | 16K | |
![]() | buildbin-summary.dcf | 10-Jun-2023 00:07 | 512 | |
![]() | buildsrc-out.txt | 10-Jun-2023 00:07 | 897 | |
![]() | buildsrc-summary.dcf | 10-Jun-2023 00:07 | 419 | |
![]() | checksrc-out.txt | 10-Jun-2023 00:07 | 4.3K | |
![]() | checksrc-summary.dcf | 10-Jun-2023 00:07 | 431 | |
![]() | install-out.txt | 10-Jun-2023 00:07 | 14K | |
![]() | install-summary.dcf | 10-Jun-2023 00:07 | 264 | |