![]() | Name | Last modified | Size | Description |
---|---|---|---|---|
![]() | Parent Directory | - | ||
![]() | buildsrc-out.txt | 10-Jun-2023 00:05 | 887 | |
![]() | buildsrc-summary.dcf | 10-Jun-2023 00:05 | 409 | |
![]() | checksrc-out.txt | 10-Jun-2023 00:05 | 4.7K | |
![]() | checksrc-summary.dcf | 10-Jun-2023 00:05 | 407 | |
![]() | install-out.txt | 10-Jun-2023 00:05 | 21M | |
![]() | install-summary.dcf | 10-Jun-2023 00:05 | 254 | |