Index of /checkResults/3.16/bioc-LATEST/muscat/raw-results

[ICO]NameLast modifiedSizeDescription

[DIR]Parent Directory  -  
[   ]info.dcf19-Aug-2022 00:08 265  
[DIR]kjohnson/12-Jul-2022 00:06 -  
[DIR]lconway/19-Aug-2022 00:08 -  
[DIR]nebbiolo2/19-Aug-2022 00:05 -  
[DIR]palomino4/19-Aug-2022 00:06 -