Index of /checkResults/3.16/bioc-LATEST/chromVAR/raw-results

[ICO]NameLast modifiedSizeDescription

[DIR]Parent Directory  -  
[   ]info.dcf23-Mar-2023 00:06 269  
[DIR]kjohnson/12-Jul-2022 00:06 -  
[DIR]lconway/23-Mar-2023 00:06 -  
[DIR]nebbiolo2/23-Mar-2023 00:04 -  
[DIR]palomino4/23-Mar-2023 00:05 -