Index of /checkResults/3.15/bioc-LATEST/scBFA/raw-results

[ICO]NameLast modifiedSizeDescription

[DIR]Parent Directory  -  
[   ]info.dcf25-Jun-2022 01:08 261  
[DIR]merida1/25-Jun-2022 01:08 -  
[DIR]nebbiolo1/25-Jun-2022 01:05 -  
[DIR]palomino3/25-Jun-2022 01:06 -  
[DIR]riesling1/19-Mar-2022 00:08 -