Back to Multiple platform build/check report for BioC 3.15
ABCDEF[G]HIJKLMNOPQRSTUVWXYZ

This page was generated on 2022-07-01 12:06:34 -0400 (Fri, 01 Jul 2022).

HostnameOSArch (*)R versionInstalled pkgs
nebbiolo1Linux (Ubuntu 20.04.4 LTS)x86_644.2.0 (2022-04-22) -- "Vigorous Calisthenics" 4380
palomino3Windows Server 2022 Datacenterx644.2.0 (2022-04-22 ucrt) -- "Vigorous Calisthenics" 4156
merida1macOS 10.14.6 Mojavex86_644.2.0 (2022-04-22) -- "Vigorous Calisthenics" 4221
Click on any hostname to see more info about the system (e.g. compilers)      (*) as reported by 'uname -p', except on Windows and Mac OS X

CHECK results for ggcyto on palomino3


To the developers/maintainers of the ggcyto package:
- Please allow up to 24 hours (and sometimes 48 hours) for your latest push to git@git.bioconductor.org:packages/ggcyto.git to
reflect on this report. See How and When does the builder pull? When will my changes propagate? for more information.
- Make sure to use the following settings in order to reproduce any error or warning you see on this page.

raw results

Package 799/2140HostnameOS / ArchINSTALLBUILDCHECKBUILD BIN
ggcyto 1.24.0  (landing page)
Mike Jiang ,Jake Wagner
Snapshot Date: 2022-06-30 13:55:04 -0400 (Thu, 30 Jun 2022)
git_url: https://git.bioconductor.org/packages/ggcyto
git_branch: RELEASE_3_15
git_last_commit: 9606f79
git_last_commit_date: 2022-04-26 11:28:52 -0400 (Tue, 26 Apr 2022)
nebbiolo1Linux (Ubuntu 20.04.4 LTS) / x86_64  OK    OK    OK  UNNEEDED, same version is already published
palomino3Windows Server 2022 Datacenter / x64  OK    OK    OK    OK  UNNEEDED, same version is already published
merida1macOS 10.14.6 Mojave / x86_64  OK    OK    OK    OK  UNNEEDED, same version is already published

Summary

Package: ggcyto
Version: 1.24.0
Command: F:\biocbuild\bbs-3.15-bioc\R\bin\R.exe CMD check --no-multiarch --install=check:ggcyto.install-out.txt --library=F:\biocbuild\bbs-3.15-bioc\R\library --no-vignettes --timings ggcyto_1.24.0.tar.gz
StartedAt: 2022-07-01 00:38:01 -0400 (Fri, 01 Jul 2022)
EndedAt: 2022-07-01 00:40:32 -0400 (Fri, 01 Jul 2022)
EllapsedTime: 150.6 seconds
RetCode: 0
Status:   OK  
CheckDir: ggcyto.Rcheck
Warnings: 0

Command output

##############################################################################
##############################################################################
###
### Running command:
###
###   F:\biocbuild\bbs-3.15-bioc\R\bin\R.exe CMD check --no-multiarch --install=check:ggcyto.install-out.txt --library=F:\biocbuild\bbs-3.15-bioc\R\library --no-vignettes --timings ggcyto_1.24.0.tar.gz
###
##############################################################################
##############################################################################


* using log directory 'F:/biocbuild/bbs-3.15-bioc/meat/ggcyto.Rcheck'
* using R version 4.2.0 (2022-04-22 ucrt)
* using platform: x86_64-w64-mingw32 (64-bit)
* using session charset: UTF-8
* using option '--no-vignettes'
* checking for file 'ggcyto/DESCRIPTION' ... OK
* checking extension type ... Package
* this is package 'ggcyto' version '1.24.0'
* checking package namespace information ... OK
* checking package dependencies ... OK
* checking if this is a source package ... OK
* checking if there is a namespace ... OK
* checking for hidden files and directories ... NOTE
Found the following hidden files and directories:
  .travis.yml
These were most likely included in error. See section 'Package
structure' in the 'Writing R Extensions' manual.
* checking for portable file names ... NOTE
Found the following non-portable file path:
  ggcyto/docs/articles/advanced/ggplot.flowSet.overlay_files/accessible-code-block-0.0.1/empty-anchor.js

Tarballs are only required to store paths of up to 100 bytes and cannot
store those of more than 256 bytes, with restrictions including to 100
bytes for the final component.
See section 'Package structure' in the 'Writing R Extensions' manual.
* checking whether package 'ggcyto' can be installed ... OK
* checking installed package size ... OK
* checking package directory ... OK
* checking 'build' directory ... OK
* checking DESCRIPTION meta-information ... OK
* checking top-level files ... OK
* checking for left-over files ... OK
* checking index information ... OK
* checking package subdirectories ... OK
* checking R files for non-ASCII characters ... OK
* checking R files for syntax errors ... OK
* checking whether the package can be loaded ... OK
* checking whether the package can be loaded with stated dependencies ... OK
* checking whether the package can be unloaded cleanly ... OK
* checking whether the namespace can be loaded with stated dependencies ... OK
* checking whether the namespace can be unloaded cleanly ... OK
* checking dependencies in R code ... NOTE
Namespace in Imports field not imported from: 'scales'
  All declared Imports should be used.
':::' call which should be '::': 'flowWorkspace:::gh_pop_is_negated'
  See the note in ?`:::` about the use of this operator.
Unexported objects imported by ':::' calls:
  'flowWorkspace:::.mergeGates' 'flowWorkspace:::compact'
  'flowWorkspace:::fix_y_axis' 'ggplot2:::+.gg' 'ggplot2:::add_group'
  'ggplot2:::as_gg_data_frame' 'ggplot2:::check_aesthetics'
  'ggplot2:::hex_binwidth' 'ggplot2:::is.waive'
  'ggplot2:::is_calculated_aes' 'ggplot2:::make_labels'
  'ggplot2:::make_scale' 'ggplot2:::plot_clone'
  'ggplot2:::print.ggplot' 'ggplot2:::scales_add_defaults'
  'ggplot2:::scales_list'
  See the note in ?`:::` about the use of this operator.
* checking S3 generic/method consistency ... OK
* checking replacement functions ... OK
* checking foreign function calls ... OK
* checking R code for possible problems ... NOTE
.fs2dt: no visible binding for global variable 'name'
add_ggcyto: no visible binding for global variable 'name'
add_ggcyto: no visible global function definition for 'modifyList'
add_ggcyto: no visible binding for global variable 'axis'
add_ggcyto: no visible binding for global variable 'desc'
add_par: no visible global function definition for 'modifyList'
as.ggplot: no visible binding for global variable 'axis'
as.ggplot: no visible binding for global variable 'name'
as.ggplot : <anonymous>: no visible binding for global variable 'axis'
as.ggplot : <anonymous>: no visible binding for global variable 'name'
as.ggplot: no visible binding for global variable 'count'
as.ggplot: no visible global function definition for 'densCols'
as.ggplot: no visible global function definition for 'colorRampPalette'
as.ggplot: no visible binding for global variable 'density'
autoplot.GatingHierarchy : <anonymous>: no visible global function
  definition for 'gray'
autoplot.GatingSetList: no visible global function definition for
  'getS3method'
autoplot.ncdfFlowList: no visible global function definition for
  'getS3method'
density_fr_all : <anonymous>: no visible global function definition for
  'gray'
fortify.GatingSetList: no visible global function definition for
  'getS3method'
fortify.ncdfFlowList: no visible global function definition for
  'getS3method'
fortify_fs.GatingSetList: no visible global function definition for
  'getS3method'
getFlowFrame.GatingSetList: no visible global function definition for
  'getS3method'
getFlowFrame.ncdfFlowList: no visible global function definition for
  'getS3method'
ggcyto.GatingSetList: no visible global function definition for
  'getS3method'
ggcyto.flowSet: no visible binding for global variable 'name'
ggcyto.flowSet: no visible binding for global variable 'axis'
ggcyto.ncdfFlowList: no visible global function definition for
  'getS3method'
ggcyto_arrange: no visible binding for global variable 'name'
stat_position.filter: no visible global function definition for
  'setNames'
Undefined global functions or variables:
  axis colorRampPalette count densCols density desc getS3method gray
  modifyList name setNames
Consider adding
  importFrom("grDevices", "colorRampPalette", "densCols", "gray")
  importFrom("graphics", "axis")
  importFrom("stats", "density", "setNames")
  importFrom("utils", "getS3method", "modifyList")
to your NAMESPACE file.
* checking Rd files ... OK
* checking Rd metadata ... OK
* checking Rd cross-references ... OK
* checking for missing documentation entries ... OK
* checking for code/documentation mismatches ... OK
* checking Rd \usage sections ... OK
* checking Rd contents ... OK
* checking for unstated dependencies in examples ... OK
* checking files in 'vignettes' ... OK
* checking examples ... OK
Examples with CPU (user + system) or elapsed time > 5s
           user system elapsed
ggcyto     8.03   0.26    8.31
autoplot   7.14   0.32    7.50
ggcyto_add 6.05   0.36    6.41
* checking for unstated dependencies in 'tests' ... OK
* checking tests ...
  Running 'testthat.R'
 OK
* checking for unstated dependencies in vignettes ... OK
* checking package vignettes in 'inst/doc' ... OK
* checking running R code from vignettes ... SKIPPED
* checking re-building of vignette outputs ... SKIPPED
* checking PDF version of manual ... OK
* DONE

Status: 4 NOTEs
See
  'F:/biocbuild/bbs-3.15-bioc/meat/ggcyto.Rcheck/00check.log'
for details.



Installation output

ggcyto.Rcheck/00install.out

##############################################################################
##############################################################################
###
### Running command:
###
###   F:\biocbuild\bbs-3.15-bioc\R\bin\R.exe CMD INSTALL ggcyto
###
##############################################################################
##############################################################################


* installing to library 'F:/biocbuild/bbs-3.15-bioc/R/library'
* installing *source* package 'ggcyto' ...
** using staged installation
** R
** inst
** byte-compile and prepare package for lazy loading
** help
*** installing help indices
*** copying figures
** building package indices
** installing vignettes
** testing if installed package can be loaded from temporary location
** testing if installed package can be loaded from final location
** testing if installed package keeps a record of temporary installation path
* DONE (ggcyto)

Tests output

ggcyto.Rcheck/tests/testthat.Rout


R version 4.2.0 (2022-04-22 ucrt) -- "Vigorous Calisthenics"
Copyright (C) 2022 The R Foundation for Statistical Computing
Platform: x86_64-w64-mingw32/x64 (64-bit)

R is free software and comes with ABSOLUTELY NO WARRANTY.
You are welcome to redistribute it under certain conditions.
Type 'license()' or 'licence()' for distribution details.

R is a collaborative project with many contributors.
Type 'contributors()' for more information and
'citation()' on how to cite R or R packages in publications.

Type 'demo()' for some demos, 'help()' for on-line help, or
'help.start()' for an HTML browser interface to help.
Type 'q()' to quit R.

> library(testthat)
> library(ggcyto)
Loading required package: ggplot2
Loading required package: flowCore
Loading required package: ncdfFlow
Loading required package: RcppArmadillo
Loading required package: BH
Loading required package: flowWorkspace
As part of improvements to flowWorkspace, some behavior of
GatingSet objects has changed. For details, please read the section
titled "The cytoframe and cytoset classes" in the package vignette:

  vignette("flowWorkspace-Introduction", "flowWorkspace")
> library(vdiffr)
> 
> test_check("ggcyto")
Coordinate system already present. Adding new coordinate system, which will replace the existing one.
`stat_bin()` using `bins = 30`. Pick better value with `binwidth`.
[ FAIL 0 | WARN 0 | SKIP 6 | PASS 1 ]

══ Skipped tests ═══════════════════════════════════════════════════════════════
• On CRAN (6)

[ FAIL 0 | WARN 0 | SKIP 6 | PASS 1 ]
> 
> proc.time()
   user  system elapsed 
   7.79    0.78    9.06 

Example timings

ggcyto.Rcheck/ggcyto-Ex.timings

nameusersystemelapsed
as.ggplot0.840.010.85
autoplot7.140.327.50
axis_x_inverse_trans0.780.090.88
compute_stats0.510.020.53
flowCore_asinht_trans000
fortify.ellipsoidGate000
fortify.filterList0.020.000.01
fortify.flowSet0.090.010.11
fortify.polygonGate000
fortify.rectangleGate000
fortify_fs0.440.000.43
gate_null0.320.030.36
geom_gate1.500.121.62
geom_hvline0.180.020.19
geom_overlay0.920.030.97
geom_stats1.340.061.41
getFlowFrame2.330.102.42
ggcyto8.030.268.31
ggcyto_add6.050.366.41
ggcyto_arrange000
ggcyto_par_default0.010.000.01
ggcyto_par_set0.890.030.93
is.ggcyto0.490.020.50
is.ggcyto_flowSet0.440.010.45
is.ggcyto_par000
labs_cyto1.170.081.25
marginalFilter1.060.111.16
merge.quad.gates0.080.000.08
replace_data0.760.000.83
scale_x_flowCore_fasinh0.740.020.75
scale_x_logicle0.680.030.71
scales_flowjo_biexp0.680.010.70
scales_flowjo_fasinh0.660.020.67
stat_position0.410.030.44
stats_null0.160.000.16