Back to Multiple platform build/check report for BioC 3.15
ABCDEF[G]HIJKLMNOPQRSTUVWXYZ

This page was generated on 2022-05-13 12:48:02 -0400 (Fri, 13 May 2022).

HostnameOSArch (*)R versionInstalled pkgs
nebbiolo1Linux (Ubuntu 20.04.4 LTS)x86_644.2.0 (2022-04-22) -- "Vigorous Calisthenics" 4344
palomino3Windows Server 2022 Datacenterx644.2.0 (2022-04-22 ucrt) -- "Vigorous Calisthenics" 4151
merida1macOS 10.14.6 Mojavex86_644.2.0 (2022-04-22) -- "Vigorous Calisthenics" 4183
Click on any hostname to see more info about the system (e.g. compilers)      (*) as reported by 'uname -p', except on Windows and Mac OS X

CHECK results for ggcyto on merida1


To the developers/maintainers of the ggcyto package:
- Please allow up to 24 hours (and sometimes 48 hours) for your latest push to git@git.bioconductor.org:packages/ggcyto.git to
reflect on this report. See How and When does the builder pull? When will my changes propagate? for more information.
- Make sure to use the following settings in order to reproduce any error or warning you see on this page.

raw results

Package 799/2140HostnameOS / ArchINSTALLBUILDCHECKBUILD BIN
ggcyto 1.24.0  (landing page)
Mike Jiang ,Jake Wagner
Snapshot Date: 2022-05-12 13:55:13 -0400 (Thu, 12 May 2022)
git_url: https://git.bioconductor.org/packages/ggcyto
git_branch: RELEASE_3_15
git_last_commit: 9606f79
git_last_commit_date: 2022-04-26 11:28:52 -0400 (Tue, 26 Apr 2022)
nebbiolo1Linux (Ubuntu 20.04.4 LTS) / x86_64  OK    OK    OK  UNNEEDED, same version is already published
palomino3Windows Server 2022 Datacenter / x64  OK    OK    OK    OK  UNNEEDED, same version is already published
merida1macOS 10.14.6 Mojave / x86_64  OK    OK    OK    OK  UNNEEDED, same version is already published

Summary

Package: ggcyto
Version: 1.24.0
Command: /Library/Frameworks/R.framework/Resources/bin/R CMD check --install=check:ggcyto.install-out.txt --library=/Library/Frameworks/R.framework/Resources/library --no-vignettes --timings ggcyto_1.24.0.tar.gz
StartedAt: 2022-05-13 02:51:37 -0400 (Fri, 13 May 2022)
EndedAt: 2022-05-13 02:56:20 -0400 (Fri, 13 May 2022)
EllapsedTime: 283.5 seconds
RetCode: 0
Status:   OK  
CheckDir: ggcyto.Rcheck
Warnings: 0

Command output

##############################################################################
##############################################################################
###
### Running command:
###
###   /Library/Frameworks/R.framework/Resources/bin/R CMD check --install=check:ggcyto.install-out.txt --library=/Library/Frameworks/R.framework/Resources/library --no-vignettes --timings ggcyto_1.24.0.tar.gz
###
##############################################################################
##############################################################################


* using log directory ‘/Users/biocbuild/bbs-3.15-bioc/meat/ggcyto.Rcheck’
* using R version 4.2.0 (2022-04-22)
* using platform: x86_64-apple-darwin17.0 (64-bit)
* using session charset: UTF-8
* using option ‘--no-vignettes’
* checking for file ‘ggcyto/DESCRIPTION’ ... OK
* checking extension type ... Package
* this is package ‘ggcyto’ version ‘1.24.0’
* checking package namespace information ... OK
* checking package dependencies ... OK
* checking if this is a source package ... OK
* checking if there is a namespace ... OK
* checking for hidden files and directories ... NOTE
Found the following hidden files and directories:
  .travis.yml
These were most likely included in error. See section ‘Package
structure’ in the ‘Writing R Extensions’ manual.
* checking for portable file names ... NOTE
Found the following non-portable file path:
  ggcyto/docs/articles/advanced/ggplot.flowSet.overlay_files/accessible-code-block-0.0.1/empty-anchor.js

Tarballs are only required to store paths of up to 100 bytes and cannot
store those of more than 256 bytes, with restrictions including to 100
bytes for the final component.
See section ‘Package structure’ in the ‘Writing R Extensions’ manual.
* checking for sufficient/correct file permissions ... OK
* checking whether package ‘ggcyto’ can be installed ... OK
* checking installed package size ... OK
* checking package directory ... OK
* checking ‘build’ directory ... OK
* checking DESCRIPTION meta-information ... OK
* checking top-level files ... OK
* checking for left-over files ... OK
* checking index information ... OK
* checking package subdirectories ... OK
* checking R files for non-ASCII characters ... OK
* checking R files for syntax errors ... OK
* checking whether the package can be loaded ... OK
* checking whether the package can be loaded with stated dependencies ... OK
* checking whether the package can be unloaded cleanly ... OK
* checking whether the namespace can be loaded with stated dependencies ... OK
* checking whether the namespace can be unloaded cleanly ... OK
* checking dependencies in R code ... NOTE
Namespace in Imports field not imported from: ‘scales’
  All declared Imports should be used.
':::' call which should be '::': ‘flowWorkspace:::gh_pop_is_negated’
  See the note in ?`:::` about the use of this operator.
Unexported objects imported by ':::' calls:
  ‘flowWorkspace:::.mergeGates’ ‘flowWorkspace:::compact’
  ‘flowWorkspace:::fix_y_axis’ ‘ggplot2:::+.gg’ ‘ggplot2:::add_group’
  ‘ggplot2:::as_gg_data_frame’ ‘ggplot2:::check_aesthetics’
  ‘ggplot2:::hex_binwidth’ ‘ggplot2:::is.waive’
  ‘ggplot2:::is_calculated_aes’ ‘ggplot2:::make_labels’
  ‘ggplot2:::make_scale’ ‘ggplot2:::plot_clone’
  ‘ggplot2:::print.ggplot’ ‘ggplot2:::scales_add_defaults’
  ‘ggplot2:::scales_list’
  See the note in ?`:::` about the use of this operator.
* checking S3 generic/method consistency ... OK
* checking replacement functions ... OK
* checking foreign function calls ... OK
* checking R code for possible problems ... NOTE
.fs2dt: no visible binding for global variable ‘name’
add_ggcyto: no visible binding for global variable ‘name’
add_ggcyto: no visible global function definition for ‘modifyList’
add_ggcyto: no visible binding for global variable ‘axis’
add_ggcyto: no visible binding for global variable ‘desc’
add_par: no visible global function definition for ‘modifyList’
as.ggplot: no visible binding for global variable ‘axis’
as.ggplot: no visible binding for global variable ‘name’
as.ggplot : <anonymous>: no visible binding for global variable ‘axis’
as.ggplot : <anonymous>: no visible binding for global variable ‘name’
as.ggplot: no visible binding for global variable ‘count’
as.ggplot: no visible global function definition for ‘densCols’
as.ggplot: no visible global function definition for ‘colorRampPalette’
as.ggplot: no visible binding for global variable ‘density’
autoplot.GatingHierarchy : <anonymous>: no visible global function
  definition for ‘gray’
autoplot.GatingSetList: no visible global function definition for
  ‘getS3method’
autoplot.ncdfFlowList: no visible global function definition for
  ‘getS3method’
density_fr_all : <anonymous>: no visible global function definition for
  ‘gray’
fortify.GatingSetList: no visible global function definition for
  ‘getS3method’
fortify.ncdfFlowList: no visible global function definition for
  ‘getS3method’
fortify_fs.GatingSetList: no visible global function definition for
  ‘getS3method’
getFlowFrame.GatingSetList: no visible global function definition for
  ‘getS3method’
getFlowFrame.ncdfFlowList: no visible global function definition for
  ‘getS3method’
ggcyto.GatingSetList: no visible global function definition for
  ‘getS3method’
ggcyto.flowSet: no visible binding for global variable ‘name’
ggcyto.flowSet: no visible binding for global variable ‘axis’
ggcyto.ncdfFlowList: no visible global function definition for
  ‘getS3method’
ggcyto_arrange: no visible binding for global variable ‘name’
stat_position.filter: no visible global function definition for
  ‘setNames’
Undefined global functions or variables:
  axis colorRampPalette count densCols density desc getS3method gray
  modifyList name setNames
Consider adding
  importFrom("grDevices", "colorRampPalette", "densCols", "gray")
  importFrom("graphics", "axis")
  importFrom("stats", "density", "setNames")
  importFrom("utils", "getS3method", "modifyList")
to your NAMESPACE file.
* checking Rd files ... OK
* checking Rd metadata ... OK
* checking Rd cross-references ... OK
* checking for missing documentation entries ... OK
* checking for code/documentation mismatches ... OK
* checking Rd \usage sections ... OK
* checking Rd contents ... OK
* checking for unstated dependencies in examples ... OK
* checking files in ‘vignettes’ ... OK
* checking examples ... OK
Examples with CPU (user + system) or elapsed time > 5s
               user system elapsed
ggcyto       17.125  0.368  17.527
autoplot     16.458  0.396  16.891
ggcyto_add   12.739  0.256  13.048
getFlowFrame  6.221  0.141   6.370
* checking for unstated dependencies in ‘tests’ ... OK
* checking tests ...
  Running ‘testthat.R’
 OK
* checking for unstated dependencies in vignettes ... OK
* checking package vignettes in ‘inst/doc’ ... OK
* checking running R code from vignettes ... SKIPPED
* checking re-building of vignette outputs ... SKIPPED
* checking PDF version of manual ... OK
* DONE

Status: 4 NOTEs
See
  ‘/Users/biocbuild/bbs-3.15-bioc/meat/ggcyto.Rcheck/00check.log’
for details.



Installation output

ggcyto.Rcheck/00install.out

##############################################################################
##############################################################################
###
### Running command:
###
###   /Library/Frameworks/R.framework/Resources/bin/R CMD INSTALL ggcyto
###
##############################################################################
##############################################################################


* installing to library ‘/Library/Frameworks/R.framework/Versions/4.2/Resources/library’
* installing *source* package ‘ggcyto’ ...
** using staged installation
** R
** inst
** byte-compile and prepare package for lazy loading
** help
*** installing help indices
*** copying figures
** building package indices
** installing vignettes
** testing if installed package can be loaded from temporary location
** testing if installed package can be loaded from final location
** testing if installed package keeps a record of temporary installation path
* DONE (ggcyto)

Tests output

ggcyto.Rcheck/tests/testthat.Rout


R version 4.2.0 (2022-04-22) -- "Vigorous Calisthenics"
Copyright (C) 2022 The R Foundation for Statistical Computing
Platform: x86_64-apple-darwin17.0 (64-bit)

R is free software and comes with ABSOLUTELY NO WARRANTY.
You are welcome to redistribute it under certain conditions.
Type 'license()' or 'licence()' for distribution details.

R is a collaborative project with many contributors.
Type 'contributors()' for more information and
'citation()' on how to cite R or R packages in publications.

Type 'demo()' for some demos, 'help()' for on-line help, or
'help.start()' for an HTML browser interface to help.
Type 'q()' to quit R.

> library(testthat)
> library(ggcyto)
Loading required package: ggplot2
Loading required package: flowCore
Loading required package: ncdfFlow
Loading required package: RcppArmadillo
Loading required package: BH
Loading required package: flowWorkspace
As part of improvements to flowWorkspace, some behavior of
GatingSet objects has changed. For details, please read the section
titled "The cytoframe and cytoset classes" in the package vignette:

  vignette("flowWorkspace-Introduction", "flowWorkspace")
> library(vdiffr)
> 
> test_check("ggcyto")
Coordinate system already present. Adding new coordinate system, which will replace the existing one.
`stat_bin()` using `bins = 30`. Pick better value with `binwidth`.
[ FAIL 0 | WARN 0 | SKIP 6 | PASS 1 ]

══ Skipped tests ═══════════════════════════════════════════════════════════════
• On CRAN (6)

[ FAIL 0 | WARN 0 | SKIP 6 | PASS 1 ]
> 
> proc.time()
   user  system elapsed 
 16.403   0.828  17.246 

Example timings

ggcyto.Rcheck/ggcyto-Ex.timings

nameusersystemelapsed
as.ggplot1.6150.0761.693
autoplot16.458 0.39616.891
axis_x_inverse_trans1.3120.0321.347
compute_stats1.5120.0261.541
flowCore_asinht_trans0.0020.0000.003
fortify.ellipsoidGate0.0120.0010.012
fortify.filterList0.0320.0010.034
fortify.flowSet0.1500.0220.173
fortify.polygonGate0.0050.0000.006
fortify.rectangleGate0.0270.0050.033
fortify_fs0.8880.0140.903
gate_null0.7150.0280.746
geom_gate3.4790.0863.583
geom_hvline0.4340.0080.443
geom_overlay1.9360.0602.003
geom_stats2.5100.0572.574
getFlowFrame6.2210.1416.370
ggcyto17.125 0.36817.527
ggcyto_add12.739 0.25613.048
ggcyto_arrange0.0000.0010.001
ggcyto_par_default0.0160.0000.017
ggcyto_par_set1.5560.0351.596
is.ggcyto1.4780.0211.500
is.ggcyto_flowSet0.9530.0120.967
is.ggcyto_par0.0030.0000.003
labs_cyto1.5000.0431.548
marginalFilter2.3910.0772.475
merge.quad.gates0.2080.0030.211
replace_data1.5880.0511.648
scale_x_flowCore_fasinh1.5890.0161.609
scale_x_logicle1.4980.0221.523
scales_flowjo_biexp1.4820.0171.501
scales_flowjo_fasinh1.5430.0141.559
stat_position0.9690.0220.992
stats_null0.2590.0080.268