Back to Multiple platform build/check report for BioC 3.15
ABC[D]EFGHIJKLMNOPQRSTUVWXYZ

This page was generated on 2022-06-24 12:07:22 -0400 (Fri, 24 Jun 2022).

HostnameOSArch (*)R versionInstalled pkgs
nebbiolo1Linux (Ubuntu 20.04.4 LTS)x86_644.2.0 (2022-04-22) -- "Vigorous Calisthenics" 4380
palomino3Windows Server 2022 Datacenterx644.2.0 (2022-04-22 ucrt) -- "Vigorous Calisthenics" 4156
merida1macOS 10.14.6 Mojavex86_644.2.0 (2022-04-22) -- "Vigorous Calisthenics" 4221
Click on any hostname to see more info about the system (e.g. compilers)      (*) as reported by 'uname -p', except on Windows and Mac OS X

CHECK results for drugTargetInteractions on merida1


To the developers/maintainers of the drugTargetInteractions package:
- Please allow up to 24 hours (and sometimes 48 hours) for your latest push to git@git.bioconductor.org:packages/drugTargetInteractions.git to
reflect on this report. See How and When does the builder pull? When will my changes propagate? for more information.
- Make sure to use the following settings in order to reproduce any error or warning you see on this page.

raw results

Package 565/2140HostnameOS / ArchINSTALLBUILDCHECKBUILD BIN
drugTargetInteractions 1.4.0  (landing page)
Thomas Girke
Snapshot Date: 2022-06-23 13:55:15 -0400 (Thu, 23 Jun 2022)
git_url: https://git.bioconductor.org/packages/drugTargetInteractions
git_branch: RELEASE_3_15
git_last_commit: b1de6ca
git_last_commit_date: 2022-04-26 12:14:13 -0400 (Tue, 26 Apr 2022)
nebbiolo1Linux (Ubuntu 20.04.4 LTS) / x86_64  OK    OK    OK  UNNEEDED, same version is already published
palomino3Windows Server 2022 Datacenter / x64  OK    OK    OK    OK  UNNEEDED, same version is already published
merida1macOS 10.14.6 Mojave / x86_64  OK    OK    OK    OK  UNNEEDED, same version is already published

Summary

Package: drugTargetInteractions
Version: 1.4.0
Command: /Library/Frameworks/R.framework/Resources/bin/R CMD check --install=check:drugTargetInteractions.install-out.txt --library=/Library/Frameworks/R.framework/Resources/library --no-vignettes --timings drugTargetInteractions_1.4.0.tar.gz
StartedAt: 2022-06-24 02:14:55 -0400 (Fri, 24 Jun 2022)
EndedAt: 2022-06-24 02:24:48 -0400 (Fri, 24 Jun 2022)
EllapsedTime: 593.8 seconds
RetCode: 0
Status:   OK  
CheckDir: drugTargetInteractions.Rcheck
Warnings: 0

Command output

##############################################################################
##############################################################################
###
### Running command:
###
###   /Library/Frameworks/R.framework/Resources/bin/R CMD check --install=check:drugTargetInteractions.install-out.txt --library=/Library/Frameworks/R.framework/Resources/library --no-vignettes --timings drugTargetInteractions_1.4.0.tar.gz
###
##############################################################################
##############################################################################


* using log directory ‘/Users/biocbuild/bbs-3.15-bioc/meat/drugTargetInteractions.Rcheck’
* using R version 4.2.0 (2022-04-22)
* using platform: x86_64-apple-darwin17.0 (64-bit)
* using session charset: UTF-8
* using option ‘--no-vignettes’
* checking for file ‘drugTargetInteractions/DESCRIPTION’ ... OK
* checking extension type ... Package
* this is package ‘drugTargetInteractions’ version ‘1.4.0’
* checking package namespace information ... OK
* checking package dependencies ... OK
* checking if this is a source package ... OK
* checking if there is a namespace ... OK
* checking for hidden files and directories ... OK
* checking for portable file names ... OK
* checking for sufficient/correct file permissions ... OK
* checking whether package ‘drugTargetInteractions’ can be installed ... OK
* checking installed package size ... OK
* checking package directory ... OK
* checking ‘build’ directory ... OK
* checking DESCRIPTION meta-information ... OK
* checking top-level files ... OK
* checking for left-over files ... OK
* checking index information ... OK
* checking package subdirectories ... OK
* checking R files for non-ASCII characters ... OK
* checking R files for syntax errors ... OK
* checking whether the package can be loaded ... OK
* checking whether the package can be loaded with stated dependencies ... OK
* checking whether the package can be unloaded cleanly ... OK
* checking whether the namespace can be loaded with stated dependencies ... OK
* checking whether the namespace can be unloaded cleanly ... OK
* checking dependencies in R code ... OK
* checking S3 generic/method consistency ... OK
* checking replacement functions ... OK
* checking foreign function calls ... OK
* checking R code for possible problems ... NOTE
.getCacheFile: no visible binding for global variable 'create_time'
getParalogs: no visible global function definition for 'setNames'
Undefined global functions or variables:
  create_time setNames
Consider adding
  importFrom("stats", "setNames")
to your NAMESPACE file.
* checking Rd files ... OK
* checking Rd metadata ... OK
* checking Rd cross-references ... OK
* checking for missing documentation entries ... OK
* checking for code/documentation mismatches ... OK
* checking Rd \usage sections ... OK
* checking Rd contents ... OK
* checking for unstated dependencies in examples ... OK
* checking files in ‘vignettes’ ... OK
* checking examples ... OK
Examples with CPU (user + system) or elapsed time > 5s
                       user system elapsed
drugTargetAnnotTable 71.713  1.561  74.393
processDrugage       59.564  0.977  65.229
transformTTD          8.773  0.771   9.728
downloadUniChem       6.851  0.624   8.038
* checking for unstated dependencies in vignettes ... OK
* checking package vignettes in ‘inst/doc’ ... OK
* checking running R code from vignettes ... SKIPPED
* checking re-building of vignette outputs ... SKIPPED
* checking PDF version of manual ... OK
* DONE

Status: 1 NOTE
See
  ‘/Users/biocbuild/bbs-3.15-bioc/meat/drugTargetInteractions.Rcheck/00check.log’
for details.



Installation output

drugTargetInteractions.Rcheck/00install.out

##############################################################################
##############################################################################
###
### Running command:
###
###   /Library/Frameworks/R.framework/Resources/bin/R CMD INSTALL drugTargetInteractions
###
##############################################################################
##############################################################################


* installing to library ‘/Library/Frameworks/R.framework/Versions/4.2/Resources/library’
* installing *source* package ‘drugTargetInteractions’ ...
** using staged installation
** R
** inst
** byte-compile and prepare package for lazy loading
** help
*** installing help indices
** building package indices
** installing vignettes
** testing if installed package can be loaded from temporary location
** testing if installed package can be loaded from final location
** testing if installed package keeps a record of temporary installation path
* DONE (drugTargetInteractions)

Tests output


Example timings

drugTargetInteractions.Rcheck/drugTargetInteractions-Ex.timings

nameusersystemelapsed
cmpIdMapping0.0000.0010.001
downloadChemblDb000
downloadUniChem6.8510.6248.038
drugTargetAnnot0.0290.0040.034
drugTargetAnnotTable71.713 1.56174.393
drugTargetBioactivity0.1360.0060.143
genConfig0.0000.0010.000
getDrugTarget0.0340.0020.036
getParalogs0.0000.0000.001
getSymEnsUp1.8840.1302.062
getUniprotIDs000
processDrugage59.564 0.97765.229
runDrugTarget_Annot_Bioassay0.7510.0270.782
transformTTD8.7730.7719.728