Index of /checkResults/3.15/bioc-LATEST/decompTumor2Sig/raw-results

[ICO]NameLast modifiedSizeDescription

[DIR]Parent Directory  -  
[   ]info.dcf02-Jul-2022 01:07 286  
[DIR]merida1/02-Jul-2022 01:07 -  
[DIR]nebbiolo1/02-Jul-2022 01:05 -  
[DIR]palomino3/02-Jul-2022 01:06 -  
[DIR]riesling1/19-Mar-2022 00:07 -