Back to Multiple platform build/check report for BioC 3.15
ABCDEFGHIJKLMNOPQ[R]STUVWXYZ

This page was generated on 2022-06-24 12:06:37 -0400 (Fri, 24 Jun 2022).

HostnameOSArch (*)R versionInstalled pkgs
nebbiolo1Linux (Ubuntu 20.04.4 LTS)x86_644.2.0 (2022-04-22) -- "Vigorous Calisthenics" 4380
palomino3Windows Server 2022 Datacenterx644.2.0 (2022-04-22 ucrt) -- "Vigorous Calisthenics" 4156
merida1macOS 10.14.6 Mojavex86_644.2.0 (2022-04-22) -- "Vigorous Calisthenics" 4221
Click on any hostname to see more info about the system (e.g. compilers)      (*) as reported by 'uname -p', except on Windows and Mac OS X

CHECK results for RCy3 on palomino3


To the developers/maintainers of the RCy3 package:
- Please allow up to 24 hours (and sometimes 48 hours) for your latest push to git@git.bioconductor.org:packages/RCy3.git to
reflect on this report. See How and When does the builder pull? When will my changes propagate? for more information.
- Make sure to use the following settings in order to reproduce any error or warning you see on this page.

raw results

Package 1595/2140HostnameOS / ArchINSTALLBUILDCHECKBUILD BIN
RCy3 2.16.0  (landing page)
Alex Pico
Snapshot Date: 2022-06-23 13:55:15 -0400 (Thu, 23 Jun 2022)
git_url: https://git.bioconductor.org/packages/RCy3
git_branch: RELEASE_3_15
git_last_commit: 9488419
git_last_commit_date: 2022-04-26 11:27:59 -0400 (Tue, 26 Apr 2022)
nebbiolo1Linux (Ubuntu 20.04.4 LTS) / x86_64  OK    OK    OK  UNNEEDED, same version is already published
palomino3Windows Server 2022 Datacenter / x64  OK    OK    OK    OK  UNNEEDED, same version is already published
merida1macOS 10.14.6 Mojave / x86_64  OK    OK    OK    NA  

Summary

Package: RCy3
Version: 2.16.0
Command: F:\biocbuild\bbs-3.15-bioc\R\bin\R.exe CMD check --no-multiarch --install=check:RCy3.install-out.txt --library=F:\biocbuild\bbs-3.15-bioc\R\library --no-vignettes --timings RCy3_2.16.0.tar.gz
StartedAt: 2022-06-24 04:03:13 -0400 (Fri, 24 Jun 2022)
EndedAt: 2022-06-24 04:04:55 -0400 (Fri, 24 Jun 2022)
EllapsedTime: 102.3 seconds
RetCode: 0
Status:   OK  
CheckDir: RCy3.Rcheck
Warnings: 0

Command output

##############################################################################
##############################################################################
###
### Running command:
###
###   F:\biocbuild\bbs-3.15-bioc\R\bin\R.exe CMD check --no-multiarch --install=check:RCy3.install-out.txt --library=F:\biocbuild\bbs-3.15-bioc\R\library --no-vignettes --timings RCy3_2.16.0.tar.gz
###
##############################################################################
##############################################################################


* using log directory 'F:/biocbuild/bbs-3.15-bioc/meat/RCy3.Rcheck'
* using R version 4.2.0 (2022-04-22 ucrt)
* using platform: x86_64-w64-mingw32 (64-bit)
* using session charset: UTF-8
* using option '--no-vignettes'
* checking for file 'RCy3/DESCRIPTION' ... OK
* checking extension type ... Package
* this is package 'RCy3' version '2.16.0'
* checking package namespace information ... OK
* checking package dependencies ... OK
* checking if this is a source package ... OK
* checking if there is a namespace ... OK
* checking for hidden files and directories ... NOTE
Found the following hidden files and directories:
  .travis.yml
These were most likely included in error. See section 'Package
structure' in the 'Writing R Extensions' manual.
* checking for portable file names ... OK
* checking whether package 'RCy3' can be installed ... OK
* checking installed package size ... OK
* checking package directory ... OK
* checking 'build' directory ... OK
* checking DESCRIPTION meta-information ... OK
* checking top-level files ... OK
* checking for left-over files ... OK
* checking index information ... OK
* checking package subdirectories ... OK
* checking R files for non-ASCII characters ... OK
* checking R files for syntax errors ... OK
* checking whether the package can be loaded ... OK
* checking whether the package can be loaded with stated dependencies ... OK
* checking whether the package can be unloaded cleanly ... OK
* checking whether the namespace can be loaded with stated dependencies ... OK
* checking whether the namespace can be unloaded cleanly ... OK
* checking dependencies in R code ... OK
* checking S3 generic/method consistency ... OK
* checking replacement functions ... OK
* checking foreign function calls ... OK
* checking R code for possible problems ... NOTE
createNetworkFromDataFrames: no visible binding for global variable
  'SUID'
Undefined global functions or variables:
  SUID
* checking Rd files ... OK
* checking Rd metadata ... OK
* checking Rd cross-references ... OK
* checking for missing documentation entries ... OK
* checking for code/documentation mismatches ... OK
* checking Rd \usage sections ... OK
* checking Rd contents ... OK
* checking for unstated dependencies in examples ... OK
* checking files in 'vignettes' ... OK
* checking examples ... OK
* checking for unstated dependencies in 'tests' ... OK
* checking tests ...
  Running 'runTests.R'
 OK
* checking for unstated dependencies in vignettes ... OK
* checking package vignettes in 'inst/doc' ... OK
* checking running R code from vignettes ... SKIPPED
* checking re-building of vignette outputs ... SKIPPED
* checking PDF version of manual ... OK
* DONE

Status: 2 NOTEs
See
  'F:/biocbuild/bbs-3.15-bioc/meat/RCy3.Rcheck/00check.log'
for details.



Installation output

RCy3.Rcheck/00install.out

##############################################################################
##############################################################################
###
### Running command:
###
###   F:\biocbuild\bbs-3.15-bioc\R\bin\R.exe CMD INSTALL RCy3
###
##############################################################################
##############################################################################


* installing to library 'F:/biocbuild/bbs-3.15-bioc/R/library'
* installing *source* package 'RCy3' ...
** using staged installation
** R
** inst
** byte-compile and prepare package for lazy loading
** help
*** installing help indices
** building package indices
** installing vignettes
** testing if installed package can be loaded from temporary location
** testing if installed package can be loaded from final location
** testing if installed package keeps a record of temporary installation path
* DONE (RCy3)

Tests output

RCy3.Rcheck/tests/runTests.Rout


R version 4.2.0 (2022-04-22 ucrt) -- "Vigorous Calisthenics"
Copyright (C) 2022 The R Foundation for Statistical Computing
Platform: x86_64-w64-mingw32/x64 (64-bit)

R is free software and comes with ABSOLUTELY NO WARRANTY.
You are welcome to redistribute it under certain conditions.
Type 'license()' or 'licence()' for distribution details.

R is a collaborative project with many contributors.
Type 'contributors()' for more information and
'citation()' on how to cite R or R packages in publications.

Type 'demo()' for some demos, 'help()' for on-line help, or
'help.start()' for an HTML browser interface to help.
Type 'q()' to quit R.

> # tests disabled as the Bioconductor build system no longer supports interactive sessions
> #require(RCy3) || stop("unable to load RCy3")
> #BiocGenerics:::testPackage('RCy3')
> 
> proc.time()
   user  system elapsed 
   0.15    0.04    0.20 

Example timings

RCy3.Rcheck/RCy3-Ex.timings

nameusersystemelapsed
AddToGroup000
RemoveFromGroup000
UpdateAnnotationBoundedText000
addAnnotationBoundedText000
addAnnotationImage000
addAnnotationShape000
addAnnotationText0.000.020.01
addCyEdges000
addCyNodes000
analyzeNetwork000
applyFilter000
bundleEdges000
checkNotebookIsRunning000
checkRunningRemote000
clearEdgeBends000
clearEdgePropertyBypass000
clearNetworkCenterBypass000
clearNetworkPropertyBypass000
clearNetworkZoomBypass000
clearNodeOpacityBypass000
clearNodePropertyBypass000
clearSelection000
cloneNetwork000
closeSession000
collapseGroup000
commandEcho000
commandOpenDialog000
commandPause000
commandQuit000
commandRunFile000
commandSleep000
commandsAPI000
commandsGET000
commandsHelp000
commandsPOST000
commandsRun000
copyVisualStyle000
createColumnFilter000
createCompositeFilter000
createDegreeFilter000
createGraphFromNetwork000
createGroup000
createGroupByColumn000
createIgraphFromNetwork000
createNetworkFromDataFrames000
createNetworkFromGraph000
createNetworkFromIgraph000
createSubnetwork000
createView000
createVisualStyle000
cybrowserClose000
cybrowserDialog000
cybrowserHide000
cybrowserList000
cybrowserSend000
cybrowserShow000
cybrowserVersion000
cyrestAPI000
cyrestDELETE000
cyrestGET000
cyrestPOST000
cyrestPUT000
cytoscapeApiVersions000
cytoscapeFreeMemory000
cytoscapeMemoryStatus000
cytoscapeNumberOfCores000
cytoscapePing000
cytoscapeVersionInfo000
deleteAllNetworks000
deleteAnnotation000
deleteDuplicateEdges000
deleteGroup000
deleteNetwork000
deleteSelectedEdges000
deleteSelectedNodes0.010.000.01
deleteSelfLoops000
deleteStyleMapping000
deleteTableColumn000
deleteVisualStyle000
diffusionAdvanced000
diffusionBasic000
disableApp000
doInitializeSandbox000
doRequestRemote000
doSetSandbox000
dockPanel000
dot-exportShowImage000
dot-getDefaultSandbox000
dot-getRequester000
enableApp000
expandGroup000
exportFilters000
exportImage000
exportNetwork000
exportNetworkToNDEx000
exportVisualStyles000
findRemoteCytoscape000
fitContent000
floatPanel000
getAbsSandboxPath000
getAllEdges000
getAllNodes000
getAllStyleMappings000
getAnnotationList000
getAppInformation000
getAppStatus000
getAppUpdates000
getArrowShapes000
getAvailableApps000
getBackgroundColorDefault000
getBrowserClientChannel000
getBrowserClientJs000
getCollectionList000
getCollectionName000
getCollectionNetworks000
getCollectionSuid000
getCurrentSandbox000
getCurrentSandboxName000
getCurrentSandboxPath000
getCurrentStyle000
getDefaultSandbox000
getDefaultSandboxPath000
getDisabledApps000
getEdgeColor000
getEdgeCount000
getEdgeInfo000
getEdgeLineStyle000
getEdgeLineWidth000
getEdgeProperty000
getEdgeSelectionColorDefault000
getEdgeTargetArrowShape000
getFilterList000
getFirstNeighbors000
getGroupInfo000
getInstalledApps000
getJupyterBridgeURL000
getLayoutNameMapping000
getLayoutNames000
getLayoutPropertyNames000
getLayoutPropertyType000
getLayoutPropertyValue000
getLineStyles000
getNetworkCenter000
getNetworkCount000
getNetworkList000
getNetworkNDExId000
getNetworkName000
getNetworkProperty000
getNetworkSuid000
getNetworkViewSuid000
getNetworkViews000
getNetworkZoom000
getNodeColor000
getNodeCount000
getNodeHeight000
getNodePosition000
getNodeProperty000
getNodeSelectionColorDefault000
getNodeShapes000
getNodeSize000
getNodeWidth000
getNotebookIsRunning000
getSandboxReinitialize000
getSelectedEdgeCount000
getSelectedEdges000
getSelectedNodeCount000
getSelectedNodes000
getStyleDependencies000
getStyleMapping000
getTableColumnNames000
getTableColumnTypes000
getTableColumns000
getTableValue000
getUninstalledApps000
getVisualPropertyDefault000
getVisualPropertyNames000
getVisualStyleNames000
groupAnnotation000
hideAllPanels000
hideEdges000
hideNodes000
hidePanel000
hideSelectedEdges000
hideSelectedNodes000
importFilters000
importNetworkFromFile000
importNetworkFromNDEx000
importVisualStyles000
installApp0.000.020.01
invertEdgeSelection000
invertNodeSelection000
layoutCopycat000
layoutNetwork000
listGroups000
lockNodeDimensions000
makeSimpleGraph0.060.000.06
makeSimpleIgraph0.080.000.08
mapTableColumn000
mapVisualProperty000
matchArrowColorToEdge000
mergeNetworks000
notebookExportShowImage000
notebookShowImage000
openAppStore000
openSession000
paletteColorBrewerAccent0.010.000.01
paletteColorBrewerBlues000
paletteColorBrewerBrBG000
paletteColorBrewerBuGn000
paletteColorBrewerBuPu000
paletteColorBrewerDark2000
paletteColorBrewerGnBu000
paletteColorBrewerGreens000
paletteColorBrewerGreys000
paletteColorBrewerOrRd000
paletteColorBrewerOranges0.020.000.02
paletteColorBrewerPRGn000
paletteColorBrewerPaired000
paletteColorBrewerPastel1000
paletteColorBrewerPastel2000
paletteColorBrewerPiYG000
paletteColorBrewerPuBu000
paletteColorBrewerPuBuGn000
paletteColorBrewerPuOr000
paletteColorBrewerPuRd000
paletteColorBrewerPurples000
paletteColorBrewerRdBu000
paletteColorBrewerRdPu000
paletteColorBrewerRdYlBu000
paletteColorBrewerReds000
paletteColorBrewerSet1000
paletteColorBrewerSet2000
paletteColorBrewerSet3000
paletteColorBrewerYlGn000
paletteColorBrewerYlGnBu000
paletteColorBrewerYlOrBr000
paletteColorBrewerYlOrRd000
paletteColorRandom000
removeNodeCustomGraphics000
renameNetwork000
renameTableColumn000
resetDefaultSandbox000
runningRemoteCheck000
sandboxGetFileInfo000
sandboxGetFrom000
sandboxInitializer000
sandboxRemove000
sandboxRemoveFile000
sandboxSendTo000
sandboxSet000
sandboxUrlTo000
saveSession000
selectAll000
selectAllEdges000
selectAllNodes0.000.020.02
selectEdges000
selectEdgesAdjacentToSelectedNodes000
selectEdgesConnectingSelectedNodes000
selectFirstNeighbors000
selectNodes000
selectNodesConnectedBySelectedEdges000
setBackgroundColorDefault000
setCatchupFilterSecs000
setCatchupNetworkSecs000
setCurrentNetwork000
setCurrentSandbox000
setCurrentView000
setDefaultSandbox000
setDefaultSandboxPath000
setEdgeColorBypass000
setEdgeColorDefault000
setEdgeColorMapping000
setEdgeFontFaceBypass000
setEdgeFontFaceDefault000
setEdgeFontFaceMapping000
setEdgeFontSizeBypass000
setEdgeFontSizeDefault000
setEdgeFontSizeMapping000
setEdgeLabelBypass000
setEdgeLabelColorBypass000
setEdgeLabelColorDefault000
setEdgeLabelColorMapping000
setEdgeLabelDefault000
setEdgeLabelMapping000
setEdgeLabelOpacityBypass000
setEdgeLabelOpacityDefault000
setEdgeLabelOpacityMapping000
setEdgeLineStyleBypass000
setEdgeLineStyleDefault000
setEdgeLineStyleMapping000
setEdgeLineWidthBypass000
setEdgeLineWidthDefault000
setEdgeLineWidthMapping000
setEdgeOpacityBypass000
setEdgeOpacityDefault000
setEdgeOpacityMapping000
setEdgePropertyBypass000
setEdgeSelectionColorDefault000
setEdgeSourceArrowColorBypass000
setEdgeSourceArrowColorDefault000
setEdgeSourceArrowColorMapping000
setEdgeSourceArrowMapping000
setEdgeSourceArrowShapeBypass000
setEdgeSourceArrowShapeDefault000
setEdgeSourceArrowShapeMapping000
setEdgeTargetArrowColorBypass000
setEdgeTargetArrowColorDefault000
setEdgeTargetArrowColorMapping000
setEdgeTargetArrowMapping000
setEdgeTargetArrowShapeBypass000
setEdgeTargetArrowShapeDefault000
setEdgeTargetArrowShapeMapping000
setEdgeTooltipBypass000
setEdgeTooltipDefault000
setEdgeTooltipMapping000
setLayoutProperties000
setModelPropagationSecs000
setNetworkCenterBypass000
setNetworkPropertyBypass000
setNetworkZoomBypass000
setNodeBorderColorBypass000
setNodeBorderColorDefault000
setNodeBorderColorMapping000
setNodeBorderOpacityBypass000
setNodeBorderOpacityDefault000
setNodeBorderOpacityMapping000
setNodeBorderWidthBypass000
setNodeBorderWidthDefault000
setNodeBorderWidthMapping000
setNodeColorBypass000
setNodeColorDefault000
setNodeColorMapping000
setNodeComboOpacityMapping000
setNodeCustomBarChart000
setNodeCustomBoxChart000
setNodeCustomHeatMapChart000
setNodeCustomLineChart000
setNodeCustomLinearGradient000
setNodeCustomPieChart000
setNodeCustomPosition000
setNodeCustomRadialGradient000
setNodeCustomRingChart000
setNodeFillOpacityBypass000
setNodeFillOpacityDefault000
setNodeFillOpacityMapping000
setNodeFontFaceBypass000
setNodeFontFaceDefault000
setNodeFontFaceMapping000
setNodeFontSizeBypass000
setNodeFontSizeDefault000
setNodeFontSizeMapping000
setNodeHeightBypass000
setNodeHeightDefault000
setNodeHeightMapping000
setNodeLabelBypass000
setNodeLabelColorBypass000
setNodeLabelColorDefault000
setNodeLabelColorMapping000
setNodeLabelDefault000
setNodeLabelMapping000
setNodeLabelOpacityBypass000
setNodeLabelOpacityDefault000
setNodeLabelOpacityMapping000
setNodeOpacityBypass000
setNodePropertyBypass000
setNodeSelectionColorDefault000
setNodeShapeBypass000
setNodeShapeDefault000
setNodeShapeMapping000
setNodeSizeBypass000
setNodeSizeDefault000
setNodeSizeMapping000
setNodeTooltipBypass000
setNodeTooltipDefault000
setNodeTooltipMapping000
setNodeWidthBypass000
setNodeWidthDefault000
setNodeWidthMapping000
setNotebookIsRunning000
setSandboxReinitialize000
setStyleDependencies000
setVisualPropertyDefault000
setVisualStyle000
syncNodeCustomGraphicsSize000
toggleGraphicsDetails000
ungroupAnnotation000
unhideAll000
unhideEdges000
unhideNodes000
uninstallApp000
updateAnnotationImage000
updateAnnotationShape000
updateAnnotationText000
updateApp000
updateGroupAnnotation000
updateNetworkInNDEx000
updateStyleDefaults000
updateStyleMapping000