Back to Multiple platform build/check report for BioC 3.15
ABCDEFGHIJKLMNOPQ[R]STUVWXYZ

This page was generated on 2022-06-24 12:08:02 -0400 (Fri, 24 Jun 2022).

HostnameOSArch (*)R versionInstalled pkgs
nebbiolo1Linux (Ubuntu 20.04.4 LTS)x86_644.2.0 (2022-04-22) -- "Vigorous Calisthenics" 4380
palomino3Windows Server 2022 Datacenterx644.2.0 (2022-04-22 ucrt) -- "Vigorous Calisthenics" 4156
merida1macOS 10.14.6 Mojavex86_644.2.0 (2022-04-22) -- "Vigorous Calisthenics" 4221
Click on any hostname to see more info about the system (e.g. compilers)      (*) as reported by 'uname -p', except on Windows and Mac OS X

CHECK results for RCy3 on merida1


To the developers/maintainers of the RCy3 package:
- Please allow up to 24 hours (and sometimes 48 hours) for your latest push to git@git.bioconductor.org:packages/RCy3.git to
reflect on this report. See How and When does the builder pull? When will my changes propagate? for more information.
- Make sure to use the following settings in order to reproduce any error or warning you see on this page.

raw results

Package 1595/2140HostnameOS / ArchINSTALLBUILDCHECKBUILD BIN
RCy3 2.16.0  (landing page)
Alex Pico
Snapshot Date: 2022-06-23 13:55:15 -0400 (Thu, 23 Jun 2022)
git_url: https://git.bioconductor.org/packages/RCy3
git_branch: RELEASE_3_15
git_last_commit: 9488419
git_last_commit_date: 2022-04-26 11:27:59 -0400 (Tue, 26 Apr 2022)
nebbiolo1Linux (Ubuntu 20.04.4 LTS) / x86_64  OK    OK    OK  UNNEEDED, same version is already published
palomino3Windows Server 2022 Datacenter / x64  OK    OK    OK    OK  UNNEEDED, same version is already published
merida1macOS 10.14.6 Mojave / x86_64  OK    OK    OK    NA  

Summary

Package: RCy3
Version: 2.16.0
Command: /Library/Frameworks/R.framework/Resources/bin/R CMD check --install=check:RCy3.install-out.txt --library=/Library/Frameworks/R.framework/Resources/library --no-vignettes --timings RCy3_2.16.0.tar.gz
StartedAt: 2022-06-24 07:24:11 -0400 (Fri, 24 Jun 2022)
EndedAt: 2022-06-24 07:26:28 -0400 (Fri, 24 Jun 2022)
EllapsedTime: 136.8 seconds
RetCode: 0
Status:   OK  
CheckDir: RCy3.Rcheck
Warnings: 0

Command output

##############################################################################
##############################################################################
###
### Running command:
###
###   /Library/Frameworks/R.framework/Resources/bin/R CMD check --install=check:RCy3.install-out.txt --library=/Library/Frameworks/R.framework/Resources/library --no-vignettes --timings RCy3_2.16.0.tar.gz
###
##############################################################################
##############################################################################


* using log directory ‘/Users/biocbuild/bbs-3.15-bioc/meat/RCy3.Rcheck’
* using R version 4.2.0 (2022-04-22)
* using platform: x86_64-apple-darwin17.0 (64-bit)
* using session charset: UTF-8
* using option ‘--no-vignettes’
* checking for file ‘RCy3/DESCRIPTION’ ... OK
* checking extension type ... Package
* this is package ‘RCy3’ version ‘2.16.0’
* checking package namespace information ... OK
* checking package dependencies ... OK
* checking if this is a source package ... OK
* checking if there is a namespace ... OK
* checking for hidden files and directories ... NOTE
Found the following hidden files and directories:
  .travis.yml
These were most likely included in error. See section ‘Package
structure’ in the ‘Writing R Extensions’ manual.
* checking for portable file names ... OK
* checking for sufficient/correct file permissions ... OK
* checking whether package ‘RCy3’ can be installed ... OK
* checking installed package size ... OK
* checking package directory ... OK
* checking ‘build’ directory ... OK
* checking DESCRIPTION meta-information ... OK
* checking top-level files ... OK
* checking for left-over files ... OK
* checking index information ... OK
* checking package subdirectories ... OK
* checking R files for non-ASCII characters ... OK
* checking R files for syntax errors ... OK
* checking whether the package can be loaded ... OK
* checking whether the package can be loaded with stated dependencies ... OK
* checking whether the package can be unloaded cleanly ... OK
* checking whether the namespace can be loaded with stated dependencies ... OK
* checking whether the namespace can be unloaded cleanly ... OK
* checking dependencies in R code ... OK
* checking S3 generic/method consistency ... OK
* checking replacement functions ... OK
* checking foreign function calls ... OK
* checking R code for possible problems ... NOTE
createNetworkFromDataFrames: no visible binding for global variable
  ‘SUID’
Undefined global functions or variables:
  SUID
* checking Rd files ... OK
* checking Rd metadata ... OK
* checking Rd cross-references ... OK
* checking for missing documentation entries ... OK
* checking for code/documentation mismatches ... OK
* checking Rd \usage sections ... OK
* checking Rd contents ... OK
* checking for unstated dependencies in examples ... OK
* checking files in ‘vignettes’ ... OK
* checking examples ... OK
* checking for unstated dependencies in ‘tests’ ... OK
* checking tests ...
  Running ‘runTests.R’
 OK
* checking for unstated dependencies in vignettes ... OK
* checking package vignettes in ‘inst/doc’ ... OK
* checking running R code from vignettes ... SKIPPED
* checking re-building of vignette outputs ... SKIPPED
* checking PDF version of manual ... OK
* DONE

Status: 2 NOTEs
See
  ‘/Users/biocbuild/bbs-3.15-bioc/meat/RCy3.Rcheck/00check.log’
for details.



Installation output

RCy3.Rcheck/00install.out

##############################################################################
##############################################################################
###
### Running command:
###
###   /Library/Frameworks/R.framework/Resources/bin/R CMD INSTALL RCy3
###
##############################################################################
##############################################################################


* installing to library ‘/Library/Frameworks/R.framework/Versions/4.2/Resources/library’
* installing *source* package ‘RCy3’ ...
** using staged installation
** R
** inst
** byte-compile and prepare package for lazy loading
** help
*** installing help indices
** building package indices
** installing vignettes
** testing if installed package can be loaded from temporary location
** testing if installed package can be loaded from final location
** testing if installed package keeps a record of temporary installation path
* DONE (RCy3)

Tests output

RCy3.Rcheck/tests/runTests.Rout


R version 4.2.0 (2022-04-22) -- "Vigorous Calisthenics"
Copyright (C) 2022 The R Foundation for Statistical Computing
Platform: x86_64-apple-darwin17.0 (64-bit)

R is free software and comes with ABSOLUTELY NO WARRANTY.
You are welcome to redistribute it under certain conditions.
Type 'license()' or 'licence()' for distribution details.

R is a collaborative project with many contributors.
Type 'contributors()' for more information and
'citation()' on how to cite R or R packages in publications.

Type 'demo()' for some demos, 'help()' for on-line help, or
'help.start()' for an HTML browser interface to help.
Type 'q()' to quit R.

> # tests disabled as the Bioconductor build system no longer supports interactive sessions
> #require(RCy3) || stop("unable to load RCy3")
> #BiocGenerics:::testPackage('RCy3')
> 
> proc.time()
   user  system elapsed 
  0.351   0.082   0.415 

Example timings

RCy3.Rcheck/RCy3-Ex.timings

nameusersystemelapsed
AddToGroup000
RemoveFromGroup000
UpdateAnnotationBoundedText000
addAnnotationBoundedText000
addAnnotationImage000
addAnnotationShape0.0010.0000.001
addAnnotationText000
addCyEdges000
addCyNodes000
analyzeNetwork000
applyFilter000
bundleEdges000
checkNotebookIsRunning0.0000.0000.001
checkRunningRemote000
clearEdgeBends0.0010.0000.001
clearEdgePropertyBypass000
clearNetworkCenterBypass000
clearNetworkPropertyBypass000
clearNetworkZoomBypass0.0000.0000.001
clearNodeOpacityBypass000
clearNodePropertyBypass000
clearSelection0.0000.0000.001
cloneNetwork0.0010.0000.000
closeSession000
collapseGroup0.0000.0010.000
commandEcho000
commandOpenDialog0.0010.0000.000
commandPause000
commandQuit000
commandRunFile000
commandSleep000
commandsAPI000
commandsGET000
commandsHelp0.0010.0000.001
commandsPOST000
commandsRun000
copyVisualStyle000
createColumnFilter000
createCompositeFilter000
createDegreeFilter0.0000.0000.001
createGraphFromNetwork000
createGroup000
createGroupByColumn0.0000.0010.000
createIgraphFromNetwork0.0000.0000.001
createNetworkFromDataFrames0.0010.0000.000
createNetworkFromGraph000
createNetworkFromIgraph0.0000.0000.001
createSubnetwork000
createView000
createVisualStyle000
cybrowserClose0.0000.0010.001
cybrowserDialog000
cybrowserHide0.0010.0000.000
cybrowserList000
cybrowserSend000
cybrowserShow0.0000.0010.000
cybrowserVersion000
cyrestAPI000
cyrestDELETE000
cyrestGET000
cyrestPOST0.0000.0010.001
cyrestPUT0.0010.0000.001
cytoscapeApiVersions000
cytoscapeFreeMemory000
cytoscapeMemoryStatus000
cytoscapeNumberOfCores000
cytoscapePing000
cytoscapeVersionInfo000
deleteAllNetworks0.0000.0000.001
deleteAnnotation000
deleteDuplicateEdges000
deleteGroup0.0000.0010.000
deleteNetwork000
deleteSelectedEdges000
deleteSelectedNodes0.0000.0010.000
deleteSelfLoops000
deleteStyleMapping000
deleteTableColumn0.0000.0010.000
deleteVisualStyle0.0000.0000.001
diffusionAdvanced000
diffusionBasic0.0000.0010.000
disableApp000
doInitializeSandbox000
doRequestRemote0.0000.0010.000
doSetSandbox000
dockPanel000
dot-exportShowImage000
dot-getDefaultSandbox000
dot-getRequester000
enableApp0.0010.0000.000
expandGroup0.0010.0000.000
exportFilters000
exportImage000
exportNetwork000
exportNetworkToNDEx000
exportVisualStyles0.0010.0000.000
findRemoteCytoscape0.0010.0000.000
fitContent000
floatPanel000
getAbsSandboxPath000
getAllEdges000
getAllNodes000
getAllStyleMappings000
getAnnotationList000
getAppInformation000
getAppStatus000
getAppUpdates000
getArrowShapes0.0000.0000.001
getAvailableApps0.0010.0000.000
getBackgroundColorDefault000
getBrowserClientChannel0.0000.0010.000
getBrowserClientJs000
getCollectionList0.0000.0000.001
getCollectionName000
getCollectionNetworks000
getCollectionSuid000
getCurrentSandbox0.0000.0000.002
getCurrentSandboxName000
getCurrentSandboxPath000
getCurrentStyle0.0010.0000.000
getDefaultSandbox0.0010.0010.001
getDefaultSandboxPath000
getDisabledApps000
getEdgeColor000
getEdgeCount0.0000.0000.001
getEdgeInfo000
getEdgeLineStyle000
getEdgeLineWidth000
getEdgeProperty000
getEdgeSelectionColorDefault0.0000.0000.001
getEdgeTargetArrowShape000
getFilterList0.0000.0000.001
getFirstNeighbors0.0000.0010.000
getGroupInfo000
getInstalledApps0.0000.0000.001
getJupyterBridgeURL000
getLayoutNameMapping000
getLayoutNames000
getLayoutPropertyNames000
getLayoutPropertyType000
getLayoutPropertyValue0.0000.0000.001
getLineStyles000
getNetworkCenter0.0000.0010.000
getNetworkCount000
getNetworkList0.0000.0000.001
getNetworkNDExId0.0010.0000.000
getNetworkName000
getNetworkProperty0.0000.0000.001
getNetworkSuid000
getNetworkViewSuid0.0000.0010.000
getNetworkViews0.0000.0000.001
getNetworkZoom000
getNodeColor000
getNodeCount0.0010.0000.000
getNodeHeight0.0000.0000.001
getNodePosition000
getNodeProperty000
getNodeSelectionColorDefault000
getNodeShapes000
getNodeSize0.0010.0000.001
getNodeWidth0.0000.0010.000
getNotebookIsRunning000
getSandboxReinitialize0.0000.0000.001
getSelectedEdgeCount000
getSelectedEdges000
getSelectedNodeCount000
getSelectedNodes000
getStyleDependencies000
getStyleMapping0.0000.0010.000
getTableColumnNames0.0000.0000.001
getTableColumnTypes000
getTableColumns000
getTableValue000
getUninstalledApps0.0000.0000.001
getVisualPropertyDefault000
getVisualPropertyNames0.0010.0000.000
getVisualStyleNames0.0000.0010.000
groupAnnotation0.0010.0000.000
hideAllPanels000
hideEdges0.0000.0000.001
hideNodes000
hidePanel000
hideSelectedEdges000
hideSelectedNodes0.0000.0000.001
importFilters0.0000.0000.001
importNetworkFromFile000
importNetworkFromNDEx000
importVisualStyles0.0010.0000.001
installApp000
invertEdgeSelection000
invertNodeSelection000
layoutCopycat000
layoutNetwork000
listGroups0.0000.0000.001
lockNodeDimensions000
makeSimpleGraph0.1270.0010.141
makeSimpleIgraph0.1040.0070.118
mapTableColumn000
mapVisualProperty000
matchArrowColorToEdge000
mergeNetworks000
notebookExportShowImage0.0000.0000.001
notebookShowImage000
openAppStore000
openSession0.0010.0000.000
paletteColorBrewerAccent0.0100.0010.010
paletteColorBrewerBlues0.0000.0010.000
paletteColorBrewerBrBG0.0000.0000.001
paletteColorBrewerBuGn0.0000.0010.000
paletteColorBrewerBuPu000
paletteColorBrewerDark20.0010.0010.000
paletteColorBrewerGnBu0.0010.0000.001
paletteColorBrewerGreens0.0010.0000.000
paletteColorBrewerGreys000
paletteColorBrewerOrRd0.0010.0000.001
paletteColorBrewerOranges0.0010.0000.000
paletteColorBrewerPRGn0.0000.0000.001
paletteColorBrewerPaired000
paletteColorBrewerPastel10.0000.0000.001
paletteColorBrewerPastel2000
paletteColorBrewerPiYG0.0000.0010.001
paletteColorBrewerPuBu000
paletteColorBrewerPuBuGn0.0010.0010.000
paletteColorBrewerPuOr0.0000.0000.001
paletteColorBrewerPuRd000
paletteColorBrewerPurples000
paletteColorBrewerRdBu0.0000.0000.001
paletteColorBrewerRdPu0.0010.0000.000
paletteColorBrewerRdYlBu0.0000.0000.001
paletteColorBrewerReds000
paletteColorBrewerSet1000
paletteColorBrewerSet20.0000.0000.001
paletteColorBrewerSet30.0010.0000.000
paletteColorBrewerYlGn0.0010.0010.001
paletteColorBrewerYlGnBu0.0000.0000.001
paletteColorBrewerYlOrBr0.0000.0010.001
paletteColorBrewerYlOrRd000
paletteColorRandom0.0010.0010.001
removeNodeCustomGraphics0.0010.0000.000
renameNetwork0.0010.0010.001
renameTableColumn0.0010.0000.000
resetDefaultSandbox000
runningRemoteCheck000
sandboxGetFileInfo000
sandboxGetFrom000
sandboxInitializer000
sandboxRemove000
sandboxRemoveFile000
sandboxSendTo000
sandboxSet0.0000.0000.001
sandboxUrlTo0.0010.0000.000
saveSession000
selectAll0.0000.0010.001
selectAllEdges000
selectAllNodes0.0000.0000.001
selectEdges000
selectEdgesAdjacentToSelectedNodes000
selectEdgesConnectingSelectedNodes000
selectFirstNeighbors000
selectNodes0.0010.0000.000
selectNodesConnectedBySelectedEdges000
setBackgroundColorDefault0.0000.0000.001
setCatchupFilterSecs0.0010.0000.000
setCatchupNetworkSecs0.0010.0000.000
setCurrentNetwork0.0010.0000.000
setCurrentSandbox0.0000.0000.001
setCurrentView000
setDefaultSandbox000
setDefaultSandboxPath0.0000.0000.001
setEdgeColorBypass000
setEdgeColorDefault0.0000.0000.001
setEdgeColorMapping000
setEdgeFontFaceBypass000
setEdgeFontFaceDefault000
setEdgeFontFaceMapping0.0010.0000.001
setEdgeFontSizeBypass000
setEdgeFontSizeDefault000
setEdgeFontSizeMapping000
setEdgeLabelBypass000
setEdgeLabelColorBypass000
setEdgeLabelColorDefault000
setEdgeLabelColorMapping0.0000.0000.001
setEdgeLabelDefault000
setEdgeLabelMapping0.0010.0000.000
setEdgeLabelOpacityBypass0.0000.0010.000
setEdgeLabelOpacityDefault000
setEdgeLabelOpacityMapping000
setEdgeLineStyleBypass000
setEdgeLineStyleDefault000
setEdgeLineStyleMapping0.0000.0010.000
setEdgeLineWidthBypass0.0000.0000.001
setEdgeLineWidthDefault0.0000.0000.001
setEdgeLineWidthMapping000
setEdgeOpacityBypass000
setEdgeOpacityDefault0.0010.0010.001
setEdgeOpacityMapping000
setEdgePropertyBypass000
setEdgeSelectionColorDefault0.0000.0000.001
setEdgeSourceArrowColorBypass0.0000.0000.001
setEdgeSourceArrowColorDefault000
setEdgeSourceArrowColorMapping000
setEdgeSourceArrowMapping000
setEdgeSourceArrowShapeBypass000
setEdgeSourceArrowShapeDefault000
setEdgeSourceArrowShapeMapping0.0010.0000.000
setEdgeTargetArrowColorBypass000
setEdgeTargetArrowColorDefault000
setEdgeTargetArrowColorMapping0.0000.0010.000
setEdgeTargetArrowMapping000
setEdgeTargetArrowShapeBypass0.0000.0000.001
setEdgeTargetArrowShapeDefault000
setEdgeTargetArrowShapeMapping000
setEdgeTooltipBypass0.0000.0010.001
setEdgeTooltipDefault000
setEdgeTooltipMapping0.0010.0000.000
setLayoutProperties0.0010.0000.001
setModelPropagationSecs0.0010.0000.000
setNetworkCenterBypass0.0010.0000.001
setNetworkPropertyBypass000
setNetworkZoomBypass000
setNodeBorderColorBypass000
setNodeBorderColorDefault000
setNodeBorderColorMapping000
setNodeBorderOpacityBypass000
setNodeBorderOpacityDefault000
setNodeBorderOpacityMapping000
setNodeBorderWidthBypass000
setNodeBorderWidthDefault0.0010.0000.000
setNodeBorderWidthMapping0.0000.0000.001
setNodeColorBypass000
setNodeColorDefault0.0000.0010.000
setNodeColorMapping000
setNodeComboOpacityMapping000
setNodeCustomBarChart000
setNodeCustomBoxChart000
setNodeCustomHeatMapChart000
setNodeCustomLineChart0.0000.0000.001
setNodeCustomLinearGradient000
setNodeCustomPieChart000
setNodeCustomPosition0.0010.0000.000
setNodeCustomRadialGradient0.0000.0000.001
setNodeCustomRingChart0.0000.0000.001
setNodeFillOpacityBypass000
setNodeFillOpacityDefault000
setNodeFillOpacityMapping000
setNodeFontFaceBypass000
setNodeFontFaceDefault000
setNodeFontFaceMapping000
setNodeFontSizeBypass0.0010.0000.001
setNodeFontSizeDefault000
setNodeFontSizeMapping000
setNodeHeightBypass000
setNodeHeightDefault0.0000.0010.001
setNodeHeightMapping000
setNodeLabelBypass000
setNodeLabelColorBypass000
setNodeLabelColorDefault0.0000.0000.001
setNodeLabelColorMapping000
setNodeLabelDefault000
setNodeLabelMapping0.0010.0000.001
setNodeLabelOpacityBypass000
setNodeLabelOpacityDefault000
setNodeLabelOpacityMapping000
setNodeOpacityBypass000
setNodePropertyBypass0.0000.0000.001
setNodeSelectionColorDefault000
setNodeShapeBypass000
setNodeShapeDefault0.0000.0010.000
setNodeShapeMapping000
setNodeSizeBypass000
setNodeSizeDefault000
setNodeSizeMapping000
setNodeTooltipBypass000
setNodeTooltipDefault0.0000.0000.001
setNodeTooltipMapping000
setNodeWidthBypass0.0010.0000.000
setNodeWidthDefault000
setNodeWidthMapping000
setNotebookIsRunning000
setSandboxReinitialize000
setStyleDependencies0.0000.0000.001
setVisualPropertyDefault000
setVisualStyle000
syncNodeCustomGraphicsSize000
toggleGraphicsDetails000
ungroupAnnotation0.0000.0010.000
unhideAll0.0000.0000.001
unhideEdges0.0000.0000.001
unhideNodes000
uninstallApp000
updateAnnotationImage000
updateAnnotationShape000
updateAnnotationText0.0010.0000.000
updateApp000
updateGroupAnnotation000
updateNetworkInNDEx000
updateStyleDefaults000
updateStyleMapping000