Index of /checkResults/3.15/bioc-LATEST/Pi/raw-results

[ICO]NameLast modifiedSizeDescription

[DIR]Parent Directory  -  
[   ]info.dcf19-May-2022 01:08 260  
[DIR]merida1/19-May-2022 01:08 -  
[DIR]nebbiolo1/19-May-2022 01:05 -  
[DIR]palomino3/19-May-2022 01:07 -  
[DIR]riesling1/19-Mar-2022 00:08 -