Back to Multiple platform build/check report for BioC 3.15
A[B]CDEFGHIJKLMNOPQRSTUVWXYZ

This page was generated on 2022-03-18 11:07:01 -0400 (Fri, 18 Mar 2022).

HostnameOSArch (*)R versionInstalled pkgs
nebbiolo1Linux (Ubuntu 20.04.4 LTS)x86_64R Under development (unstable) (2022-02-17 r81757) -- "Unsuffered Consequences" 4334
riesling1Windows Server 2019 Standardx64R Under development (unstable) (2021-11-21 r81221) -- "Unsuffered Consequences" 4097
palomino3Windows Server 2022 Datacenterx64R Under development (unstable) (2022-02-17 r81757 ucrt) -- "Unsuffered Consequences" 4083
merida1macOS 10.14.6 Mojavex86_64R Under development (unstable) (2022-03-02 r81842) -- "Unsuffered Consequences" 4134
Click on any hostname to see more info about the system (e.g. compilers)      (*) as reported by 'uname -p', except on Windows and Mac OS X

BUILD results for BindingSiteFinder on riesling1


To the developers/maintainers of the BindingSiteFinder package:
- Please allow up to 24 hours (and sometimes 48 hours) for your latest push to git@git.bioconductor.org:packages/BindingSiteFinder.git to
reflect on this report. See How and When does the builder pull? When will my changes propagate? here for more information.
- Make sure to use the following settings in order to reproduce any error or warning you see on this page.

raw results

Package 148/2090HostnameOS / ArchINSTALLBUILDCHECKBUILD BIN
BindingSiteFinder 1.1.3  (landing page)
Mirko Br├╝ggemann
Snapshot Date: 2022-03-17 13:55:23 -0400 (Thu, 17 Mar 2022)
git_url: https://git.bioconductor.org/packages/BindingSiteFinder
git_branch: master
git_last_commit: 7aeb915
git_last_commit_date: 2022-01-04 05:40:30 -0400 (Tue, 04 Jan 2022)
nebbiolo1Linux (Ubuntu 20.04.4 LTS) / x86_64  OK    OK    OK  UNNEEDED, same version is already published
riesling1Windows Server 2019 Standard / x64  OK    OK    OK    OK  
palomino3Windows Server 2022 Datacenter / x64  OK    OK    OK    OK  UNNEEDED, same version is already published
merida1macOS 10.14.6 Mojave / x86_64  OK    OK    OK    OK  UNNEEDED, same version is already published

Summary

Package: BindingSiteFinder
Version: 1.1.3
Command: chmod a+r BindingSiteFinder -R && D:\biocbuild\bbs-3.15-bioc\R\bin\R.exe CMD build --keep-empty-dirs --no-resave-data BindingSiteFinder
StartedAt: 2022-03-17 16:25:35 -0400 (Thu, 17 Mar 2022)
EndedAt: 2022-03-17 16:27:17 -0400 (Thu, 17 Mar 2022)
EllapsedTime: 101.5 seconds
RetCode: 0
Status:   OK  
PackageFile: BindingSiteFinder_1.1.3.tar.gz
PackageFileSize: 2.509 MiB

Command output

##############################################################################
##############################################################################
###
### Running command:
###
###   chmod a+r BindingSiteFinder -R && D:\biocbuild\bbs-3.15-bioc\R\bin\R.exe CMD build --keep-empty-dirs --no-resave-data BindingSiteFinder
###
##############################################################################
##############################################################################


* checking for file 'BindingSiteFinder/DESCRIPTION' ... OK
* preparing 'BindingSiteFinder':
* checking DESCRIPTION meta-information ... OK
* installing the package to build vignettes
* creating vignettes ... OK
* checking for LF line-endings in source and make files and shell scripts
* checking for empty or unneeded directories
* building 'BindingSiteFinder_1.1.3.tar.gz'