Back to Build/check report for BioC 3.14 experimental data
ABCDEF[G]HIJKLMNOPQRSTUVWXYZ

This page was generated on 2021-09-23 15:52:01 -0400 (Thu, 23 Sep 2021).

All results for package geneLenDataBase

To the developers/maintainers of the geneLenDataBase package:
Make sure to use the following settings in order to reproduce any error or warning you see on this page.

raw results

Package 138/401HostnameOS / ArchINSTALLBUILDCHECK
geneLenDataBase 1.29.0  (landing page)
Matthew Young , Nadia Davidson
Snapshot Date: 2021-09-23 09:30:02 -0400 (Thu, 23 Sep 2021)
git_url: https://git.bioconductor.org/packages/geneLenDataBase
git_branch: master
git_last_commit: bf9926e
git_last_commit_date: 2021-05-19 11:30:36 -0400 (Wed, 19 May 2021)
nebbiolo2Linux (Ubuntu 20.04.2 LTS) / x86_64  OK    OK    WARNINGS  UNNEEDED, same version is already published