Build/check report for BioC 3.14 experimental data

This page was generated on 2021-12-01 18:35:25 -0500 (Wed, 01 Dec 2021).

Approx. Package Snapshot Date (git pull): 2021-12-01 08:30:01 -0500 (Wed, 01 Dec 2021)

HostnameOSArch (*)Platform label (**)R versionInstalled pkgs
nebbiolo2Linux (Ubuntu 20.04.3 LTS)x86_64x86_64-linux-gnu4.1.2 (2021-11-01) -- "Bird Hippie" 4325
Click on any hostname to see more info about the system (e.g. compilers)      (*) as reported by 'uname -p', except on Windows and Mac OS X      (**) as reported by 'gcc -v'

Package status is indicated by one of the following glyphs
  TIMEOUT  
INSTALL, BUILD, CHECK or BUILD BIN of package took more than 40, 80, 80 or 40 minutes, respectively
  ERROR  
Bad DESCRIPTION file or INSTALL, BUILD or BUILD BIN of package failed, or CHECK produced errors
  WARNINGS  
CHECK of package produced warnings
  OK  
INSTALL, BUILD, CHECK or BUILD BIN of package was OK
skipped
CHECK or BUILD BIN of package was skipped because the BUILD step failed
  NA  
BUILD, CHECK or BUILD BIN result is not available because of an anomaly in the Build System
Click on any glyph in the report below to access the detailed report.
Package propagation status is indicated by one of the following LEDs
YES YES: Package was propagated because it didn't previously exist or version was bumped
NO NO: Package was not propagated because of a problem (impossible dependencies, or version lower than what is already propagated)
UNNEEDED UNNEEDED: Package was not propagated because it is already in the repository with this version. A version bump is required in order to propagate it

A crossed-out package name indicates the package is deprecated


QUICK STATSOS / ArchINSTALLBUILDCHECK
nebbiolo2Linux (Ubuntu 20.04.3 LTS) / x86_64
00408
02406
00124282
A
ABCDEFGHIJKLMNOPQRSTUVWXYZ
PackageMaintainerINSTALLBUILDCHECK
1/408ABAData 1.24.0  (landing page)Steffi Grote  OK    OK    WARNINGS  UNNEEDED, same version is already published
2/408adductData 1.10.0  (landing page)Josie Hayes  OK    OK    OK  UNNEEDED, same version is already published
3/408affycompData 1.32.0  (landing page)Harris Jaffee  OK    OK    OK  UNNEEDED, same version is already published
4/408affydata 1.42.0  (landing page)Harris Jaffee  OK    OK    WARNINGS  UNNEEDED, same version is already published
5/408Affyhgu133A2Expr 1.30.0  (landing page)Zhicheng Ji  OK    OK    OK  UNNEEDED, same version is already published
6/408Affyhgu133aExpr 1.32.0  (landing page)Zhicheng Ji  OK    OK    OK  UNNEEDED, same version is already published
7/408Affyhgu133Plus2Expr 1.28.0  (landing page)Zhicheng Ji  OK    OK    OK  UNNEEDED, same version is already published
8/408AffymetrixDataTestFiles 0.32.0  (landing page)Henrik Bengtsson  OK    OK    OK  UNNEEDED, same version is already published
9/408Affymoe4302Expr 1.32.0  (landing page)Zhicheng Ji  OK    OK    OK  UNNEEDED, same version is already published
10/408airway 1.14.0  (landing page)Michael Love  OK    OK    WARNINGS  UNNEEDED, same version is already published
11/408ALL 1.36.0  (landing page)Robert Gentleman  OK    OK    OK  UNNEEDED, same version is already published
12/408ALLMLL 1.34.0  (landing page)B. M. Bolstad  OK    OK    OK  UNNEEDED, same version is already published
13/408alpineData 1.20.0  (landing page)Michael Love  OK    OK    OK  UNNEEDED, same version is already published
14/408AmpAffyExample 1.34.0  (landing page)Rafael A. Irizarry  OK    OK    WARNINGS  UNNEEDED, same version is already published
15/408AneuFinderData 1.22.0  (landing page)Aaron Taudt  OK    OK    WARNINGS  UNNEEDED, same version is already published
16/408antiProfilesData 1.30.0  (landing page)Hector Corrada Bravo  OK    OK    OK  UNNEEDED, same version is already published
17/408aracne.networks 1.20.0  (landing page)Federico M. Giorgi , Mariano Alvarez  OK    OK    WARNINGS  UNNEEDED, same version is already published
18/408ARRmData 1.30.0  (landing page)Jean-Philippe Fortin  OK    OK    OK  UNNEEDED, same version is already published
19/408AshkenazimSonChr21 1.24.0  (landing page)Who to complain to  OK    OK    OK  UNNEEDED, same version is already published
20/408ASICSdata 1.14.0  (landing page)Gaëlle Lefort  OK    OK    OK  UNNEEDED, same version is already published
21/408AssessORFData 1.12.0  (landing page)Deepank Korandla  OK    OK    OK  UNNEEDED, same version is already published
B
ABCDEFGHIJKLMNOPQRSTUVWXYZ
PackageMaintainerINSTALLBUILDCHECK
22/408bcellViper 1.30.0  (landing page)Mariano Javier Alvarez  OK    OK    OK  UNNEEDED, same version is already published
23/408beadarrayExampleData 1.32.0  (landing page)Mark Dunning  OK    OK    OK  UNNEEDED, same version is already published
24/408BeadArrayUseCases 1.32.0  (landing page)Mike Smith  OK    OK    OK  UNNEEDED, same version is already published
25/408BeadSorted.Saliva.EPIC 1.2.0  (landing page)Jonah Fisher  OK    OK    OK  UNNEEDED, same version is already published
26/408benchmarkfdrData2019 1.8.0  (landing page)Stephanie Hicks  OK    OK    OK  UNNEEDED, same version is already published
27/408beta7 1.32.0  (landing page)Jean Yang  OK    OK    WARNINGS  UNNEEDED, same version is already published
28/408BioImageDbs 1.2.2  (landing page)Satoshi Kume  OK    OK    OK  UNNEEDED, same version is already published
29/408biotmleData 1.18.0  (landing page)Nima Hejazi  OK    OK    WARNINGS  UNNEEDED, same version is already published
30/408biscuiteerData 1.8.0  (landing page)"Jacob Morrison"  OK    OK    OK  UNNEEDED, same version is already published
31/408bladderbatch 1.32.0  (landing page)Jeffrey T. Leek  OK    OK    WARNINGS  UNNEEDED, same version is already published
32/408blimaTestingData 1.14.0  (landing page)Vojtech Kulvait  OK    OK    OK  UNNEEDED, same version is already published
33/408BloodCancerMultiOmics2017 1.14.0  (landing page)Malgorzata Oles  OK    OK    WARNINGS  UNNEEDED, same version is already published
34/408bodymapRat 1.10.0  (landing page)Stephanie Hicks  OK    OK    OK  UNNEEDED, same version is already published
35/408brainImageRdata 1.12.0  (landing page)Sara Linker  OK    OK    WARNINGS  UNNEEDED, same version is already published
36/408breakpointRdata 1.12.0  (landing page)David Porubsky  OK    OK    OK  UNNEEDED, same version is already published
37/408breastCancerMAINZ 1.32.0  (landing page)Markus Schroeder , Benjamin Haibe-Kains  OK    OK    WARNINGS  UNNEEDED, same version is already published
38/408breastCancerNKI 1.32.0  (landing page)Markus Schroeder , Benjamin Haibe-Kains  OK    OK    WARNINGS  UNNEEDED, same version is already published
39/408breastCancerTRANSBIG 1.32.0  (landing page)Markus Schroeder , Benjamin Haibe-Kains  OK    OK    WARNINGS  UNNEEDED, same version is already published
40/408breastCancerUNT 1.32.0  (landing page)Markus Schroeder , Benjamin Haibe-Kains  OK    OK    WARNINGS  UNNEEDED, same version is already published
41/408breastCancerUPP 1.32.0  (landing page)Markus Schroeder , Benjamin Haibe-Kains  OK    OK    WARNINGS  UNNEEDED, same version is already published
42/408breastCancerVDX 1.32.0  (landing page)Markus Schroeder , Benjamin Haibe-Kains  OK    OK    WARNINGS  UNNEEDED, same version is already published
43/408brgedata 1.16.0  (landing page)Dolors Pelegri-Siso  OK    OK    WARNINGS  UNNEEDED, same version is already published
44/408bronchialIL13 1.32.0  (landing page)Vince Carey  OK    OK    OK  UNNEEDED, same version is already published
45/408bsseqData 0.32.0  (landing page)Kasper Daniel Hansen  OK    OK    WARNINGS  UNNEEDED, same version is already published
C
ABCDEFGHIJKLMNOPQRSTUVWXYZ
PackageMaintainerINSTALLBUILDCHECK
46/408cancerdata 1.32.0  (landing page)Daniel Kosztyla  OK    OK    OK  UNNEEDED, same version is already published
47/408CardinalWorkflows 1.26.0  (landing page)Kylie A. Bemis  OK    OK    OK  UNNEEDED, same version is already published
48/408ccdata 1.20.0  (landing page)Alex Pickering  OK    OK    WARNINGS  UNNEEDED, same version is already published
49/408CCl4 1.32.0  (landing page)Audrey Kauffmann  OK    OK    WARNINGS  UNNEEDED, same version is already published
50/408ccTutorial 1.32.0  (landing page)Joern Toedling  OK    OK    OK  UNNEEDED, same version is already published
51/408celarefData 1.12.0  (landing page)Sarah Williams  OK    OK    OK  UNNEEDED, same version is already published
52/408celldex 1.4.0  (landing page)Aaron Lun  OK    OK    WARNINGS  UNNEEDED, same version is already published
53/408CellMapperData 1.20.0  (landing page)Brad Nelms  OK    OK    OK  UNNEEDED, same version is already published
54/408ChAMPdata 2.26.0  (landing page)Yuan Tian  OK    OK    OK  UNNEEDED, same version is already published
55/408ChIC.data 1.14.0  (landing page)Carmen Maria Livi  OK    OK    OK  UNNEEDED, same version is already published
56/408ChimpHumanBrainData 1.32.0  (landing page)Sean Davis  OK    OK    OK  UNNEEDED, same version is already published
57/408chipenrich.data 2.18.0  (landing page)Raymond G. Cavalcante  OK    OK    WARNINGS  UNNEEDED, same version is already published
58/408ChIPexoQualExample 1.18.0  (landing page)Rene Welch  OK    OK    OK  UNNEEDED, same version is already published
59/408chipseqDBData 1.10.0  (landing page)Aaron Lun  OK    OK    OK  UNNEEDED, same version is already published
60/408ChIPXpressData 1.32.0  (landing page)George Wu  OK    OK    WARNINGS  UNNEEDED, same version is already published
61/408chromstaRData 1.20.0  (landing page)Aaron Taudt  OK    OK    OK  UNNEEDED, same version is already published
62/408CLL 1.34.0  (landing page)Robert Gentleman  OK    OK    OK  UNNEEDED, same version is already published
63/408CLLmethylation 1.14.0  (landing page)Malgorzata Oles , Andreas Mock  OK    OK    OK  UNNEEDED, same version is already published
64/408CluMSIDdata 1.10.0  (landing page)Tobias Depke  OK    OK    OK  UNNEEDED, same version is already published
65/408clustifyrdatahub 1.4.0  (landing page)Rui Fu  OK    OK    OK  UNNEEDED, same version is already published
66/408cMap2data 1.30.0  (landing page)J. Saez-Rodriguez  OK    OK    WARNINGS  UNNEEDED, same version is already published
67/408cnvGSAdata 1.30.0  (landing page)Joseph Lugo  OK    OK    WARNINGS  UNNEEDED, same version is already published
68/408COHCAPanno 1.30.0  (landing page)Charles Warden  OK    OK    OK  UNNEEDED, same version is already published
69/408colonCA 1.36.0  (landing page)W Sylvia Merk  OK    OK    WARNINGS  UNNEEDED, same version is already published
70/408CONFESSdata 1.22.0  (landing page)Diana LOW  OK    OK    OK  UNNEEDED, same version is already published
71/408ConnectivityMap 1.30.0  (landing page)Paul Shannon  OK    OK    OK  UNNEEDED, same version is already published
72/408COPDSexualDimorphism.data 1.30.0  (landing page)J Fah Sathirapongsasuti  OK    OK    WARNINGS  UNNEEDED, same version is already published
73/408CopyhelpeR 1.26.0  (landing page)Oscar Krijgsman  OK    OK    OK  UNNEEDED, same version is already published
74/408CopyNeutralIMA 1.12.0  (landing page)Xavier Pastor Hostench  OK    OK    OK  UNNEEDED, same version is already published
75/408COSMIC.67 1.30.0  (landing page)Julian Gehring  OK    OK    OK  UNNEEDED, same version is already published
76/408CRCL18 1.14.0  (landing page)Claudio Isella  OK    OK    OK  UNNEEDED, same version is already published
77/408curatedAdipoArray 1.6.0  (landing page)Mahmoud Ahmed  OK    OK    OK  UNNEEDED, same version is already published
78/408curatedAdipoChIP 1.10.0  (landing page)Mahmoud Ahmed  OK    OK    OK  UNNEEDED, same version is already published
79/408curatedAdipoRNA 1.10.0  (landing page)Mahmoud Ahmed  OK    OK    WARNINGS  UNNEEDED, same version is already published
80/408curatedBladderData 1.30.0  (landing page)Markus Riester  OK    OK    OK  UNNEEDED, same version is already published
81/408curatedBreastData 2.22.0  (landing page)Katie Planey  OK    OK    OK  UNNEEDED, same version is already published
82/408curatedCRCData 2.26.0  (landing page)Princy Parsana  OK    OK    OK  UNNEEDED, same version is already published
83/408curatedMetagenomicData 3.2.2  (landing page)Lucas schiffer  OK    OK    OK  UNNEEDED, same version is already published
84/408curatedOvarianData 1.32.0  (landing page)Levi Waldron  OK    OK    OK  UNNEEDED, same version is already published
85/408curatedTBData 1.0.0  (landing page)Xutao Wang  OK    OK    OK  UNNEEDED, same version is already published
86/408curatedTCGAData 1.16.0  (landing page)Marcel Ramos  OK    OK    OK  UNNEEDED, same version is already published
D
ABCDEFGHIJKLMNOPQRSTUVWXYZ
PackageMaintainerINSTALLBUILDCHECK
87/408DAPARdata 1.24.0  (landing page)Samuel Wieczorek  OK    OK    WARNINGS  UNNEEDED, same version is already published
88/408davidTiling 1.34.0  (landing page)Wolfgang Huber  OK    OK    WARNINGS  UNNEEDED, same version is already published
89/408depmap 1.8.0  (landing page)Laurent Gatto  OK    OK    OK  UNNEEDED, same version is already published
90/408derfinderData 2.12.0  (landing page)Leonardo Collado-Torres  OK    OK    OK  UNNEEDED, same version is already published
91/408DeSousa2013 1.30.0  (landing page)Xin Wang  OK    OK    OK  UNNEEDED, same version is already published
92/408DExMAdata 1.2.0  (landing page)Juan Antonio Villatoro-García  OK    OK    OK  UNNEEDED, same version is already published
93/408diffloopdata 1.22.0  (landing page)Caleb Lareau  OK    OK    OK  UNNEEDED, same version is already published
94/408diggitdata 1.26.0  (landing page)Mariano Javier Alvarez  OK    OK    OK  UNNEEDED, same version is already published
95/408DLBCL 1.34.0  (landing page)Marcus Dittrich  OK    OK    WARNINGS  UNNEEDED, same version is already published
96/408DmelSGI 1.26.0  (landing page)Mike Smith  OK    OK    OK  UNNEEDED, same version is already published
97/408DMRcatedata 2.12.0  (landing page)Tim Peters  OK    OK    OK  UNNEEDED, same version is already published
98/408DonaPLLP2013 1.32.0  (landing page)Joseph D. Barry  OK    OK    OK  UNNEEDED, same version is already published
99/408dorothea 1.6.0  (landing page)Daniel Dimitrov  OK    OK    OK  UNNEEDED, same version is already published
100/408DREAM4 1.30.0  (landing page)Paul Shannon  OK    OK    WARNINGS  UNNEEDED, same version is already published
101/408dressCheck 0.32.0  (landing page)Vincent Carey  OK    OK    OK  UNNEEDED, same version is already published
102/408DropletTestFiles 1.4.0  (landing page)Aaron Lun  OK    OK    OK  UNNEEDED, same version is already published
103/408DrugVsDiseasedata 1.30.0  (landing page)J. Saez-Rodriguez  OK    OK    OK  UNNEEDED, same version is already published
104/408DuoClustering2018 1.12.0  (landing page)Angelo Duò  OK    OK    OK  UNNEEDED, same version is already published
105/408DvDdata 1.30.0  (landing page)J. Saez-Rodriguez  OK    OK    WARNINGS  UNNEEDED, same version is already published
106/408dyebiasexamples 1.34.0  (landing page)Philip Lijnzaad  OK    OK    WARNINGS  UNNEEDED, same version is already published
E
ABCDEFGHIJKLMNOPQRSTUVWXYZ
PackageMaintainerINSTALLBUILDCHECK
107/408easierData 1.0.0  (landing page)Oscar Lapuente-Santana  OK    OK    OK  UNNEEDED, same version is already published
108/408EatonEtAlChIPseq 0.32.0  (landing page)Patrick Aboyoun  OK    OK    WARNINGS  UNNEEDED, same version is already published
109/408ecoliLeucine 1.34.0  (landing page)Laurent Gautier  OK    OK    WARNINGS  UNNEEDED, same version is already published
110/408EGSEAdata 1.22.0  (landing page)Monther Alhamdoosh  OK    OK    OK  UNNEEDED, same version is already published
111/408ELMER.data 2.18.0  (landing page)Tiago Chedraoui Silva  OK    OK    OK  UNNEEDED, same version is already published
112/408emtdata 1.2.0  (landing page)Malvika D. Kharbanda  OK    OK    OK  UNNEEDED, same version is already published
113/408estrogen 1.40.0  (landing page)Wolfgang Huber  OK    OK    OK  UNNEEDED, same version is already published
114/408etec16s 1.22.0  (landing page)Joseph N. Paulson  OK    OK    OK  UNNEEDED, same version is already published
115/408ewceData 1.2.0  (landing page)Alan Murphy  OK    OK    OK  UNNEEDED, same version is already published
F
ABCDEFGHIJKLMNOPQRSTUVWXYZ
PackageMaintainerINSTALLBUILDCHECK
116/408faahKO 1.34.0  (landing page)Steffen Neumann  OK    OK    OK  UNNEEDED, same version is already published
117/408fabiaData 1.32.0  (landing page)Sepp Hochreiter  OK    OK    OK  UNNEEDED, same version is already published
118/408FANTOM3and4CAGE 1.30.0  (landing page)Vanja Haberle  OK    OK    OK  UNNEEDED, same version is already published
119/408ffpeExampleData 1.32.0  (landing page)Levi Waldron  OK    OK    OK  UNNEEDED, same version is already published
120/408fibroEset 1.36.0  (landing page)Sylvia Merk  OK    OK    WARNINGS  UNNEEDED, same version is already published
121/408FieldEffectCrc 1.4.0  (landing page)Christopher Dampier  OK    OK    OK  UNNEEDED, same version is already published
122/408FIs 1.22.0  (landing page)Herbert Braselmann , Martin Selmansberger  OK    OK    OK  UNNEEDED, same version is already published
123/408fission 1.14.0  (landing page)Michael Love  OK    OK    OK  UNNEEDED, same version is already published
124/408Fletcher2013a 1.30.0  (landing page)Mauro Castro  OK    OK    OK  UNNEEDED, same version is already published
125/408Fletcher2013b 1.30.0  (landing page)Mauro Castro  OK    OK    OK  UNNEEDED, same version is already published
126/408flowPloidyData 1.20.0  (landing page)Tyler Smith  OK    OK    OK  UNNEEDED, same version is already published
127/408FlowSorted.Blood.450k 1.32.0  (landing page)Andrew E Jaffe  OK    OK    WARNINGS  UNNEEDED, same version is already published
128/408FlowSorted.Blood.EPIC 1.12.1  (landing page)Lucas A. Salas  OK    OK    OK  UNNEEDED, same version is already published
129/408FlowSorted.CordBlood.450k 1.22.0  (landing page)Shan V. Andrews  OK    OK    WARNINGS  UNNEEDED, same version is already published
130/408FlowSorted.CordBloodCombined.450k 1.10.0  (landing page)Lucas A. Salas  OK    OK    OK  UNNEEDED, same version is already published
131/408FlowSorted.CordBloodNorway.450k 1.20.0  (landing page)kristina gervin  OK    OK    WARNINGS  UNNEEDED, same version is already published
132/408FlowSorted.DLPFC.450k 1.30.0  (landing page)Andrew E Jaffe  OK    OK    WARNINGS  UNNEEDED, same version is already published
133/408flowWorkspaceData 3.6.0  (landing page)Mike Jiang  OK    OK    OK  UNNEEDED, same version is already published
134/408frmaExampleData 1.30.0  (landing page)Matthew N. McCall  OK    OK    WARNINGS  UNNEEDED, same version is already published
135/408furrowSeg 1.22.0  (landing page)Joseph Barry  OK    OK    WARNINGS  UNNEEDED, same version is already published
G
ABCDEFGHIJKLMNOPQRSTUVWXYZ
PackageMaintainerINSTALLBUILDCHECK
136/408gageData 2.32.0  (landing page)Weijun Luo  OK    OK    OK  UNNEEDED, same version is already published
137/408gaschYHS 1.32.0  (landing page)Vince Carey  OK    OK    OK  UNNEEDED, same version is already published
138/408gatingMLData 2.34.0  (landing page)J. Spidlen  OK    OK    OK  UNNEEDED, same version is already published
139/408gcspikelite 1.32.0  (landing page)Mark Robinson  OK    OK    WARNINGS  UNNEEDED, same version is already published
140/408geneLenDataBase 1.30.0  (landing page)Matthew Young , Nadia Davidson  OK    OK    WARNINGS  UNNEEDED, same version is already published
141/408genomationData 1.26.0  (landing page)Vedran Franke  OK    OK    OK  UNNEEDED, same version is already published
142/408GenomicDistributionsData 1.2.0  (landing page)Kristyna Kupkova  OK    OK    OK  UNNEEDED, same version is already published
143/408GeuvadisTranscriptExpr 1.22.0  (landing page)Malgorzata Nowicka  OK    OK    OK  UNNEEDED, same version is already published
144/408GIGSEAdata 1.12.0  (landing page)Shijia Zhu  OK    OK    WARNINGS  UNNEEDED, same version is already published
145/408golubEsets 1.36.0  (landing page)Vince Carey  OK    OK    OK  UNNEEDED, same version is already published
146/408gpaExample 1.6.0  (landing page)Dongjun Chung  OK    OK    OK  UNNEEDED, same version is already published
147/408grndata 1.26.0  (landing page)Pau Bellot  OK    OK    WARNINGS  UNNEEDED, same version is already published
148/408GSBenchMark 1.14.0  (landing page)Bahman Afsari  OK    OK    OK  UNNEEDED, same version is already published
149/408GSE103322 1.0.0  (landing page)Mariano Alvarez  OK    OK    OK  UNNEEDED, same version is already published
150/408GSE13015 1.2.0  (landing page)Darawan Rinchai  OK    OK    OK  UNNEEDED, same version is already published
151/408GSE159526 1.0.0  (landing page)Victor Yuan  OK    OK    OK  UNNEEDED, same version is already published
152/408GSE62944 1.22.0  (landing page)Bioconductor Package Maintainer  OK    OK    OK  UNNEEDED, same version is already published
153/408GSVAdata 1.30.0  (landing page)Robert Castelo  OK    OK    OK  UNNEEDED, same version is already published
154/408GWASdata 1.32.0  (landing page)Stephanie Gogarten , Adrienne Stilp  OK    OK    OK  UNNEEDED, same version is already published
H
ABCDEFGHIJKLMNOPQRSTUVWXYZ
PackageMaintainerINSTALLBUILDCHECK
155/408h5vcData 2.14.0  (landing page)Paul Theodor Pyl  OK    OK    OK  UNNEEDED, same version is already published
156/408hapmap100khind 1.36.0  (landing page)Benilton Carvalho  OK    OK    OK  UNNEEDED, same version is already published
157/408hapmap100kxba 1.36.0  (landing page)Benilton Carvalho  OK    OK    OK  UNNEEDED, same version is already published
158/408hapmap500knsp 1.36.0  (landing page)Benilton Carvalho  OK    OK    OK  UNNEEDED, same version is already published
159/408hapmap500ksty 1.36.0  (landing page)Benilton Carvalho  OK    OK    OK  UNNEEDED, same version is already published
160/408hapmapsnp5 1.36.0  (landing page)Benilton Carvalho  OK    OK    OK  UNNEEDED, same version is already published
161/408hapmapsnp6 1.36.0  (landing page)Benilton Carvalho  OK    OK    OK  UNNEEDED, same version is already published
162/408harbChIP 1.32.0  (landing page)VJ Carey  OK    OK    OK  UNNEEDED, same version is already published
163/408HarmanData 1.22.0  (landing page)Jason Ross  OK    OK    WARNINGS  UNNEEDED, same version is already published
164/408HarmonizedTCGAData 1.16.0  (landing page)Tianle Ma  OK    OK    OK  UNNEEDED, same version is already published
165/408HCAData 1.10.0  (landing page)Federico Marini  OK    OK    OK  UNNEEDED, same version is already published
166/408HD2013SGI 1.34.0  (landing page)Mike Smith  OK    OK    OK  UNNEEDED, same version is already published
167/408HDCytoData 1.14.0  (landing page)Lukas M. Weber  OK    OK    OK  UNNEEDED, same version is already published
168/408healthyFlowData 1.32.0  (landing page)Ariful Azad  OK    OK    OK  UNNEEDED, same version is already published
169/408HEEBOdata 1.32.0  (landing page)Agnes Paquet  OK    OK    WARNINGS  UNNEEDED, same version is already published
170/408HelloRangesData 1.20.0  (landing page)Michael Lawrence  OK    OK    OK  UNNEEDED, same version is already published
171/408hgu133abarcodevecs 1.32.0  (landing page)Matthew N. McCall  OK    OK    OK  UNNEEDED, same version is already published
172/408hgu133plus2barcodevecs 1.32.0  (landing page)Matthew N. McCall  OK    OK    OK  UNNEEDED, same version is already published
173/408hgu133plus2CellScore 1.14.0  (landing page)Nancy Mah  OK    OK    WARNINGS  UNNEEDED, same version is already published
174/408hgu2beta7 1.34.0  (landing page)Bioconductor Package Maintainer  OK    OK    WARNINGS  UNNEEDED, same version is already published
175/408HiCDataHumanIMR90 1.14.0  (landing page)Nicolas Servant  OK    OK    OK  UNNEEDED, same version is already published
176/408HiCDataLymphoblast 1.30.0  (landing page)Borbala Mifsud  OK    OK    OK  UNNEEDED, same version is already published
177/408HighlyReplicatedRNASeq 1.6.0  (landing page)Constantin Ahlmann-Eltze  OK    OK    OK  UNNEEDED, same version is already published
178/408Hiiragi2013 1.30.0  (landing page)Andrzej Oles  OK    OK    OK  UNNEEDED, same version is already published
179/408HIVcDNAvantWout03 1.34.0  (landing page)Chris Fraley  OK    OK    WARNINGS  UNNEEDED, same version is already published
180/408HMP16SData 1.14.0  (landing page)Lucas schiffer  OK    OK    OK  UNNEEDED, same version is already published
181/408HMP2Data 1.8.0  (landing page)John Stansfield , Ekaterina Smirnova  OK    OK    OK  UNNEEDED, same version is already published
182/408HSMMSingleCell 1.14.0  (landing page)Cole Trapnell  OK    OK    WARNINGS  UNNEEDED, same version is already published
183/408HumanAffyData 1.20.0  (landing page)Brad Nelms  OK    OK    OK  UNNEEDED, same version is already published
184/408humanStemCell 0.34.0  (landing page)R. Gentleman  OK    OK    WARNINGS  UNNEEDED, same version is already published
I
ABCDEFGHIJKLMNOPQRSTUVWXYZ
PackageMaintainerINSTALLBUILDCHECK
185/408IHWpaper 1.22.0  (landing page)Nikos Ignatiadis  OK    OK    OK  UNNEEDED, same version is already published
186/408Illumina450ProbeVariants.db 1.30.0  (landing page)Tiffany Morris  OK    OK    OK  UNNEEDED, same version is already published
187/408IlluminaDataTestFiles 1.32.0  (landing page)Kasper Daniel Hansen  OK    OK    OK  UNNEEDED, same version is already published
188/408imcdatasets 1.2.0  (landing page)Nicolas Damond  OK    OK    OK  UNNEEDED, same version is already published
189/408ITALICSData 2.32.0  (landing page)Guillem Rigaill  OK    OK    WARNINGS  UNNEEDED, same version is already published
190/408Iyer517 1.36.0  (landing page)Vince Carey  OK    OK    OK  UNNEEDED, same version is already published
J
ABCDEFGHIJKLMNOPQRSTUVWXYZ
PackageMaintainerINSTALLBUILDCHECK
191/408JASPAR2014 1.30.0  (landing page)Ge Tan  OK    OK    WARNINGS  UNNEEDED, same version is already published
192/408JASPAR2016 1.22.0  (landing page)Ge Tan  OK    OK    OK  UNNEEDED, same version is already published
K
ABCDEFGHIJKLMNOPQRSTUVWXYZ
PackageMaintainerINSTALLBUILDCHECK
193/408KEGGandMetacoreDzPathwaysGEO 1.14.0  (landing page)Gaurav Bhatti  OK    OK    OK  UNNEEDED, same version is already published
194/408KEGGdzPathwaysGEO 1.32.0  (landing page)Gaurav Bhatti  OK    OK    OK  UNNEEDED, same version is already published
195/408kidpack 1.36.0  (landing page)Wolfgang Huber  OK    OK    WARNINGS  UNNEEDED, same version is already published
196/408KOdata 1.20.0  (landing page)Shana White  OK    OK    WARNINGS  UNNEEDED, same version is already published
L
ABCDEFGHIJKLMNOPQRSTUVWXYZ
PackageMaintainerINSTALLBUILDCHECK
197/408leeBamViews 1.30.0  (landing page)VJ Carey  OK    OK    OK  UNNEEDED, same version is already published
198/408leukemiasEset 1.30.0  (landing page)Sara Aibar  OK    OK    OK  UNNEEDED, same version is already published
199/408LiebermanAidenHiC2009 0.32.0  (landing page)Felix Klein  OK    OK    WARNINGS  UNNEEDED, same version is already published
200/408ListerEtAlBSseq 1.26.0  (landing page)Kamal Kishore  OK    OK    WARNINGS  UNNEEDED, same version is already published
201/408LRcellTypeMarkers 1.2.0  (landing page)Wenjing Ma  OK    OK    OK  UNNEEDED, same version is already published
202/408lumiBarnes 1.34.0  (landing page)Pan Du  OK    OK    WARNINGS  UNNEEDED, same version is already published
203/408LungCancerACvsSCCGEO 1.30.0  (landing page)Adi Laurentiu Tarca  OK    OK    OK  UNNEEDED, same version is already published
204/408LungCancerLines 0.32.0  (landing page)Cory Barr  OK    OK    OK  UNNEEDED, same version is already published
205/408lungExpression 0.32.0  (landing page)Robert Scharpf  OK    OK    OK  UNNEEDED, same version is already published
206/408lydata 1.20.0  (landing page)Alex Pickering  OK    OK    OK  UNNEEDED, same version is already published
M
ABCDEFGHIJKLMNOPQRSTUVWXYZ
PackageMaintainerINSTALLBUILDCHECK
207/408M3DExampleData 1.20.0  (landing page)Tallulah Andrews  OK    OK    WARNINGS  UNNEEDED, same version is already published
208/408macrophage 1.10.0  (landing page)Michael Love  OK    OK    OK  UNNEEDED, same version is already published
209/408MACSdata 1.2.0  (landing page)Qiang Hu  OK    OK    OK  UNNEEDED, same version is already published
210/408mammaPrintData 1.30.0  (landing page)Luigi Marchionni  OK    OK    OK  UNNEEDED, same version is already published
211/408mAPKLData 1.26.0  (landing page)Argiris Sakellariou  OK    OK    WARNINGS  UNNEEDED, same version is already published
212/408maqcExpression4plex 1.38.0  (landing page)Benilton Carvalho  OK    OK    OK  UNNEEDED, same version is already published
213/408MAQCsubset 1.32.0  (landing page)VJ Carey  OK    OK    OK  UNNEEDED, same version is already published
214/408MAQCsubsetILM 1.32.0  (landing page)Laurent Gatto  OK    OK    OK  UNNEEDED, same version is already published
215/408mCSEAdata 1.14.0  (landing page)Jordi Martorell Marugán  OK    OK    WARNINGS  UNNEEDED, same version is already published
216/408mcsurvdata 1.12.0  (landing page)Adria Caballe Mestres  OK    OK    OK  UNNEEDED, same version is already published
217/408MEDIPSData 1.30.0  (landing page)Lukas Chavez  OK    OK    WARNINGS  UNNEEDED, same version is already published
218/408MEEBOdata 1.32.0  (landing page)Agnes Paquet  OK    OK    WARNINGS  UNNEEDED, same version is already published
219/408MetaGxBreast 1.14.0  (landing page)Benjamin Haibe-Kains  OK    OK    OK  UNNEEDED, same version is already published
220/408MetaGxOvarian 1.14.0  (landing page)Benjamin Haibe-Kains  OK    OK    WARNINGS  UNNEEDED, same version is already published
221/408MetaGxPancreas 1.14.0  (landing page)Benjamin Haibe-Kains  OK    OK    OK  UNNEEDED, same version is already published
222/408metaMSdata 1.30.0  (landing page)Yann Guitton  OK    OK    OK  UNNEEDED, same version is already published
223/408MethylAidData 1.26.0  (landing page)M. van Iterson  OK    OK    OK  UNNEEDED, same version is already published
224/408methylclockData 1.2.0  (landing page)Dolors Pelegri-Siso  OK    OK    WARNINGS  UNNEEDED, same version is already published
225/408MethylSeqData 1.4.0  (landing page)Peter Hickey  OK    OK    OK  UNNEEDED, same version is already published
226/408microbiomeDataSets 1.2.0  (landing page)Leo Lahti  OK    OK    OK  UNNEEDED, same version is already published
227/408microRNAome 1.16.0  (landing page)Matthew N. McCall  OK    OK    OK  UNNEEDED, same version is already published
228/408MIGSAdata 1.18.0  (landing page)Juan C. Rodriguez  OK    OK    OK  UNNEEDED, same version is already published
229/408minfiData 0.40.0  (landing page)Kasper Daniel Hansen  OK    OK    WARNINGS  UNNEEDED, same version is already published
230/408minfiDataEPIC 1.20.0  (landing page)Kasper Daniel Hansen  OK    OK    WARNINGS  UNNEEDED, same version is already published
231/408minionSummaryData 1.24.0  (landing page)Mike Smith  OK    OK    OK  UNNEEDED, same version is already published
232/408miRcompData 1.24.0  (landing page)Matthew N. McCall  OK    OK    OK  UNNEEDED, same version is already published
233/408miRNATarget 1.32.0  (landing page)Y-h. Taguchi  OK    OK    OK  UNNEEDED, same version is already published
234/408MMAPPR2data 1.8.0  (landing page)Jonathon Hill  OK    OK    OK  UNNEEDED, same version is already published
235/408MMDiffBamSubset 1.30.0  (landing page)Gabriele Schweikert  OK    OK    OK  UNNEEDED, same version is already published
236/408MOFAdata 1.10.0  (landing page)Britta Velten  OK    OK    OK  UNNEEDED, same version is already published
237/408mosaicsExample 1.32.0  (landing page)Dongjun Chung  OK    OK    OK  UNNEEDED, same version is already published
238/408mouse4302barcodevecs 1.32.0  (landing page)Matthew N. McCall  OK    OK    OK  UNNEEDED, same version is already published
239/408MouseGastrulationData 1.8.0  (landing page)Jonathan Griffiths  OK    OK    OK  UNNEEDED, same version is already published
240/408MouseThymusAgeing 1.2.0  (landing page)Mike Morgan  OK    OK    OK  UNNEEDED, same version is already published
241/408msd16s 1.14.0  (landing page)Joseph N. Paulson  OK    OK    OK  UNNEEDED, same version is already published
242/408msdata 0.34.0  (landing page)Steffen Neumann , Laurent Gatto  OK    OK    OK  UNNEEDED, same version is already published
243/408msigdb 1.2.0  (landing page)Dharmesh D. Bhuva  OK    OK    WARNINGS  UNNEEDED, same version is already published
244/408MSMB 1.12.0  (landing page)Wolfgang Huber  OK    OK    WARNINGS  UNNEEDED, same version is already published
245/408msPurityData 1.22.0  (landing page)Thomas N. Lawson  OK    OK    OK  UNNEEDED, same version is already published
246/408msqc1 1.22.0  (landing page)Christian Panse  OK    OK    OK  UNNEEDED, same version is already published
247/408MSstatsBioData 1.16.0  (landing page)Meena Choi  OK    ERROR  skipped
248/408mtbls2 1.24.0  (landing page)Steffen Neumann  OK    OK    WARNINGS  UNNEEDED, same version is already published
249/408MUGAExampleData 1.14.0  (landing page)Daniel Gatti  OK    OK    OK  UNNEEDED, same version is already published
250/408muscData 1.8.0  (landing page)Helena L. Crowell  OK    OK    WARNINGS  UNNEEDED, same version is already published
251/408mvoutData 1.30.0  (landing page)VJ Carey  OK    OK    OK  UNNEEDED, same version is already published
N
ABCDEFGHIJKLMNOPQRSTUVWXYZ
PackageMaintainerINSTALLBUILDCHECK
252/408NanoporeRNASeq 1.4.0  (landing page)Ying Chen  OK    OK    OK  UNNEEDED, same version is already published
253/408nanotubes 1.10.0  (landing page)Malte Thodberg  OK    OK    OK  UNNEEDED, same version is already published
254/408NCIgraphData 1.30.0  (landing page)Laurent Jacob  OK    OK    WARNINGS  UNNEEDED, same version is already published
255/408NestLink 1.10.0  (landing page)Lennart Opitz  OK    OK    OK  UNNEEDED, same version is already published
256/408Neve2006 0.32.0  (landing page)VJ Carey  OK    OK    OK  UNNEEDED, same version is already published
257/408NGScopyData 1.14.0  (landing page)Xiaobei Zhao  OK    OK    OK  UNNEEDED, same version is already published
258/408nullrangesData 1.0.0  (landing page)Michael Love  OK    OK    OK  UNNEEDED, same version is already published
259/408NxtIRFdata 1.0.0  (landing page)Alex Chit Hei Wong  OK    OK    OK  UNNEEDED, same version is already published
O
ABCDEFGHIJKLMNOPQRSTUVWXYZ
PackageMaintainerINSTALLBUILDCHECK
260/408ObMiTi 1.2.0  (landing page)Omar Elashkar  OK    OK    OK  UNNEEDED, same version is already published
261/408oct4 1.10.0  (landing page)Michael Love  OK    OK    OK  UNNEEDED, same version is already published
262/408OMICsPCAdata 1.12.0  (landing page)Subhadeep Das  OK    OK    WARNINGS  UNNEEDED, same version is already published
263/408OnassisJavaLibs 1.16.0  (landing page)Eugenia Galeota  OK    OK    OK  UNNEEDED, same version is already published
264/408optimalFlowData 1.6.0  (landing page)Hristo Inouzhe  OK    OK    WARNINGS  UNNEEDED, same version is already published
P
ABCDEFGHIJKLMNOPQRSTUVWXYZ
PackageMaintainerINSTALLBUILDCHECK
265/408parathyroidSE 1.32.0  (landing page)Michael Love  OK    OK    OK  UNNEEDED, same version is already published
266/408pasilla 1.22.0  (landing page)Alejandro Reyes  OK    OK    WARNINGS  UNNEEDED, same version is already published
267/408pasillaBamSubset 0.32.0  (landing page)Hervé Pagès  OK    OK    OK  UNNEEDED, same version is already published
268/408PasillaTranscriptExpr 1.22.0  (landing page)Malgorzata Nowicka  OK    OK    OK  UNNEEDED, same version is already published
269/408PathNetData 1.30.0  (landing page)Ludwig Geistlinger  OK    OK    OK  UNNEEDED, same version is already published
270/408PCHiCdata 1.22.1  (landing page)Paula Freire-Pritchett  OK    OK    WARNINGS  UNNEEDED, same version is already published
271/408pcxnData 2.16.0  (landing page)Sokratis Kariotis  OK    OK    WARNINGS  UNNEEDED, same version is already published
272/408pd.atdschip.tiling 0.32.0  (landing page)Kristof De Beuf  OK    OK    WARNINGS  UNNEEDED, same version is already published
273/408pepDat 1.14.0  (landing page)Renan Sauteraud  OK    OK    OK  UNNEEDED, same version is already published
274/408PepsNMRData 1.12.0  (landing page)Manon Martin  OK    OK    WARNINGS  UNNEEDED, same version is already published
275/408PhyloProfileData 1.8.0  (landing page)Vinh Tran  OK    OK    OK  UNNEEDED, same version is already published
276/408plasFIA 1.22.0  (landing page)Alexis Delabriere  OK    OK    OK  UNNEEDED, same version is already published
277/408plotgardenerData 1.0.0  (landing page)Nicole Kramer  OK    OK    OK  UNNEEDED, same version is already published
278/408ppiData 0.32.0  (landing page)Bioconductor Package Maintainer  OK    OK    WARNINGS  UNNEEDED, same version is already published
279/408prebsdata 1.30.0  (landing page)Karolis Uziela  OK    OK    OK  UNNEEDED, same version is already published
280/408preciseTADhub 1.2.0  (landing page)Mikhail Dozmorov  OK    OK    OK  UNNEEDED, same version is already published
281/408PREDAsampledata 0.34.0  (landing page)Francesco Ferrari  OK    OK    OK  UNNEEDED, same version is already published
282/408ProData 1.32.0  (landing page)Xiaochun Li  OK    OK    OK  UNNEEDED, same version is already published
283/408pRolocdata 1.32.0  (landing page)Laurent Gatto  OK    OK    OK  UNNEEDED, same version is already published
284/408prostateCancerCamcap 1.22.0  (landing page)Mark Dunning  OK    OK    WARNINGS  UNNEEDED, same version is already published
285/408prostateCancerGrasso 1.22.0  (landing page)Mark Dunning  OK    OK    WARNINGS  UNNEEDED, same version is already published
286/408prostateCancerStockholm 1.22.0  (landing page)Mark Dunning  OK    OK    WARNINGS  UNNEEDED, same version is already published
287/408prostateCancerTaylor 1.22.0  (landing page)Mark Dunning  OK    OK    WARNINGS  UNNEEDED, same version is already published
288/408prostateCancerVarambally 1.22.0  (landing page)Mark Dunning  OK    OK    WARNINGS  UNNEEDED, same version is already published
289/408ptairData 1.2.0  (landing page)camille Roquencourt  OK    OK    OK  UNNEEDED, same version is already published
290/408PtH2O2lipids 1.20.0  (landing page)James Collins  OK    OK    WARNINGS  UNNEEDED, same version is already published
291/408pumadata 2.30.0  (landing page)Xuejun liu  OK    OK    OK  UNNEEDED, same version is already published
292/408PWMEnrich.Dmelanogaster.background 4.28.0  (landing page)Diego Diez  OK    OK    OK  UNNEEDED, same version is already published
293/408PWMEnrich.Hsapiens.background 4.28.0  (landing page)Diego Diez  OK    OK    OK  UNNEEDED, same version is already published
294/408PWMEnrich.Mmusculus.background 4.28.0  (landing page)Diego Diez  OK    OK    OK  UNNEEDED, same version is already published
295/408pwrEWAS.data 1.8.0  (landing page)Stefan Graw  OK    OK    OK  UNNEEDED, same version is already published
Q
ABCDEFGHIJKLMNOPQRSTUVWXYZ
PackageMaintainerINSTALLBUILDCHECK
296/408QDNAseq.hg19 1.24.0  (landing page)Daoud Sie  OK    OK    OK  UNNEEDED, same version is already published
297/408QDNAseq.mm10 1.24.0  (landing page)Daoud Sie  OK    OK    OK  UNNEEDED, same version is already published
298/408qPLEXdata 1.12.0  (landing page)Kamal Kishore Developer  OK    OK    WARNINGS  UNNEEDED, same version is already published
299/408QUBICdata 1.22.0  (landing page)Yu Zhang  OK    OK    OK  UNNEEDED, same version is already published
R
ABCDEFGHIJKLMNOPQRSTUVWXYZ
PackageMaintainerINSTALLBUILDCHECK
300/408rcellminerData 2.16.0  (landing page)Augustin Luna , Vinodh Rajapakse  OK    OK    WARNINGS  UNNEEDED, same version is already published
301/408RcisTarget.hg19.motifDBs.cisbpOnly.500bp 1.14.0  (landing page)Sara Aibar  OK    OK    OK  UNNEEDED, same version is already published
302/408ReactomeGSA.data 1.8.0  (landing page)Johannes Griss  OK    OK    OK  UNNEEDED, same version is already published
303/408RegParallel 1.12.0  (landing page)Kevin Blighe  OK    OK    OK  UNNEEDED, same version is already published
304/408restfulSEData 1.16.0  (landing page)Bioconductor Package Maintainer  OK    OK    OK  UNNEEDED, same version is already published
305/408RforProteomics 1.32.0  (landing page)Laurent Gatto  OK    OK    WARNINGS  UNNEEDED, same version is already published
306/408RGMQLlib 1.14.0  (landing page)Simone Pallotta  OK    OK    OK  UNNEEDED, same version is already published
307/408rheumaticConditionWOLLBOLD 1.32.0  (landing page)Alejandro Quiroz-Zarate  OK    OK    OK  UNNEEDED, same version is already published
308/408RITANdata 1.18.0  (landing page)Michael Zimmermann  OK    OK    WARNINGS  UNNEEDED, same version is already published
309/408RLHub 1.0.0  (landing page)Henry Miller  OK    ERROR  skipped
310/408RMassBankData 1.32.0  (landing page)Michael Stravs, Emma Schymanski  OK    OK    OK  UNNEEDED, same version is already published
311/408RNAinteractMAPK 1.32.0  (landing page)Mike Smith  OK    OK    OK  UNNEEDED, same version is already published
312/408RNAmodR.Data 1.8.0  (landing page)Felix G.M. Ernst  OK    OK    OK  UNNEEDED, same version is already published
313/408RNAseqData.HNRNPC.bam.chr14 0.32.0  (landing page)Hervé Pagès  OK    OK    OK  UNNEEDED, same version is already published
314/408RNASeqRData 1.12.0  (landing page)Kuan-Hao Chao  OK    OK    OK  UNNEEDED, same version is already published
315/408RnaSeqSampleSizeData 1.26.0  (landing page)Shilin Zhao  OK    OK    OK  UNNEEDED, same version is already published
316/408RnBeads.hg19 1.26.0  (landing page)RnBeadsAnnotationCreator  OK    OK    WARNINGS  UNNEEDED, same version is already published
317/408RnBeads.hg38 1.26.0  (landing page)RnBeadsAnnotationCreator  OK    OK    OK  UNNEEDED, same version is already published
318/408RnBeads.mm10 2.2.0  (landing page)RnBeads Team  OK    OK    OK  UNNEEDED, same version is already published
319/408RnBeads.mm9 1.26.0  (landing page)RnBeadsAnnotationCreator  OK    OK    WARNINGS  UNNEEDED, same version is already published
320/408RnBeads.rn5 1.26.0  (landing page)RnBeadsAnnotationCreator  OK    OK    OK  UNNEEDED, same version is already published
321/408RRBSdata 1.14.0  (landing page)Katja Hebestreit  OK    OK    OK  UNNEEDED, same version is already published
322/408rRDPData 1.14.0  (landing page)Michael Hahsler  OK    OK    OK  UNNEEDED, same version is already published
323/408RTCGA.clinical 20151101.24.0  (landing page)Marcin Kosinski  OK    OK    WARNINGS  UNNEEDED, same version is already published
324/408RTCGA.CNV 1.22.0  (landing page)Marcin Kosinski  OK    OK    WARNINGS  UNNEEDED, same version is already published
325/408RTCGA.methylation 1.22.0  (landing page)Marcin Kosinski  OK    OK    WARNINGS  UNNEEDED, same version is already published
326/408RTCGA.miRNASeq 1.22.0  (landing page)Marcin Kosinski  OK    OK    WARNINGS  UNNEEDED, same version is already published
327/408RTCGA.mRNA 1.22.0  (landing page)Marcin Kosinski  OK    OK    WARNINGS  UNNEEDED, same version is already published
328/408RTCGA.mutations 20151101.24.0  (landing page)Marcin Kosinski  OK    OK    WARNINGS  UNNEEDED, same version is already published
329/408RTCGA.PANCAN12 1.22.0  (landing page)Marcin Kosinski  OK    OK    OK  UNNEEDED, same version is already published
330/408RTCGA.rnaseq 20151101.24.0  (landing page)Marcin Kosinski  OK    OK    WARNINGS  UNNEEDED, same version is already published
331/408RTCGA.RPPA 1.22.0  (landing page)Marcin Kosinski  OK    OK    WARNINGS  UNNEEDED, same version is already published
332/408RUVnormalizeData 1.14.0  (landing page)Laurent Jacob  OK    OK    OK  UNNEEDED, same version is already published
S
ABCDEFGHIJKLMNOPQRSTUVWXYZ
PackageMaintainerINSTALLBUILDCHECK
333/408sampleClassifierData 1.18.0  (landing page)Khadija El Amrani  OK    OK    OK  UNNEEDED, same version is already published
334/408SBGNview.data 1.8.0  (landing page)Weijun Luo  OK    OK    OK  UNNEEDED, same version is already published
335/408scanMiRData 1.0.0  (landing page)Fridolin Gross  OK    OK    OK  UNNEEDED, same version is already published
336/408scATAC.Explorer 1.0.0  (landing page)Arrian Gibson-Khademi  OK    OK    OK  UNNEEDED, same version is already published
337/408SCATEData 1.4.0  (landing page)Wenpin Hou  OK    OK    OK  UNNEEDED, same version is already published
338/408SCLCBam 1.26.0  (landing page)Oscar Krijgsman  OK    OK    OK  UNNEEDED, same version is already published
339/408scpdata 1.2.0  (landing page)Christophe Vanderaa  OK    OK    OK  UNNEEDED, same version is already published
340/408scRNAseq 2.8.0  (landing page)Aaron Lun  OK    OK    WARNINGS  UNNEEDED, same version is already published
341/408scTHI.data 1.6.0  (landing page)Michele Ceccarelli  OK    OK    OK  UNNEEDED, same version is already published
342/408seq2pathway.data 1.26.0  (landing page)Arjun Kinstlick  OK    OK    WARNINGS  UNNEEDED, same version is already published
343/408seqc 1.28.0  (landing page)Yang Liao and Wei Shi  OK    OK    WARNINGS  UNNEEDED, same version is already published
344/408seqCNA.annot 1.30.0  (landing page)David Mosen-Ansorena  OK    OK    OK  UNNEEDED, same version is already published
345/408serumStimulation 1.30.0  (landing page)Morten Hansen,  OK    OK    OK  UNNEEDED, same version is already published
346/408sesameData 1.12.0  (landing page)Wanding Zhou  OK    OK    OK  UNNEEDED, same version is already published
347/408seventyGeneData 1.30.0  (landing page)Luigi Marchionni  OK    OK    OK  UNNEEDED, same version is already published
348/408shinyMethylData 1.14.0  (landing page)Jean-Philippe Fortin  OK    OK    WARNINGS  UNNEEDED, same version is already published
349/408signatureSearchData 1.8.0  (landing page)Yuzhu Duan  OK    OK    OK  UNNEEDED, same version is already published
350/408SimBenchData 1.2.0  (landing page)Yue Cao  OK    OK    OK  UNNEEDED, same version is already published
351/408simpIntLists 1.30.0  (landing page)Kircicegi Korkmaz  OK    OK    WARNINGS  UNNEEDED, same version is already published
352/408Single.mTEC.Transcriptomes 1.22.0  (landing page)Alejandro Reyes  OK    OK    OK  UNNEEDED, same version is already published
353/408SingleCellMultiModal 1.6.0  (landing page)Marcel Ramos  OK    OK    OK  UNNEEDED, same version is already published
354/408SingleMoleculeFootprintingData 1.2.0  (landing page)Guido Barzaghi  OK    OK    OK  UNNEEDED, same version is already published
355/408SNAData 1.40.0  (landing page)Denise Scholtens  OK    OK    OK  UNNEEDED, same version is already published
356/408SNAGEEdata 1.30.0  (landing page)David Venet  OK    OK    OK  UNNEEDED, same version is already published
357/408SNPhoodData 1.24.0  (landing page)Christian Arnold  OK    OK    OK  UNNEEDED, same version is already published
358/408SomatiCAData 1.32.0  (landing page)Mengjie Chen  OK    OK    WARNINGS  UNNEEDED, same version is already published
359/408SomaticCancerAlterations 1.30.0  (landing page)Julian Gehring  OK    OK    OK  UNNEEDED, same version is already published
360/408spatialDmelxsim 1.0.0  (landing page)Michael Love  OK    OK    OK  UNNEEDED, same version is already published
361/408spatialLIBD 1.6.2  (landing page)Leonardo Collado-Torres  OK    OK    OK  YES
362/408SpikeIn 1.36.0  (landing page)Rafael A. Irizarry  OK    OK    WARNINGS  UNNEEDED, same version is already published
363/408SpikeInSubset 1.34.0  (landing page)Rafael A. Irizarry  OK    OK    WARNINGS  UNNEEDED, same version is already published
364/408spqnData 1.6.0  (landing page)Yi Wang  OK    OK    OK  UNNEEDED, same version is already published
365/408stemHypoxia 1.30.0  (landing page)Cristobal Fresno  OK    OK    OK  UNNEEDED, same version is already published
366/408STexampleData 1.2.0  (landing page)Lukas M. Weber  OK    OK    OK  UNNEEDED, same version is already published
367/408stjudem 1.34.0  (landing page)Joern Toedling  OK    OK    OK  UNNEEDED, same version is already published
368/408SVM2CRMdata 1.26.0  (landing page)Guidantonio Malagoli Tagliazucchi  OK    OK    WARNINGS  UNNEEDED, same version is already published
369/408synapterdata 1.32.0  (landing page)Laurent Gatto  OK    OK    OK  NO, package depends on 'synapter' which is not available
370/408systemPipeRdata 1.22.0  (landing page)Thomas Girke  OK    OK    OK  UNNEEDED, same version is already published
T
ABCDEFGHIJKLMNOPQRSTUVWXYZ
PackageMaintainerINSTALLBUILDCHECK
371/408TabulaMurisData 1.12.0  (landing page)Charlotte Soneson  OK    OK    OK  UNNEEDED, same version is already published
372/408TabulaMurisSenisData 1.0.0  (landing page)Charlotte Soneson  OK    OK    OK  UNNEEDED, same version is already published
373/408TargetScoreData 1.30.0  (landing page)Yue Li  OK    OK    OK  UNNEEDED, same version is already published
374/408TargetSearchData 1.32.0  (landing page)Alvaro Cuadros-Inostroza  OK    OK    OK  UNNEEDED, same version is already published
375/408tartare 1.8.0  (landing page)Christian Panse  OK    OK    OK  UNNEEDED, same version is already published
376/408TBX20BamSubset 1.30.0  (landing page)D. Bindreither  OK    OK    OK  UNNEEDED, same version is already published
377/408TCGAbiolinksGUI.data 1.14.0  (landing page)Tiago Chedraoui Silva  OK    OK    OK  UNNEEDED, same version is already published
378/408TCGAcrcmiRNA 1.14.0  (landing page)Claudio Isella  OK    OK    OK  UNNEEDED, same version is already published
379/408TCGAcrcmRNA 1.14.0  (landing page)Claudio Isella  OK    OK    OK  UNNEEDED, same version is already published
380/408TCGAMethylation450k 1.30.0  (landing page)Sean Davis  OK    OK    OK  UNNEEDED, same version is already published
381/408tcgaWGBSData.hg19 1.12.0  (landing page)Divy Kangeyan  OK    OK    WARNINGS  UNNEEDED, same version is already published
382/408TCGAWorkflowData 1.18.0  (landing page)Tiago Chedraoui Silva  OK    OK    WARNINGS  UNNEEDED, same version is already published
383/408TENxBrainData 1.14.0  (landing page)Bioconductor Package Maintainer  OK    OK    OK  UNNEEDED, same version is already published
384/408TENxBUSData 1.8.0  (landing page)Lambda Moses  OK    OK    OK  UNNEEDED, same version is already published
385/408TENxPBMCData 1.12.0  (landing page)Stephanie Hicks  OK    OK    OK  UNNEEDED, same version is already published
386/408TENxVisiumData 1.2.0  (landing page)Helena L. Crowell  OK    OK    OK  UNNEEDED, same version is already published
387/408timecoursedata 1.4.0  (landing page)Nelle Varoquaux  OK    OK    OK  UNNEEDED, same version is already published
388/408TimerQuant 1.24.0  (landing page)Joseph Barry  OK    OK    OK  UNNEEDED, same version is already published
389/408tinesath1cdf 1.32.0  (landing page)Tine Casneuf  OK    OK    WARNINGS  UNNEEDED, same version is already published
390/408tinesath1probe 1.32.0  (landing page)Tine Casneuf  OK    OK    WARNINGS  UNNEEDED, same version is already published
391/408tissueTreg 1.14.0  (landing page)Charles Imbusch  OK    OK    OK  UNNEEDED, same version is already published
392/408TMExplorer 1.4.0  (landing page)Erik Christensen  OK    OK    OK  UNNEEDED, same version is already published
393/408tofsimsData 1.22.0  (landing page)Lorenz Gerber  OK    OK    OK  UNNEEDED, same version is already published
394/408topdownrdata 1.16.0  (landing page)Sebastian Gibb  OK    OK    OK  UNNEEDED, same version is already published
395/408tuberculosis 1.0.0  (landing page)Lucas Schiffer  OK    OK    OK  UNNEEDED, same version is already published
396/408tweeDEseqCountData 1.32.0  (landing page)Juan R Gonzalez  OK    OK    OK  UNNEEDED, same version is already published
397/408tximportData 1.22.0  (landing page)Michael Love  OK    OK    OK  UNNEEDED, same version is already published
V
ABCDEFGHIJKLMNOPQRSTUVWXYZ
PackageMaintainerINSTALLBUILDCHECK
398/408VariantToolsData 1.18.0  (landing page)Michael Lawrence  OK    OK    WARNINGS  UNNEEDED, same version is already published
399/408vulcandata 1.16.0  (landing page)Federico M. Giorgi  OK    OK    OK  UNNEEDED, same version is already published
W
ABCDEFGHIJKLMNOPQRSTUVWXYZ
PackageMaintainerINSTALLBUILDCHECK
400/408WES.1KG.WUGSC 1.26.0  (landing page)Yuchao Jiang  OK    OK    OK  UNNEEDED, same version is already published
401/408WGSmapp 1.6.0  (landing page)Rujin Wang  OK    OK    WARNINGS  UNNEEDED, same version is already published
X
ABCDEFGHIJKLMNOPQRSTUVWXYZ
PackageMaintainerINSTALLBUILDCHECK
402/408XhybCasneuf 1.32.0  (landing page)Tineke Casneuf  OK    OK    WARNINGS  UNNEEDED, same version is already published
Y
ABCDEFGHIJKLMNOPQRSTUVWXYZ
PackageMaintainerINSTALLBUILDCHECK
403/408yeastCC 1.34.0  (landing page)Sandrine Dudoit  OK    OK    WARNINGS  UNNEEDED, same version is already published
404/408yeastExpData 0.40.0  (landing page)R. Gentleman  OK    OK    WARNINGS  UNNEEDED, same version is already published
405/408yeastGSData 0.32.0  (landing page)R. Gentleman  OK    OK    WARNINGS  UNNEEDED, same version is already published
406/408yeastNagalakshmi 1.30.0  (landing page)Bioconductor Package Maintainer  OK    OK    OK  UNNEEDED, same version is already published
407/408yeastRNASeq 0.32.0  (landing page)J. Bullard  OK    OK    WARNINGS  UNNEEDED, same version is already published
Z
ABCDEFGHIJKLMNOPQRSTUVWXYZ
PackageMaintainerINSTALLBUILDCHECK
408/408zebrafishRNASeq 1.14.0  (landing page)Davide Risso  OK    OK    OK  UNNEEDED, same version is already published