Index of /checkResults/3.14/data-experiment-LATEST/geneLenDataBase/raw-results

[ICO]NameLast modifiedSizeDescription

[DIR]Parent Directory  -  
[   ]info.dcf20-Oct-2021 04:52 323  
[DIR]nebbiolo2/20-Oct-2021 04:52 -