Back to Build/check report for BioC 3.14 experimental data
ABCDEFGHIJKLMNO[P]QRSTUVWXYZ

This page was generated on 2022-01-19 14:50:24 -0500 (Wed, 19 Jan 2022).

HostnameOSArch (*)R versionInstalled pkgs
nebbiolo2Linux (Ubuntu 20.04.4 LTS)x86_644.1.2 (2021-11-01) -- "Bird Hippie" 4329
Click on any hostname to see more info about the system (e.g. compilers)      (*) as reported by 'uname -p', except on Windows and Mac OS X

CHECK results for PasillaTranscriptExpr on nebbiolo2


To the developers/maintainers of the PasillaTranscriptExpr package:
Make sure to use the following settings in order to reproduce any error or warning you see on this page.

raw results

Package 268/408HostnameOS / ArchINSTALLBUILDCHECK
PasillaTranscriptExpr 1.22.0  (landing page)
Malgorzata Nowicka
Snapshot Date: 2022-01-19 07:30:01 -0500 (Wed, 19 Jan 2022)
git_url: https://git.bioconductor.org/packages/PasillaTranscriptExpr
git_branch: RELEASE_3_14
git_last_commit: 8c6b81d
git_last_commit_date: 2021-10-26 12:23:12 -0500 (Tue, 26 Oct 2021)
nebbiolo2Linux (Ubuntu 20.04.4 LTS) / x86_64  OK    OK    OK  UNNEEDED, same version is already published

Summary

Package: PasillaTranscriptExpr
Version: 1.22.0
Command: /home/biocbuild/bbs-3.14-bioc/R/bin/R CMD check --install=check:PasillaTranscriptExpr.install-out.txt --library=/home/biocbuild/bbs-3.14-bioc/R/library --no-vignettes --timings PasillaTranscriptExpr_1.22.0.tar.gz
StartedAt: 2022-01-19 11:40:47 -0500 (Wed, 19 Jan 2022)
EndedAt: 2022-01-19 11:40:55 -0500 (Wed, 19 Jan 2022)
EllapsedTime: 7.6 seconds
RetCode: 0
Status:   OK  
CheckDir: PasillaTranscriptExpr.Rcheck
Warnings: 0

Command output

##############################################################################
##############################################################################
###
### Running command:
###
###   /home/biocbuild/bbs-3.14-bioc/R/bin/R CMD check --install=check:PasillaTranscriptExpr.install-out.txt --library=/home/biocbuild/bbs-3.14-bioc/R/library --no-vignettes --timings PasillaTranscriptExpr_1.22.0.tar.gz
###
##############################################################################
##############################################################################


* using log directory ‘/home/biocbuild/bbs-3.14-data-experiment/meat/PasillaTranscriptExpr.Rcheck’
* using R version 4.1.2 (2021-11-01)
* using platform: x86_64-pc-linux-gnu (64-bit)
* using session charset: UTF-8
* using option ‘--no-vignettes’
* checking for file ‘PasillaTranscriptExpr/DESCRIPTION’ ... OK
* checking extension type ... Package
* this is package ‘PasillaTranscriptExpr’ version ‘1.22.0’
* checking package namespace information ... OK
* checking package dependencies ... OK
* checking if this is a source package ... OK
* checking if there is a namespace ... OK
* checking for hidden files and directories ... OK
* checking for portable file names ... OK
* checking for sufficient/correct file permissions ... OK
* checking whether package ‘PasillaTranscriptExpr’ can be installed ... OK
* checking installed package size ... OK
* checking package directory ... OK
* checking ‘build’ directory ... OK
* checking DESCRIPTION meta-information ... OK
* checking top-level files ... OK
* checking for left-over files ... OK
* checking index information ... OK
* checking package subdirectories ... OK
* checking whether the package can be loaded ... OK
* checking whether the package can be loaded with stated dependencies ... OK
* checking whether the package can be unloaded cleanly ... OK
* checking whether the namespace can be loaded with stated dependencies ... OK
* checking whether the namespace can be unloaded cleanly ... OK
* checking files in ‘vignettes’ ... OK
* checking examples ... NONE
* checking for unstated dependencies in vignettes ... OK
* checking package vignettes in ‘inst/doc’ ... OK
* checking running R code from vignettes ... SKIPPED
* checking re-building of vignette outputs ... SKIPPED
* checking PDF version of manual ... OK
* DONE

Status: OK


Installation output

PasillaTranscriptExpr.Rcheck/00install.out

##############################################################################
##############################################################################
###
### Running command:
###
###   /home/biocbuild/bbs-3.14-bioc/R/bin/R CMD INSTALL PasillaTranscriptExpr
###
##############################################################################
##############################################################################


* installing to library ‘/home/biocbuild/bbs-3.14-bioc/R/library’
* installing *source* package ‘PasillaTranscriptExpr’ ...
** using staged installation
** inst
** help
No man pages found in package  ‘PasillaTranscriptExpr’ 
*** installing help indices
** building package indices
** installing vignettes
** testing if installed package can be loaded from temporary location
** testing if installed package can be loaded from final location
** testing if installed package keeps a record of temporary installation path
* DONE (PasillaTranscriptExpr)

Tests output


Example timings