Back to Build/check report for BioC 3.14 experimental data
ABCDEFGHIJKLMNO[P]QRSTUVWXYZ

This page was generated on 2022-01-19 14:50:24 -0500 (Wed, 19 Jan 2022).

HostnameOSArch (*)R versionInstalled pkgs
nebbiolo2Linux (Ubuntu 20.04.4 LTS)x86_644.1.2 (2021-11-01) -- "Bird Hippie" 4329
Click on any hostname to see more info about the system (e.g. compilers)      (*) as reported by 'uname -p', except on Windows and Mac OS X

BUILD results for PasillaTranscriptExpr on nebbiolo2


To the developers/maintainers of the PasillaTranscriptExpr package:
Make sure to use the following settings in order to reproduce any error or warning you see on this page.

raw results

Package 268/408HostnameOS / ArchINSTALLBUILDCHECK
PasillaTranscriptExpr 1.22.0  (landing page)
Malgorzata Nowicka
Snapshot Date: 2022-01-19 07:30:01 -0500 (Wed, 19 Jan 2022)
git_url: https://git.bioconductor.org/packages/PasillaTranscriptExpr
git_branch: RELEASE_3_14
git_last_commit: 8c6b81d
git_last_commit_date: 2021-10-26 12:23:12 -0500 (Tue, 26 Oct 2021)
nebbiolo2Linux (Ubuntu 20.04.4 LTS) / x86_64  OK    OK    OK  UNNEEDED, same version is already published

Summary

Package: PasillaTranscriptExpr
Version: 1.22.0
Command: /home/biocbuild/bbs-3.14-bioc/R/bin/R CMD build --keep-empty-dirs --no-resave-data PasillaTranscriptExpr
StartedAt: 2022-01-19 10:38:23 -0500 (Wed, 19 Jan 2022)
EndedAt: 2022-01-19 10:38:34 -0500 (Wed, 19 Jan 2022)
EllapsedTime: 11.0 seconds
RetCode: 0
Status:   OK  
PackageFile: PasillaTranscriptExpr_1.22.0.tar.gz
PackageFileSize: 775.8 KiB

Command output

##############################################################################
##############################################################################
###
### Running command:
###
###   /home/biocbuild/bbs-3.14-bioc/R/bin/R CMD build --keep-empty-dirs --no-resave-data PasillaTranscriptExpr
###
##############################################################################
##############################################################################


* checking for file ‘PasillaTranscriptExpr/DESCRIPTION’ ... OK
* preparing ‘PasillaTranscriptExpr’:
* checking DESCRIPTION meta-information ... OK
* installing the package to build vignettes
* creating vignettes ... OK
* checking for LF line-endings in source and make files and shell scripts
* checking for empty or unneeded directories
Omitted ‘LazyData’ from DESCRIPTION
* building ‘PasillaTranscriptExpr_1.22.0.tar.gz’