Back to Multiple platform build/check report for BioC 3.14
ABCDEFGHIJKLMNOPQ[R]STUVWXYZ

This page was generated on 2022-01-21 13:06:59 -0500 (Fri, 21 Jan 2022).

HostnameOSArch (*)R versionInstalled pkgs
nebbiolo2Linux (Ubuntu 20.04.4 LTS)x86_644.1.2 (2021-11-01) -- "Bird Hippie" 4329
tokay2Windows Server 2012 R2 Standardx644.1.2 (2021-11-01) -- "Bird Hippie" 4079
machv2macOS 10.14.6 Mojavex86_644.1.2 (2021-11-01) -- "Bird Hippie" 4140
Click on any hostname to see more info about the system (e.g. compilers)      (*) as reported by 'uname -p', except on Windows and Mac OS X

INSTALL results for Ringo on tokay2


To the developers/maintainers of the Ringo package:
- Please allow up to 24 hours (and sometimes 48 hours) for your latest push to git@git.bioconductor.org:packages/Ringo.git to
reflect on this report. See How and When does the builder pull? When will my changes propagate? here for more information.
- Make sure to use the following settings in order to reproduce any error or warning you see on this page.

raw results

Package 1611/2083HostnameOS / ArchINSTALLBUILDCHECKBUILD BIN
Ringo 1.58.0  (landing page)
J. Toedling
Snapshot Date: 2022-01-20 01:55:04 -0500 (Thu, 20 Jan 2022)
git_url: https://git.bioconductor.org/packages/Ringo
git_branch: RELEASE_3_14
git_last_commit: 0d4f926
git_last_commit_date: 2021-10-26 11:51:01 -0500 (Tue, 26 Oct 2021)
nebbiolo2Linux (Ubuntu 20.04.4 LTS) / x86_64  OK    OK    OK  UNNEEDED, same version is already published
tokay2Windows Server 2012 R2 Standard / x64  OK    OK    OK    OK  UNNEEDED, same version is already published
machv2macOS 10.14.6 Mojave / x86_64  OK    OK    OK    OK  UNNEEDED, same version is already published

Summary

Package: Ringo
Version: 1.58.0
Command: C:\cygwin\bin\curl.exe -O http://155.52.207.166/BBS/3.14/bioc/src/contrib/Ringo_1.58.0.tar.gz && rm -rf Ringo.buildbin-libdir && mkdir Ringo.buildbin-libdir && C:\Users\biocbuild\bbs-3.14-bioc\R\bin\R.exe CMD INSTALL --merge-multiarch --build --library=Ringo.buildbin-libdir Ringo_1.58.0.tar.gz && C:\Users\biocbuild\bbs-3.14-bioc\R\bin\R.exe CMD INSTALL Ringo_1.58.0.zip && rm Ringo_1.58.0.tar.gz Ringo_1.58.0.zip
StartedAt: 2022-01-20 05:48:15 -0500 (Thu, 20 Jan 2022)
EndedAt: 2022-01-20 05:50:50 -0500 (Thu, 20 Jan 2022)
EllapsedTime: 155.0 seconds
RetCode: 0
Status:   OK  

Command output

##############################################################################
##############################################################################
###
### Running command:
###
###   C:\cygwin\bin\curl.exe -O http://155.52.207.166/BBS/3.14/bioc/src/contrib/Ringo_1.58.0.tar.gz && rm -rf Ringo.buildbin-libdir && mkdir Ringo.buildbin-libdir && C:\Users\biocbuild\bbs-3.14-bioc\R\bin\R.exe CMD INSTALL --merge-multiarch --build --library=Ringo.buildbin-libdir Ringo_1.58.0.tar.gz && C:\Users\biocbuild\bbs-3.14-bioc\R\bin\R.exe CMD INSTALL Ringo_1.58.0.zip && rm Ringo_1.58.0.tar.gz Ringo_1.58.0.zip
###
##############################################################################
##############################################################################


  % Total    % Received % Xferd  Average Speed   Time    Time     Time  Current
                                 Dload  Upload   Total   Spent    Left  Speed

  0     0    0     0    0     0      0      0 --:--:-- --:--:-- --:--:--     0
  0     0    0     0    0     0      0      0 --:--:-- --:--:-- --:--:--     0
100  570k  100  570k    0     0  1693k      0 --:--:-- --:--:-- --:--:-- 1691k

install for i386

* installing *source* package 'Ringo' ...
** using staged installation
** libs
"C:/rtools40/mingw32/bin/"g++ -std=gnu++11  -I"C:/Users/BIOCBU~1/BBS-3~1.14-/R/include" -DNDEBUG     -I"C:/extsoft/include"     -O2 -Wall  -mfpmath=sse -msse2 -mstackrealign  -c mmeansd.cpp -o mmeansd.o
mmeansd.cpp: In function 'SEXPREC* moving_mean_sd(SEXP, SEXP, SEXP)':
mmeansd.cpp:29:24: warning: variable 'is' set but not used [-Wunused-but-set-variable]
     int * x, nval, hs, is, i;
                        ^~
"C:/rtools40/mingw32/bin/"g++ -std=gnu++11  -I"C:/Users/BIOCBU~1/BBS-3~1.14-/R/include" -DNDEBUG     -I"C:/extsoft/include"     -O2 -Wall  -mfpmath=sse -msse2 -mstackrealign  -c mmedian.cpp -o mmedian.o
"C:/rtools40/mingw32/bin/"gcc  -I"C:/Users/BIOCBU~1/BBS-3~1.14-/R/include" -DNDEBUG     -I"C:/extsoft/include"     -O2 -Wall  -std=gnu99 -mfpmath=sse -msse2 -mstackrealign  -c region_overlap.c -o region_overlap.o
"C:/rtools40/mingw32/bin/"gcc  -I"C:/Users/BIOCBU~1/BBS-3~1.14-/R/include" -DNDEBUG     -I"C:/extsoft/include"     -O2 -Wall  -std=gnu99 -mfpmath=sse -msse2 -mstackrealign  -c ringo_init.c -o ringo_init.o
C:/rtools40/mingw32/bin/g++ -std=gnu++11 -shared -s -static-libgcc -o Ringo.dll tmp.def mmeansd.o mmedian.o region_overlap.o ringo_init.o -LC:/extsoft/lib/i386 -LC:/extsoft/lib -LC:/Users/BIOCBU~1/BBS-3~1.14-/R/bin/i386 -lR
installing to C:/Users/biocbuild/bbs-3.14-bioc/meat/Ringo.buildbin-libdir/00LOCK-Ringo/00new/Ringo/libs/i386
** R
** inst
** byte-compile and prepare package for lazy loading
Creating a generic function for 'ls' from package 'base' in package 'Ringo'
** help
*** installing help indices
  converting help for package 'Ringo'
    finding HTML links ... done
    Ringo-internal                          html  
    arrayImage                              html  
    asExprSet                               html  
    autocorr                                html  
    cherByThreshold                         html  
    cherClass                               html  
REDIRECT:topic	 Previous alias or file overwritten by alias: C:/Users/biocbuild/bbs-3.14-bioc/meat/Ringo.buildbin-libdir/00LOCK-Ringo/00new/Ringo/help/Cher.html
    chipAlongChrom                          html  
    chipAlongChromOld                       html  
    computeRunningMedians                   html  
    compute_gc                              html  
    compute_sliding_t                       html  
    corrPlot                                html  
    exportCherList                          html  
    extractProbeAnno                        html  
    features2Probes                         html  
    findChersOnSmoothed                     html  
    ftr2xys                                 html  
    getFeats                                html  
    newCER                                  html  
    nimblegenNorm                           html  
    nonzero                                 html  
    plotAutocorr                            html  
    plotBM                                  html  
    plot_cher                               html  
    posToProbeAnnoEnvironment               html  
    preprocess                              html  
    probeAnnoClass                          html  
    qopS4                                   html  
    quantilesOverPositions                  html  
    readNimblegen                           html  
    regionoverlap                           html  
    relateCERs                              html  
    sigGOTable                              html  
    sliding_meansd                          html  
    sliding_quantile                        html  
    twoGaussiansNull                        html  
    upperBoundNull                          html  
    validProbeAnno                          html  
** building package indices
** installing vignettes
** testing if installed package can be loaded from temporary location
** testing if installed package can be loaded from final location
** testing if installed package keeps a record of temporary installation path

install for x64

* installing *source* package 'Ringo' ...
** libs
"C:/rtools40/mingw64/bin/"g++ -std=gnu++11  -I"C:/Users/BIOCBU~1/BBS-3~1.14-/R/include" -DNDEBUG     -I"C:/extsoft/include"     -O2 -Wall  -mfpmath=sse -msse2 -mstackrealign  -c mmeansd.cpp -o mmeansd.o
mmeansd.cpp: In function 'SEXPREC* moving_mean_sd(SEXP, SEXP, SEXP)':
mmeansd.cpp:29:24: warning: variable 'is' set but not used [-Wunused-but-set-variable]
     int * x, nval, hs, is, i;
                        ^~
"C:/rtools40/mingw64/bin/"g++ -std=gnu++11  -I"C:/Users/BIOCBU~1/BBS-3~1.14-/R/include" -DNDEBUG     -I"C:/extsoft/include"     -O2 -Wall  -mfpmath=sse -msse2 -mstackrealign  -c mmedian.cpp -o mmedian.o
"C:/rtools40/mingw64/bin/"gcc  -I"C:/Users/BIOCBU~1/BBS-3~1.14-/R/include" -DNDEBUG     -I"C:/extsoft/include"     -O2 -Wall  -std=gnu99 -mfpmath=sse -msse2 -mstackrealign  -c region_overlap.c -o region_overlap.o
"C:/rtools40/mingw64/bin/"gcc  -I"C:/Users/BIOCBU~1/BBS-3~1.14-/R/include" -DNDEBUG     -I"C:/extsoft/include"     -O2 -Wall  -std=gnu99 -mfpmath=sse -msse2 -mstackrealign  -c ringo_init.c -o ringo_init.o
C:/rtools40/mingw64/bin/g++ -std=gnu++11 -shared -s -static-libgcc -o Ringo.dll tmp.def mmeansd.o mmedian.o region_overlap.o ringo_init.o -LC:/extsoft/lib/x64 -LC:/extsoft/lib -LC:/Users/BIOCBU~1/BBS-3~1.14-/R/bin/x64 -lR
installing to C:/Users/biocbuild/bbs-3.14-bioc/meat/Ringo.buildbin-libdir/Ringo/libs/x64
** testing if installed package can be loaded
* MD5 sums
packaged installation of 'Ringo' as Ringo_1.58.0.zip
* DONE (Ringo)
* installing to library 'C:/Users/biocbuild/bbs-3.14-bioc/R/library'
package 'Ringo' successfully unpacked and MD5 sums checked