Back to Multiple platform build/check report for BioC 3.14
ABCDEFGHIJKLMNOPQ[R]STUVWXYZ

This page was generated on 2021-12-01 17:17:11 -0500 (Wed, 01 Dec 2021).

All results for package Ringo

To the developers/maintainers of the Ringo package:
- Please allow up to 24 hours (and sometimes 48 hours) for your latest push to git@git.bioconductor.org:packages/Ringo.git to
reflect on this report. See How and When does the builder pull? When will my changes propagate? here for more information.
- Make sure to use the following settings in order to reproduce any error or warning you see on this page.

raw results

Package 1611/2083HostnameOS / ArchINSTALLBUILDCHECKBUILD BIN
Ringo 1.58.0  (landing page)
J. Toedling
Snapshot Date: 2021-11-30 04:15:05 -0500 (Tue, 30 Nov 2021)
git_url: https://git.bioconductor.org/packages/Ringo
git_branch: RELEASE_3_14
git_last_commit: 0d4f926
git_last_commit_date: 2021-10-26 11:51:01 -0500 (Tue, 26 Oct 2021)
nebbiolo2Linux (Ubuntu 20.04.3 LTS) / x86_64  OK    OK    OK  UNNEEDED, same version is already published
tokay2Windows Server 2012 R2 Standard / x64  OK    OK    OK    OK  UNNEEDED, same version is already published
machv2macOS 10.14.6 Mojave / x86_64  OK    OK    OK    OK  UNNEEDED, same version is already published

Results for Bioconductor software packages that depend directly on package Ringo

QUICK STATSOS / ArchINSTALLBUILDCHECKBUILD BIN
nebbiolo2Linux (Ubuntu 20.04.3 LTS) / x86_64
002
002
0002
tokay2Windows Server 2012 R2 Standard / x64
002
002
0002
002
machv2macOS 10.14.6 Mojave / x86_64
002
002
0002
002
Package 1/2HostnameOS / ArchINSTALLBUILDCHECKBUILD BIN
Repitools 1.40.0  (landing page)
Mark Robinson
git_last_commit: 6f54c77
git_last_commit_date: 2021-10-26 11:59:33 -0500
nebbiolo2Linux (Ubuntu 20.04.3 LTS) / x86_64  OK    OK    OK  UNNEEDED, same version is already published
tokay2Windows Server 2012 R2 Standard / x64  OK    OK    OK    OK  UNNEEDED, same version is already published
machv2macOS 10.14.6 Mojave / x86_64  OK    OK    OK    OK  UNNEEDED, same version is already published
Package 2/2HostnameOS / ArchINSTALLBUILDCHECKBUILD BIN
SimBindProfiles 1.32.0  (landing page)
Bettina Fischer
git_last_commit: 8b823ef
git_last_commit_date: 2021-10-26 12:10:03 -0500
nebbiolo2Linux (Ubuntu 20.04.3 LTS) / x86_64  OK    OK    OK  UNNEEDED, same version is already published
tokay2Windows Server 2012 R2 Standard / x64  OK    OK    OK    OK  UNNEEDED, same version is already published
machv2macOS 10.14.6 Mojave / x86_64  OK    OK    OK    OK  UNNEEDED, same version is already published