Back to Multiple platform build/check report for BioC 3.14
ABCDEFGHIJKL[M]NOPQRSTUVWXYZ

This page was generated on 2022-01-17 13:06:39 -0500 (Mon, 17 Jan 2022).

HostnameOSArch (*)R versionInstalled pkgs
nebbiolo2Linux (Ubuntu 20.04.4 LTS)x86_644.1.2 (2021-11-01) -- "Bird Hippie" 4328
tokay2Windows Server 2012 R2 Standardx644.1.2 (2021-11-01) -- "Bird Hippie" 4077
machv2macOS 10.14.6 Mojavex86_644.1.2 (2021-11-01) -- "Bird Hippie" 4138
Click on any hostname to see more info about the system (e.g. compilers)      (*) as reported by 'uname -p', except on Windows and Mac OS X

INSTALL results for multtest on tokay2


To the developers/maintainers of the multtest package:
- Please allow up to 24 hours (and sometimes 48 hours) for your latest push to git@git.bioconductor.org:packages/multtest.git to
reflect on this report. See How and When does the builder pull? When will my changes propagate? here for more information.
- Make sure to use the following settings in order to reproduce any error or warning you see on this page.

raw results

Package 1250/2083HostnameOS / ArchINSTALLBUILDCHECKBUILD BIN
multtest 2.50.0  (landing page)
Katherine S. Pollard
Snapshot Date: 2022-01-16 01:55:05 -0500 (Sun, 16 Jan 2022)
git_url: https://git.bioconductor.org/packages/multtest
git_branch: RELEASE_3_14
git_last_commit: 1de9664
git_last_commit_date: 2021-10-26 11:45:35 -0500 (Tue, 26 Oct 2021)
nebbiolo2Linux (Ubuntu 20.04.4 LTS) / x86_64  OK    OK    WARNINGS  UNNEEDED, same version is already published
tokay2Windows Server 2012 R2 Standard / x64  OK    OK    WARNINGS    OK  UNNEEDED, same version is already published
machv2macOS 10.14.6 Mojave / x86_64  OK    OK    WARNINGS    OK  UNNEEDED, same version is already published

Summary

Package: multtest
Version: 2.50.0
Command: C:\cygwin\bin\curl.exe -O http://155.52.207.166/BBS/3.14/bioc/src/contrib/multtest_2.50.0.tar.gz && rm -rf multtest.buildbin-libdir && mkdir multtest.buildbin-libdir && C:\Users\biocbuild\bbs-3.14-bioc\R\bin\R.exe CMD INSTALL --merge-multiarch --build --library=multtest.buildbin-libdir multtest_2.50.0.tar.gz && C:\Users\biocbuild\bbs-3.14-bioc\R\bin\R.exe CMD INSTALL multtest_2.50.0.zip && rm multtest_2.50.0.tar.gz multtest_2.50.0.zip
StartedAt: 2022-01-16 04:38:19 -0500 (Sun, 16 Jan 2022)
EndedAt: 2022-01-16 04:39:32 -0500 (Sun, 16 Jan 2022)
EllapsedTime: 73.1 seconds
RetCode: 0
Status:   OK  

Command output

##############################################################################
##############################################################################
###
### Running command:
###
###   C:\cygwin\bin\curl.exe -O http://155.52.207.166/BBS/3.14/bioc/src/contrib/multtest_2.50.0.tar.gz && rm -rf multtest.buildbin-libdir && mkdir multtest.buildbin-libdir && C:\Users\biocbuild\bbs-3.14-bioc\R\bin\R.exe CMD INSTALL --merge-multiarch --build --library=multtest.buildbin-libdir multtest_2.50.0.tar.gz && C:\Users\biocbuild\bbs-3.14-bioc\R\bin\R.exe CMD INSTALL multtest_2.50.0.zip && rm multtest_2.50.0.tar.gz multtest_2.50.0.zip
###
##############################################################################
##############################################################################


  % Total    % Received % Xferd  Average Speed   Time    Time     Time  Current
                                 Dload  Upload   Total   Spent    Left  Speed

  0     0    0     0    0     0      0      0 --:--:-- --:--:-- --:--:--     0
100 1266k  100 1266k    0     0  4338k      0 --:--:-- --:--:-- --:--:-- 4350k

install for i386

* installing *source* package 'multtest' ...
** using staged installation
** libs
"C:/rtools40/mingw32/bin/"gcc  -I"C:/Users/BIOCBU~1/BBS-3~1.14-/R/include" -DNDEBUG     -I"C:/extsoft/include"  -DUSEDOUBLE -DWINDOWS   -O2 -Wall  -std=gnu99 -mfpmath=sse -msse2 -mstackrealign  -c Rpack.c -o Rpack.o
"C:/rtools40/mingw32/bin/"gcc  -I"C:/Users/BIOCBU~1/BBS-3~1.14-/R/include" -DNDEBUG     -I"C:/extsoft/include"  -DUSEDOUBLE -DWINDOWS   -O2 -Wall  -std=gnu99 -mfpmath=sse -msse2 -mstackrealign  -c VScount.c -o VScount.o
"C:/rtools40/mingw32/bin/"gcc  -I"C:/Users/BIOCBU~1/BBS-3~1.14-/R/include" -DNDEBUG     -I"C:/extsoft/include"  -DUSEDOUBLE -DWINDOWS   -O2 -Wall  -std=gnu99 -mfpmath=sse -msse2 -mstackrealign  -c block_sampling_fixed.c -o block_sampling_fixed.o
"C:/rtools40/mingw32/bin/"gcc  -I"C:/Users/BIOCBU~1/BBS-3~1.14-/R/include" -DNDEBUG     -I"C:/extsoft/include"  -DUSEDOUBLE -DWINDOWS   -O2 -Wall  -std=gnu99 -mfpmath=sse -msse2 -mstackrealign  -c bootloop.c -o bootloop.o
"C:/rtools40/mingw32/bin/"gcc  -I"C:/Users/BIOCBU~1/BBS-3~1.14-/R/include" -DNDEBUG     -I"C:/extsoft/include"  -DUSEDOUBLE -DWINDOWS   -O2 -Wall  -std=gnu99 -mfpmath=sse -msse2 -mstackrealign  -c mt.c -o mt.o
"C:/rtools40/mingw32/bin/"gcc  -I"C:/Users/BIOCBU~1/BBS-3~1.14-/R/include" -DNDEBUG     -I"C:/extsoft/include"  -DUSEDOUBLE -DWINDOWS   -O2 -Wall  -std=gnu99 -mfpmath=sse -msse2 -mstackrealign  -c pairt_sampling.c -o pairt_sampling.o
"C:/rtools40/mingw32/bin/"gcc  -I"C:/Users/BIOCBU~1/BBS-3~1.14-/R/include" -DNDEBUG     -I"C:/extsoft/include"  -DUSEDOUBLE -DWINDOWS   -O2 -Wall  -std=gnu99 -mfpmath=sse -msse2 -mstackrealign  -c pairt_sampling_fixed.c -o pairt_sampling_fixed.o
"C:/rtools40/mingw32/bin/"gcc  -I"C:/Users/BIOCBU~1/BBS-3~1.14-/R/include" -DNDEBUG     -I"C:/extsoft/include"  -DUSEDOUBLE -DWINDOWS   -O2 -Wall  -std=gnu99 -mfpmath=sse -msse2 -mstackrealign  -c random.c -o random.o
"C:/rtools40/mingw32/bin/"gcc  -I"C:/Users/BIOCBU~1/BBS-3~1.14-/R/include" -DNDEBUG     -I"C:/extsoft/include"  -DUSEDOUBLE -DWINDOWS   -O2 -Wall  -std=gnu99 -mfpmath=sse -msse2 -mstackrealign  -c sampling.c -o sampling.o
"C:/rtools40/mingw32/bin/"gcc  -I"C:/Users/BIOCBU~1/BBS-3~1.14-/R/include" -DNDEBUG     -I"C:/extsoft/include"  -DUSEDOUBLE -DWINDOWS   -O2 -Wall  -std=gnu99 -mfpmath=sse -msse2 -mstackrealign  -c sampling_fixed.c -o sampling_fixed.o
"C:/rtools40/mingw32/bin/"gcc  -I"C:/Users/BIOCBU~1/BBS-3~1.14-/R/include" -DNDEBUG     -I"C:/extsoft/include"  -DUSEDOUBLE -DWINDOWS   -O2 -Wall  -std=gnu99 -mfpmath=sse -msse2 -mstackrealign  -c stat_func.c -o stat_func.o
"C:/rtools40/mingw32/bin/"gcc  -I"C:/Users/BIOCBU~1/BBS-3~1.14-/R/include" -DNDEBUG     -I"C:/extsoft/include"  -DUSEDOUBLE -DWINDOWS   -O2 -Wall  -std=gnu99 -mfpmath=sse -msse2 -mstackrealign  -c stat_order.c -o stat_order.o
C:/rtools40/mingw32/bin/gcc -shared -s -static-libgcc -o multtest.dll tmp.def Rpack.o VScount.o block_sampling_fixed.o bootloop.o mt.o pairt_sampling.o pairt_sampling_fixed.o random.o sampling.o sampling_fixed.o stat_func.o stat_order.o -lm -LC:/extsoft/lib/i386 -LC:/extsoft/lib -LC:/Users/BIOCBU~1/BBS-3~1.14-/R/bin/i386 -lR
installing to C:/Users/biocbuild/bbs-3.14-bioc/meat/multtest.buildbin-libdir/00LOCK-multtest/00new/multtest/libs/i386
** R
** data
** inst
** byte-compile and prepare package for lazy loading
** help
*** installing help indices
  converting help for package 'multtest'
    finding HTML links ... done
    EBMTP-class                             html  
    EBMTP                                   html  
    Hsets                                   html  
    MTP-class                               html  
    MTP-methods                             html  
    MTP                                     html  
    boot.null                               html  
    corr.null                               html  
    fwer2gfwer                              html  
    get.index                               html  
    golub                                   html  
    meanX                                   html  
    mt.internal                             html  
    mt.maxT                                 html  
    mt.plot                                 html  
    mt.rawp2adjp                            html  
    mt.reject                               html  
    mt.sample.teststat                      html  
    mt.teststat                             html  
    ss.maxT                                 html  
    wapply                                  html  
** building package indices
** installing vignettes
** testing if installed package can be loaded from temporary location
** testing if installed package can be loaded from final location
** testing if installed package keeps a record of temporary installation path

install for x64

* installing *source* package 'multtest' ...
** libs
"C:/rtools40/mingw64/bin/"gcc  -I"C:/Users/BIOCBU~1/BBS-3~1.14-/R/include" -DNDEBUG     -I"C:/extsoft/include"  -DUSEDOUBLE -DWINDOWS   -O2 -Wall  -std=gnu99 -mfpmath=sse -msse2 -mstackrealign  -c Rpack.c -o Rpack.o
"C:/rtools40/mingw64/bin/"gcc  -I"C:/Users/BIOCBU~1/BBS-3~1.14-/R/include" -DNDEBUG     -I"C:/extsoft/include"  -DUSEDOUBLE -DWINDOWS   -O2 -Wall  -std=gnu99 -mfpmath=sse -msse2 -mstackrealign  -c VScount.c -o VScount.o
"C:/rtools40/mingw64/bin/"gcc  -I"C:/Users/BIOCBU~1/BBS-3~1.14-/R/include" -DNDEBUG     -I"C:/extsoft/include"  -DUSEDOUBLE -DWINDOWS   -O2 -Wall  -std=gnu99 -mfpmath=sse -msse2 -mstackrealign  -c block_sampling_fixed.c -o block_sampling_fixed.o
"C:/rtools40/mingw64/bin/"gcc  -I"C:/Users/BIOCBU~1/BBS-3~1.14-/R/include" -DNDEBUG     -I"C:/extsoft/include"  -DUSEDOUBLE -DWINDOWS   -O2 -Wall  -std=gnu99 -mfpmath=sse -msse2 -mstackrealign  -c bootloop.c -o bootloop.o
"C:/rtools40/mingw64/bin/"gcc  -I"C:/Users/BIOCBU~1/BBS-3~1.14-/R/include" -DNDEBUG     -I"C:/extsoft/include"  -DUSEDOUBLE -DWINDOWS   -O2 -Wall  -std=gnu99 -mfpmath=sse -msse2 -mstackrealign  -c mt.c -o mt.o
"C:/rtools40/mingw64/bin/"gcc  -I"C:/Users/BIOCBU~1/BBS-3~1.14-/R/include" -DNDEBUG     -I"C:/extsoft/include"  -DUSEDOUBLE -DWINDOWS   -O2 -Wall  -std=gnu99 -mfpmath=sse -msse2 -mstackrealign  -c pairt_sampling.c -o pairt_sampling.o
"C:/rtools40/mingw64/bin/"gcc  -I"C:/Users/BIOCBU~1/BBS-3~1.14-/R/include" -DNDEBUG     -I"C:/extsoft/include"  -DUSEDOUBLE -DWINDOWS   -O2 -Wall  -std=gnu99 -mfpmath=sse -msse2 -mstackrealign  -c pairt_sampling_fixed.c -o pairt_sampling_fixed.o
"C:/rtools40/mingw64/bin/"gcc  -I"C:/Users/BIOCBU~1/BBS-3~1.14-/R/include" -DNDEBUG     -I"C:/extsoft/include"  -DUSEDOUBLE -DWINDOWS   -O2 -Wall  -std=gnu99 -mfpmath=sse -msse2 -mstackrealign  -c random.c -o random.o
"C:/rtools40/mingw64/bin/"gcc  -I"C:/Users/BIOCBU~1/BBS-3~1.14-/R/include" -DNDEBUG     -I"C:/extsoft/include"  -DUSEDOUBLE -DWINDOWS   -O2 -Wall  -std=gnu99 -mfpmath=sse -msse2 -mstackrealign  -c sampling.c -o sampling.o
"C:/rtools40/mingw64/bin/"gcc  -I"C:/Users/BIOCBU~1/BBS-3~1.14-/R/include" -DNDEBUG     -I"C:/extsoft/include"  -DUSEDOUBLE -DWINDOWS   -O2 -Wall  -std=gnu99 -mfpmath=sse -msse2 -mstackrealign  -c sampling_fixed.c -o sampling_fixed.o
"C:/rtools40/mingw64/bin/"gcc  -I"C:/Users/BIOCBU~1/BBS-3~1.14-/R/include" -DNDEBUG     -I"C:/extsoft/include"  -DUSEDOUBLE -DWINDOWS   -O2 -Wall  -std=gnu99 -mfpmath=sse -msse2 -mstackrealign  -c stat_func.c -o stat_func.o
"C:/rtools40/mingw64/bin/"gcc  -I"C:/Users/BIOCBU~1/BBS-3~1.14-/R/include" -DNDEBUG     -I"C:/extsoft/include"  -DUSEDOUBLE -DWINDOWS   -O2 -Wall  -std=gnu99 -mfpmath=sse -msse2 -mstackrealign  -c stat_order.c -o stat_order.o
C:/rtools40/mingw64/bin/gcc -shared -s -static-libgcc -o multtest.dll tmp.def Rpack.o VScount.o block_sampling_fixed.o bootloop.o mt.o pairt_sampling.o pairt_sampling_fixed.o random.o sampling.o sampling_fixed.o stat_func.o stat_order.o -lm -LC:/extsoft/lib/x64 -LC:/extsoft/lib -LC:/Users/BIOCBU~1/BBS-3~1.14-/R/bin/x64 -lR
installing to C:/Users/biocbuild/bbs-3.14-bioc/meat/multtest.buildbin-libdir/multtest/libs/x64
** testing if installed package can be loaded
* MD5 sums
packaged installation of 'multtest' as multtest_2.50.0.zip
* DONE (multtest)
* installing to library 'C:/Users/biocbuild/bbs-3.14-bioc/R/library'
package 'multtest' successfully unpacked and MD5 sums checked